| Back to Multiple platform build/check report for BioC 3.19: simplified long |
|
This page was generated on 2024-06-28 17:42 -0400 (Fri, 28 Jun 2024).
| Hostname | OS | Arch (*) | R version | Installed pkgs |
|---|---|---|---|---|
| nebbiolo1 | Linux (Ubuntu 22.04.3 LTS) | x86_64 | 4.4.0 (2024-04-24) -- "Puppy Cup" | 4760 |
| palomino3 | Windows Server 2022 Datacenter | x64 | 4.4.0 (2024-04-24 ucrt) -- "Puppy Cup" | 4494 |
| merida1 | macOS 12.7.4 Monterey | x86_64 | 4.4.0 (2024-04-24) -- "Puppy Cup" | 4508 |
| kjohnson1 | macOS 13.6.6 Ventura | arm64 | 4.4.0 (2024-04-24) -- "Puppy Cup" | 4466 |
| palomino7 | Windows Server 2022 Datacenter | x64 | 4.4.1 (2024-06-14 ucrt) -- "Race for Your Life" | 4362 |
| Click on any hostname to see more info about the system (e.g. compilers) (*) as reported by 'uname -p', except on Windows and Mac OS X | ||||
| Package 2241/2300 | Hostname | OS / Arch | INSTALL | BUILD | CHECK | BUILD BIN | ||||||||
| universalmotif 1.22.0 (landing page) Benjamin Jean-Marie Tremblay
| nebbiolo1 | Linux (Ubuntu 22.04.3 LTS) / x86_64 | OK | OK | OK | |||||||||
| palomino3 | Windows Server 2022 Datacenter / x64 | OK | OK | OK | OK | |||||||||
| merida1 | macOS 12.7.4 Monterey / x86_64 | OK | OK | OK | OK | |||||||||
| kjohnson1 | macOS 13.6.6 Ventura / arm64 | OK | OK | OK | NA | |||||||||
| palomino7 | Windows Server 2022 Datacenter / x64 | OK | OK | OK | OK | |||||||||
|
To the developers/maintainers of the universalmotif package: - Allow up to 24 hours (and sometimes 48 hours) for your latest push to git@git.bioconductor.org:packages/universalmotif.git to reflect on this report. See Troubleshooting Build Report for more information. - Use the following Renviron settings to reproduce errors and warnings. - If 'R CMD check' started to fail recently on the Linux builder(s) over a missing dependency, add the missing dependency to 'Suggests:' in your DESCRIPTION file. See Renviron.bioc for more information. |
| Package: universalmotif |
| Version: 1.22.0 |
| Command: F:\biocbuild\bbs-3.19-bioc\R\bin\R.exe CMD check --no-multiarch --install=check:universalmotif.install-out.txt --library=F:\biocbuild\bbs-3.19-bioc\R\library --no-vignettes --timings universalmotif_1.22.0.tar.gz |
| StartedAt: 2024-06-27 07:15:29 -0400 (Thu, 27 Jun 2024) |
| EndedAt: 2024-06-27 07:19:13 -0400 (Thu, 27 Jun 2024) |
| EllapsedTime: 223.8 seconds |
| RetCode: 0 |
| Status: OK |
| CheckDir: universalmotif.Rcheck |
| Warnings: 0 |
##############################################################################
##############################################################################
###
### Running command:
###
### F:\biocbuild\bbs-3.19-bioc\R\bin\R.exe CMD check --no-multiarch --install=check:universalmotif.install-out.txt --library=F:\biocbuild\bbs-3.19-bioc\R\library --no-vignettes --timings universalmotif_1.22.0.tar.gz
###
##############################################################################
##############################################################################
* using log directory 'F:/biocbuild/bbs-3.19-bioc/meat/universalmotif.Rcheck'
* using R version 4.4.0 (2024-04-24 ucrt)
* using platform: x86_64-w64-mingw32
* R was compiled by
gcc.exe (GCC) 13.2.0
GNU Fortran (GCC) 13.2.0
* running under: Windows Server 2022 x64 (build 20348)
* using session charset: UTF-8
* using option '--no-vignettes'
* checking for file 'universalmotif/DESCRIPTION' ... OK
* this is package 'universalmotif' version '1.22.0'
* package encoding: UTF-8
* checking package namespace information ... OK
* checking package dependencies ... OK
* checking if this is a source package ... OK
* checking if there is a namespace ... OK
* checking for hidden files and directories ... OK
* checking for portable file names ... OK
* checking whether package 'universalmotif' can be installed ... OK
* used C++ compiler: 'G__~1.EXE (GCC) 13.2.0'
* checking C++ specification ... NOTE
Specified C++11: please drop specification unless essential
* checking installed package size ... NOTE
installed size is 5.1Mb
sub-directories of 1Mb or more:
R 1.7Mb
libs 1.7Mb
* checking package directory ... OK
* checking 'build' directory ... OK
* checking DESCRIPTION meta-information ... OK
* checking top-level files ... OK
* checking for left-over files ... OK
* checking index information ... OK
* checking package subdirectories ... OK
* checking code files for non-ASCII characters ... OK
* checking R files for syntax errors ... OK
* checking whether the package can be loaded ... OK
* checking whether the package can be loaded with stated dependencies ... OK
* checking whether the package can be unloaded cleanly ... OK
* checking whether the namespace can be loaded with stated dependencies ... OK
* checking whether the namespace can be unloaded cleanly ... OK
* checking dependencies in R code ... OK
* checking S3 generic/method consistency ... OK
* checking replacement functions ... OK
* checking foreign function calls ... OK
* checking R code for possible problems ... OK
* checking Rd files ... OK
* checking Rd metadata ... OK
* checking Rd cross-references ... OK
* checking for missing documentation entries ... OK
* checking for code/documentation mismatches ... OK
* checking Rd \usage sections ... OK
* checking Rd contents ... OK
* checking for unstated dependencies in examples ... OK
* checking contents of 'data' directory ... OK
* checking data for non-ASCII characters ... OK
* checking data for ASCII and uncompressed saves ... OK
* checking line endings in C/C++/Fortran sources/headers ... OK
* checking line endings in Makefiles ... OK
* checking compilation flags in Makevars ... OK
* checking for GNU extensions in Makefiles ... OK
* checking for portable use of $(BLAS_LIBS) and $(LAPACK_LIBS) ... OK
* checking use of PKG_*FLAGS in Makefiles ... OK
* checking compiled code ... NOTE
Note: information on .o files for x64 is not available
File 'F:/biocbuild/bbs-3.19-bioc/R/library/universalmotif/libs/x64/universalmotif.dll':
Found '_exit', possibly from '_exit' (C)
Found 'abort', possibly from 'abort' (C), 'runtime' (Fortran)
Found 'exit', possibly from 'exit' (C), 'stop' (Fortran)
Compiled code should not call entry points which might terminate R nor
write to stdout/stderr instead of to the console, nor use Fortran I/O
nor system RNGs nor [v]sprintf. The detected symbols are linked into
the code but might come from libraries and not actually be called.
See 'Writing portable packages' in the 'Writing R Extensions' manual.
* checking sizes of PDF files under 'inst/doc' ... OK
* checking files in 'vignettes' ... OK
* checking examples ... OK
Examples with CPU (user + system) or elapsed time > 5s
user system elapsed
convert_motifs 13.59 0.82 14.46
* checking for unstated dependencies in 'tests' ... OK
* checking tests ...
Running 'spelling.R'
Running 'testthat.R'
OK
* checking for unstated dependencies in vignettes ... OK
* checking package vignettes ... OK
* checking running R code from vignettes ... SKIPPED
* checking re-building of vignette outputs ... SKIPPED
* checking PDF version of manual ... OK
* DONE
Status: 3 NOTEs
See
'F:/biocbuild/bbs-3.19-bioc/meat/universalmotif.Rcheck/00check.log'
for details.
universalmotif.Rcheck/00install.out
##############################################################################
##############################################################################
###
### Running command:
###
### F:\biocbuild\bbs-3.19-bioc\R\bin\R.exe CMD INSTALL universalmotif
###
##############################################################################
##############################################################################
* installing to library 'F:/biocbuild/bbs-3.19-bioc/R/library'
* installing *source* package 'universalmotif' ...
** using staged installation
** libs
using C++ compiler: 'G__~1.EXE (GCC) 13.2.0'
using C++11
g++ -std=gnu++11 -I"F:/biocbuild/bbs-3.19-bioc/R/include" -DNDEBUG -I'F:/biocbuild/bbs-3.19-bioc/R/library/Rcpp/include' -I'F:/biocbuild/bbs-3.19-bioc/R/library/RcppThread/include' -I"C:/rtools44/x86_64-w64-mingw32.static.posix/include" -O2 -Wall -mfpmath=sse -msse2 -mstackrealign -c RcppExports.cpp -o RcppExports.o
g++ -std=gnu++11 -I"F:/biocbuild/bbs-3.19-bioc/R/include" -DNDEBUG -I'F:/biocbuild/bbs-3.19-bioc/R/library/Rcpp/include' -I'F:/biocbuild/bbs-3.19-bioc/R/library/RcppThread/include' -I"C:/rtools44/x86_64-w64-mingw32.static.posix/include" -O2 -Wall -mfpmath=sse -msse2 -mstackrealign -c add_multifreq.cpp -o add_multifreq.o
g++ -std=gnu++11 -I"F:/biocbuild/bbs-3.19-bioc/R/include" -DNDEBUG -I'F:/biocbuild/bbs-3.19-bioc/R/library/Rcpp/include' -I'F:/biocbuild/bbs-3.19-bioc/R/library/RcppThread/include' -I"C:/rtools44/x86_64-w64-mingw32.static.posix/include" -O2 -Wall -mfpmath=sse -msse2 -mstackrealign -c calc_complexity.cpp -o calc_complexity.o
In file included from C:/rtools44/x86_64-w64-mingw32.static.posix/lib/gcc/x86_64-w64-mingw32.static.posix/13.2.0/include/c++/x86_64-w64-mingw32.static.posix/bits/c++allocator.h:33,
from C:/rtools44/x86_64-w64-mingw32.static.posix/lib/gcc/x86_64-w64-mingw32.static.posix/13.2.0/include/c++/bits/allocator.h:46,
from C:/rtools44/x86_64-w64-mingw32.static.posix/lib/gcc/x86_64-w64-mingw32.static.posix/13.2.0/include/c++/bits/alloc_traits.h:39,
from C:/rtools44/x86_64-w64-mingw32.static.posix/lib/gcc/x86_64-w64-mingw32.static.posix/13.2.0/include/c++/ext/alloc_traits.h:34,
from C:/rtools44/x86_64-w64-mingw32.static.posix/lib/gcc/x86_64-w64-mingw32.static.posix/13.2.0/include/c++/bits/hashtable_policy.h:39,
from C:/rtools44/x86_64-w64-mingw32.static.posix/lib/gcc/x86_64-w64-mingw32.static.posix/13.2.0/include/c++/bits/hashtable.h:35,
from C:/rtools44/x86_64-w64-mingw32.static.posix/lib/gcc/x86_64-w64-mingw32.static.posix/13.2.0/include/c++/bits/unordered_map.h:33,
from C:/rtools44/x86_64-w64-mingw32.static.posix/lib/gcc/x86_64-w64-mingw32.static.posix/13.2.0/include/c++/unordered_map:41,
from F:/biocbuild/bbs-3.19-bioc/R/library/Rcpp/include/Rcpp/platform/compiler.h:153,
from F:/biocbuild/bbs-3.19-bioc/R/library/Rcpp/include/Rcpp/r/headers.h:62,
from F:/biocbuild/bbs-3.19-bioc/R/library/Rcpp/include/RcppCommon.h:30,
from F:/biocbuild/bbs-3.19-bioc/R/library/Rcpp/include/Rcpp.h:27,
from calc_complexity.cpp:1:
In member function 'void std::__new_allocator<_Tp>::deallocate(_Tp*, size_type) [with _Tp = double]',
inlined from 'static void std::allocator_traits<std::allocator<_Tp1> >::deallocate(allocator_type&, pointer, size_type) [with _Tp = double]' at C:/rtools44/x86_64-w64-mingw32.static.posix/lib/gcc/x86_64-w64-mingw32.static.posix/13.2.0/include/c++/bits/alloc_traits.h:516:23,
inlined from 'void std::_Vector_base<_Tp, _Alloc>::_M_deallocate(pointer, std::size_t) [with _Tp = double; _Alloc = std::allocator<double>]' at C:/rtools44/x86_64-w64-mingw32.static.posix/lib/gcc/x86_64-w64-mingw32.static.posix/13.2.0/include/c++/bits/stl_vector.h:387:19,
inlined from 'std::_Vector_base<_Tp, _Alloc>::~_Vector_base() [with _Tp = double; _Alloc = std::allocator<double>]' at C:/rtools44/x86_64-w64-mingw32.static.posix/lib/gcc/x86_64-w64-mingw32.static.posix/13.2.0/include/c++/bits/stl_vector.h:366:15,
inlined from 'std::vector<_Tp, _Alloc>::~vector() [with _Tp = double; _Alloc = std::allocator<double>]' at C:/rtools44/x86_64-w64-mingw32.static.posix/lib/gcc/x86_64-w64-mingw32.static.posix/13.2.0/include/c++/bits/stl_vector.h:735:7,
inlined from 'double dust_cpp(const std::string&)' at calc_complexity.cpp:154:1:
C:/rtools44/x86_64-w64-mingw32.static.posix/lib/gcc/x86_64-w64-mingw32.static.posix/13.2.0/include/c++/bits/new_allocator.h:168:33: warning: 'void operator delete(void*)' called on pointer '<unknown>' with nonzero offset [16, 9223372036854775800] [-Wfree-nonheap-object]
168 | _GLIBCXX_OPERATOR_DELETE(_GLIBCXX_SIZED_DEALLOC(__p, __n));
| ^
In member function '_Tp* std::__new_allocator<_Tp>::allocate(size_type, const void*) [with _Tp = std::unique_ptr<quickpool::sched::RingBuffer<std::function<void()>*> >]',
inlined from 'static _Tp* std::allocator_traits<std::allocator<_Tp1> >::allocate(allocator_type&, size_type) [with _Tp = std::unique_ptr<quickpool::sched::RingBuffer<std::function<void()>*> >]' at C:/rtools44/x86_64-w64-mingw32.static.posix/lib/gcc/x86_64-w64-mingw32.static.posix/13.2.0/include/c++/bits/alloc_traits.h:482:28,
inlined from 'std::_Vector_base<_Tp, _Alloc>::pointer std::_Vector_base<_Tp, _Alloc>::_M_allocate(std::size_t) [with _Tp = std::unique_ptr<quickpool::sched::RingBuffer<std::function<void()>*> >; _Alloc = std::allocator<std::unique_ptr<quickpool::sched::RingBuffer<std::function<void()>*> > >]' at C:/rtools44/x86_64-w64-mingw32.static.posix/lib/gcc/x86_64-w64-mingw32.static.posix/13.2.0/include/c++/bits/stl_vector.h:378:33,
inlined from 'std::_Vector_base<_Tp, _Alloc>::pointer std::_Vector_base<_Tp, _Alloc>::_M_allocate(std::size_t) [with _Tp = double; _Alloc = std::allocator<double>]' at C:/rtools44/x86_64-w64-mingw32.static.posix/lib/gcc/x86_64-w64-mingw32.static.posix/13.2.0/include/c++/bits/stl_vector.h:375:7,
inlined from 'void std::_Vector_base<_Tp, _Alloc>::_M_create_storage(std::size_t) [with _Tp = double; _Alloc = std::allocator<double>]' at C:/rtools44/x86_64-w64-mingw32.static.posix/lib/gcc/x86_64-w64-mingw32.static.posix/13.2.0/include/c++/bits/stl_vector.h:395:44,
inlined from 'std::_Vector_base<_Tp, _Alloc>::_Vector_base(std::size_t, const allocator_type&) [with _Tp = double; _Alloc = std::allocator<double>]' at C:/rtools44/x86_64-w64-mingw32.static.posix/lib/gcc/x86_64-w64-mingw32.static.posix/13.2.0/include/c++/bits/stl_vector.h:332:26,
inlined from 'std::vector<_Tp, _Alloc>::vector(size_type, const allocator_type&) [with _Tp = double; _Alloc = std::allocator<double>]' at C:/rtools44/x86_64-w64-mingw32.static.posix/lib/gcc/x86_64-w64-mingw32.static.posix/13.2.0/include/c++/bits/stl_vector.h:554:47,
inlined from 'double dust_cpp(const std::string&)' at calc_complexity.cpp:149:44:
C:/rtools44/x86_64-w64-mingw32.static.posix/lib/gcc/x86_64-w64-mingw32.static.posix/13.2.0/include/c++/bits/new_allocator.h:147:55: note: returned from 'void* operator new(std::size_t)'
147 | return static_cast<_Tp*>(_GLIBCXX_OPERATOR_NEW(__n * sizeof(_Tp)));
| ^
g++ -std=gnu++11 -I"F:/biocbuild/bbs-3.19-bioc/R/include" -DNDEBUG -I'F:/biocbuild/bbs-3.19-bioc/R/library/Rcpp/include' -I'F:/biocbuild/bbs-3.19-bioc/R/library/RcppThread/include' -I"C:/rtools44/x86_64-w64-mingw32.static.posix/include" -O2 -Wall -mfpmath=sse -msse2 -mstackrealign -c compare_motifs.cpp -o compare_motifs.o
g++ -std=gnu++11 -I"F:/biocbuild/bbs-3.19-bioc/R/include" -DNDEBUG -I'F:/biocbuild/bbs-3.19-bioc/R/library/Rcpp/include' -I'F:/biocbuild/bbs-3.19-bioc/R/library/RcppThread/include' -I"C:/rtools44/x86_64-w64-mingw32.static.posix/include" -O2 -Wall -mfpmath=sse -msse2 -mstackrealign -c get_bkg.cpp -o get_bkg.o
g++ -std=gnu++11 -I"F:/biocbuild/bbs-3.19-bioc/R/include" -DNDEBUG -I'F:/biocbuild/bbs-3.19-bioc/R/library/Rcpp/include' -I'F:/biocbuild/bbs-3.19-bioc/R/library/RcppThread/include' -I"C:/rtools44/x86_64-w64-mingw32.static.posix/include" -O2 -Wall -mfpmath=sse -msse2 -mstackrealign -c motif_finder.cpp -o motif_finder.o
g++ -std=gnu++11 -I"F:/biocbuild/bbs-3.19-bioc/R/include" -DNDEBUG -I'F:/biocbuild/bbs-3.19-bioc/R/library/Rcpp/include' -I'F:/biocbuild/bbs-3.19-bioc/R/library/RcppThread/include' -I"C:/rtools44/x86_64-w64-mingw32.static.posix/include" -O2 -Wall -mfpmath=sse -msse2 -mstackrealign -c motif_peaks.cpp -o motif_peaks.o
g++ -std=gnu++11 -I"F:/biocbuild/bbs-3.19-bioc/R/include" -DNDEBUG -I'F:/biocbuild/bbs-3.19-bioc/R/library/Rcpp/include' -I'F:/biocbuild/bbs-3.19-bioc/R/library/RcppThread/include' -I"C:/rtools44/x86_64-w64-mingw32.static.posix/include" -O2 -Wall -mfpmath=sse -msse2 -mstackrealign -c motif_pvalue.cpp -o motif_pvalue.o
g++ -std=gnu++11 -I"F:/biocbuild/bbs-3.19-bioc/R/include" -DNDEBUG -I'F:/biocbuild/bbs-3.19-bioc/R/library/Rcpp/include' -I'F:/biocbuild/bbs-3.19-bioc/R/library/RcppThread/include' -I"C:/rtools44/x86_64-w64-mingw32.static.posix/include" -O2 -Wall -mfpmath=sse -msse2 -mstackrealign -c scan_sequences.cpp -o scan_sequences.o
g++ -std=gnu++11 -I"F:/biocbuild/bbs-3.19-bioc/R/include" -DNDEBUG -I'F:/biocbuild/bbs-3.19-bioc/R/library/Rcpp/include' -I'F:/biocbuild/bbs-3.19-bioc/R/library/RcppThread/include' -I"C:/rtools44/x86_64-w64-mingw32.static.posix/include" -O2 -Wall -mfpmath=sse -msse2 -mstackrealign -c shuffle_sequences.cpp -o shuffle_sequences.o
g++ -std=gnu++11 -I"F:/biocbuild/bbs-3.19-bioc/R/include" -DNDEBUG -I'F:/biocbuild/bbs-3.19-bioc/R/library/Rcpp/include' -I'F:/biocbuild/bbs-3.19-bioc/R/library/RcppThread/include' -I"C:/rtools44/x86_64-w64-mingw32.static.posix/include" -O2 -Wall -mfpmath=sse -msse2 -mstackrealign -c trim_motifs.cpp -o trim_motifs.o
g++ -std=gnu++11 -I"F:/biocbuild/bbs-3.19-bioc/R/include" -DNDEBUG -I'F:/biocbuild/bbs-3.19-bioc/R/library/Rcpp/include' -I'F:/biocbuild/bbs-3.19-bioc/R/library/RcppThread/include' -I"C:/rtools44/x86_64-w64-mingw32.static.posix/include" -O2 -Wall -mfpmath=sse -msse2 -mstackrealign -c universalmotif-class.cpp -o universalmotif-class.o
g++ -std=gnu++11 -I"F:/biocbuild/bbs-3.19-bioc/R/include" -DNDEBUG -I'F:/biocbuild/bbs-3.19-bioc/R/library/Rcpp/include' -I'F:/biocbuild/bbs-3.19-bioc/R/library/RcppThread/include' -I"C:/rtools44/x86_64-w64-mingw32.static.posix/include" -O2 -Wall -mfpmath=sse -msse2 -mstackrealign -c utils-exported.cpp -o utils-exported.o
g++ -std=gnu++11 -I"F:/biocbuild/bbs-3.19-bioc/R/include" -DNDEBUG -I'F:/biocbuild/bbs-3.19-bioc/R/library/Rcpp/include' -I'F:/biocbuild/bbs-3.19-bioc/R/library/RcppThread/include' -I"C:/rtools44/x86_64-w64-mingw32.static.posix/include" -O2 -Wall -mfpmath=sse -msse2 -mstackrealign -c utils-internal.cpp -o utils-internal.o
g++ -shared -s -static-libgcc -o universalmotif.dll tmp.def RcppExports.o add_multifreq.o calc_complexity.o compare_motifs.o get_bkg.o motif_finder.o motif_peaks.o motif_pvalue.o scan_sequences.o shuffle_sequences.o trim_motifs.o universalmotif-class.o utils-exported.o utils-internal.o -LC:/rtools44/x86_64-w64-mingw32.static.posix/lib/x64 -LC:/rtools44/x86_64-w64-mingw32.static.posix/lib -LF:/biocbuild/bbs-3.19-bioc/R/bin/x64 -lR
installing to F:/biocbuild/bbs-3.19-bioc/R/library/00LOCK-universalmotif/00new/universalmotif/libs/x64
** R
** data
** inst
** byte-compile and prepare package for lazy loading
in method for 'convert_motifs' with signature 'motifs="MotifList"': no definition for class "MotifList"
in method for 'convert_motifs' with signature 'motifs="TFFMFirst"': no definition for class "TFFMFirst"
in method for 'convert_motifs' with signature 'motifs="PFMatrix"': no definition for class "PFMatrix"
in method for 'convert_motifs' with signature 'motifs="PWMatrix"': no definition for class "PWMatrix"
in method for 'convert_motifs' with signature 'motifs="ICMatrix"': no definition for class "ICMatrix"
in method for 'convert_motifs' with signature 'motifs="XMatrixList"': no definition for class "XMatrixList"
in method for 'convert_motifs' with signature 'motifs="pwm"': no definition for class "pwm"
in method for 'convert_motifs' with signature 'motifs="pcm"': no definition for class "pcm"
in method for 'convert_motifs' with signature 'motifs="pfm"': no definition for class "pfm"
in method for 'convert_motifs' with signature 'motifs="PWM"': no definition for class "PWM"
in method for 'convert_motifs' with signature 'motifs="Motif"': no definition for class "Motif"
** help
*** installing help indices
** building package indices
** installing vignettes
** testing if installed package can be loaded from temporary location
** testing if installed package can be loaded from final location
** testing if installed package keeps a record of temporary installation path
* DONE (universalmotif)
universalmotif.Rcheck/tests/spelling.Rout
R version 4.4.0 (2024-04-24 ucrt) -- "Puppy Cup"
Copyright (C) 2024 The R Foundation for Statistical Computing
Platform: x86_64-w64-mingw32/x64
R is free software and comes with ABSOLUTELY NO WARRANTY.
You are welcome to redistribute it under certain conditions.
Type 'license()' or 'licence()' for distribution details.
R is a collaborative project with many contributors.
Type 'contributors()' for more information and
'citation()' on how to cite R or R packages in publications.
Type 'demo()' for some demos, 'help()' for on-line help, or
'help.start()' for an HTML browser interface to help.
Type 'q()' to quit R.
> if(requireNamespace('spelling', quietly = TRUE))
+ spelling::spell_check_test(vignettes = TRUE, error = FALSE,
+ skip_on_cran = TRUE)
NULL
>
> proc.time()
user system elapsed
0.25 0.03 0.29
universalmotif.Rcheck/tests/testthat.Rout
R version 4.4.0 (2024-04-24 ucrt) -- "Puppy Cup"
Copyright (C) 2024 The R Foundation for Statistical Computing
Platform: x86_64-w64-mingw32/x64
R is free software and comes with ABSOLUTELY NO WARRANTY.
You are welcome to redistribute it under certain conditions.
Type 'license()' or 'licence()' for distribution details.
R is a collaborative project with many contributors.
Type 'contributors()' for more information and
'citation()' on how to cite R or R packages in publications.
Type 'demo()' for some demos, 'help()' for on-line help, or
'help.start()' for an HTML browser interface to help.
Type 'q()' to quit R.
> if (R.Version()$arch != "i386") {
+
+ library(testthat)
+ library(universalmotif)
+
+ test_check("universalmotif")
+
+ } else TRUE
[ FAIL 0 | WARN 2 | SKIP 0 | PASS 240 ]
[ FAIL 0 | WARN 2 | SKIP 0 | PASS 240 ]
>
> proc.time()
user system elapsed
10.64 0.81 11.45
universalmotif.Rcheck/universalmotif-Ex.timings
| name | user | system | elapsed | |
| add_multifreq | 0.03 | 0.00 | 0.03 | |
| compare_motifs | 0.20 | 0.00 | 0.21 | |
| convert_motifs | 13.59 | 0.82 | 14.46 | |
| convert_type | 0.02 | 0.02 | 0.03 | |
| create_motif | 0.28 | 0.05 | 0.33 | |
| create_sequences | 0.02 | 0.00 | 0.01 | |
| enrich_motifs | 1.43 | 0.09 | 1.53 | |
| filter_motifs | 0.02 | 0.00 | 0.02 | |
| get_bkg | 0.31 | 0.00 | 0.31 | |
| make_DBscores | 0 | 0 | 0 | |
| merge_motifs | 0.22 | 0.08 | 0.30 | |
| merge_similar | 0 | 0 | 0 | |
| motif_peaks | 0.19 | 0.11 | 0.29 | |
| motif_pvalue | 0.08 | 0.01 | 0.10 | |
| motif_rc | 0.01 | 0.00 | 0.01 | |
| motif_tree | 0.49 | 0.10 | 0.58 | |
| read_cisbp | 0.00 | 0.01 | 0.02 | |
| read_homer | 0.32 | 0.05 | 0.37 | |
| read_jaspar | 0.00 | 0.02 | 0.02 | |
| read_matrix | 0 | 0 | 0 | |
| read_meme | 0.05 | 0.00 | 0.04 | |
| read_transfac | 0.02 | 0.00 | 0.02 | |
| read_uniprobe | 0.01 | 0.00 | 0.02 | |
| run_meme | 0 | 0 | 0 | |
| sample_sites | 0.02 | 0.00 | 0.02 | |
| scan_sequences | 1.15 | 0.06 | 1.22 | |
| sequence_complexity | 1.11 | 0.08 | 1.18 | |
| shuffle_sequences | 0 | 0 | 0 | |
| switch_alph | 0 | 0 | 0 | |
| tidy-motifs | 0 | 0 | 0 | |
| trim_motifs | 0.00 | 0.02 | 0.01 | |
| universalmotif-class | 0.01 | 0.01 | 0.04 | |
| utils-motif | 0.18 | 0.10 | 0.26 | |
| utils-sequence | 0.87 | 0.06 | 0.94 | |
| view_logo | 0.33 | 0.02 | 0.34 | |
| view_motifs | 0.20 | 0.00 | 0.21 | |
| write_homer | 0 | 0 | 0 | |
| write_jaspar | 0.02 | 0.00 | 0.01 | |
| write_matrix | 0.01 | 0.00 | 0.02 | |
| write_meme | 0.02 | 0.00 | 0.01 | |
| write_transfac | 0.00 | 0.00 | 0.01 | |