| Back to Multiple platform build/check report for BioC 3.19: simplified long |
|
This page was generated on 2024-06-28 17:42 -0400 (Fri, 28 Jun 2024).
| Hostname | OS | Arch (*) | R version | Installed pkgs |
|---|---|---|---|---|
| nebbiolo1 | Linux (Ubuntu 22.04.3 LTS) | x86_64 | 4.4.0 (2024-04-24) -- "Puppy Cup" | 4760 |
| palomino3 | Windows Server 2022 Datacenter | x64 | 4.4.0 (2024-04-24 ucrt) -- "Puppy Cup" | 4494 |
| merida1 | macOS 12.7.4 Monterey | x86_64 | 4.4.0 (2024-04-24) -- "Puppy Cup" | 4508 |
| kjohnson1 | macOS 13.6.6 Ventura | arm64 | 4.4.0 (2024-04-24) -- "Puppy Cup" | 4466 |
| palomino7 | Windows Server 2022 Datacenter | x64 | 4.4.1 (2024-06-14 ucrt) -- "Race for Your Life" | 4362 |
| Click on any hostname to see more info about the system (e.g. compilers) (*) as reported by 'uname -p', except on Windows and Mac OS X | ||||
| Package 2212/2300 | Hostname | OS / Arch | INSTALL | BUILD | CHECK | BUILD BIN | ||||||||
| triplex 1.44.0 (landing page) Jiri Hon
| nebbiolo1 | Linux (Ubuntu 22.04.3 LTS) / x86_64 | OK | OK | WARNINGS | |||||||||
| palomino3 | Windows Server 2022 Datacenter / x64 | OK | OK | WARNINGS | OK | |||||||||
| merida1 | macOS 12.7.4 Monterey / x86_64 | OK | OK | WARNINGS | OK | |||||||||
| kjohnson1 | macOS 13.6.6 Ventura / arm64 | OK | OK | WARNINGS | NA | |||||||||
| palomino7 | Windows Server 2022 Datacenter / x64 | OK | OK | WARNINGS | OK | |||||||||
|
To the developers/maintainers of the triplex package: - Allow up to 24 hours (and sometimes 48 hours) for your latest push to git@git.bioconductor.org:packages/triplex.git to reflect on this report. See Troubleshooting Build Report for more information. - Use the following Renviron settings to reproduce errors and warnings. - If 'R CMD check' started to fail recently on the Linux builder(s) over a missing dependency, add the missing dependency to 'Suggests:' in your DESCRIPTION file. See Renviron.bioc for more information. |
| Package: triplex |
| Version: 1.44.0 |
| Command: F:\biocbuild\bbs-3.19-bioc\R\bin\R.exe CMD INSTALL triplex |
| StartedAt: 2024-06-26 15:50:00 -0400 (Wed, 26 Jun 2024) |
| EndedAt: 2024-06-26 15:50:34 -0400 (Wed, 26 Jun 2024) |
| EllapsedTime: 34.0 seconds |
| RetCode: 0 |
| Status: OK |
##############################################################################
##############################################################################
###
### Running command:
###
### F:\biocbuild\bbs-3.19-bioc\R\bin\R.exe CMD INSTALL triplex
###
##############################################################################
##############################################################################
* installing to library 'F:/biocbuild/bbs-3.19-bioc/R/library'
* installing *source* package 'triplex' ...
** using staged installation
** libs
using C compiler: 'gcc.exe (GCC) 13.2.0'
gcc -I"F:/biocbuild/bbs-3.19-bioc/R/include" -DNDEBUG -I'F:/biocbuild/bbs-3.19-bioc/R/library/S4Vectors/include' -I'F:/biocbuild/bbs-3.19-bioc/R/library/IRanges/include' -I'F:/biocbuild/bbs-3.19-bioc/R/library/XVector/include' -I'F:/biocbuild/bbs-3.19-bioc/R/library/Biostrings/include' -I"C:/rtools44/x86_64-w64-mingw32.static.posix/include" -O2 -Wall -mfpmath=sse -msse2 -mstackrealign -c Biostrings_stubs.c -o Biostrings_stubs.o
gcc -I"F:/biocbuild/bbs-3.19-bioc/R/include" -DNDEBUG -I'F:/biocbuild/bbs-3.19-bioc/R/library/S4Vectors/include' -I'F:/biocbuild/bbs-3.19-bioc/R/library/IRanges/include' -I'F:/biocbuild/bbs-3.19-bioc/R/library/XVector/include' -I'F:/biocbuild/bbs-3.19-bioc/R/library/Biostrings/include' -I"C:/rtools44/x86_64-w64-mingw32.static.posix/include" -O2 -Wall -mfpmath=sse -msse2 -mstackrealign -c IRanges_stubs.c -o IRanges_stubs.o
gcc -I"F:/biocbuild/bbs-3.19-bioc/R/include" -DNDEBUG -I'F:/biocbuild/bbs-3.19-bioc/R/library/S4Vectors/include' -I'F:/biocbuild/bbs-3.19-bioc/R/library/IRanges/include' -I'F:/biocbuild/bbs-3.19-bioc/R/library/XVector/include' -I'F:/biocbuild/bbs-3.19-bioc/R/library/Biostrings/include' -I"C:/rtools44/x86_64-w64-mingw32.static.posix/include" -O2 -Wall -mfpmath=sse -msse2 -mstackrealign -c R_init_triplex.c -o R_init_triplex.o
gcc -I"F:/biocbuild/bbs-3.19-bioc/R/include" -DNDEBUG -I'F:/biocbuild/bbs-3.19-bioc/R/library/S4Vectors/include' -I'F:/biocbuild/bbs-3.19-bioc/R/library/IRanges/include' -I'F:/biocbuild/bbs-3.19-bioc/R/library/XVector/include' -I'F:/biocbuild/bbs-3.19-bioc/R/library/Biostrings/include' -I"C:/rtools44/x86_64-w64-mingw32.static.posix/include" -O2 -Wall -mfpmath=sse -msse2 -mstackrealign -c XVector_stubs.c -o XVector_stubs.o
gcc -I"F:/biocbuild/bbs-3.19-bioc/R/include" -DNDEBUG -I'F:/biocbuild/bbs-3.19-bioc/R/library/S4Vectors/include' -I'F:/biocbuild/bbs-3.19-bioc/R/library/IRanges/include' -I'F:/biocbuild/bbs-3.19-bioc/R/library/XVector/include' -I'F:/biocbuild/bbs-3.19-bioc/R/library/Biostrings/include' -I"C:/rtools44/x86_64-w64-mingw32.static.posix/include" -O2 -Wall -mfpmath=sse -msse2 -mstackrealign -c align.c -o align.o
gcc -I"F:/biocbuild/bbs-3.19-bioc/R/include" -DNDEBUG -I'F:/biocbuild/bbs-3.19-bioc/R/library/S4Vectors/include' -I'F:/biocbuild/bbs-3.19-bioc/R/library/IRanges/include' -I'F:/biocbuild/bbs-3.19-bioc/R/library/XVector/include' -I'F:/biocbuild/bbs-3.19-bioc/R/library/Biostrings/include' -I"C:/rtools44/x86_64-w64-mingw32.static.posix/include" -O2 -Wall -mfpmath=sse -msse2 -mstackrealign -c align_interface.c -o align_interface.o
gcc -I"F:/biocbuild/bbs-3.19-bioc/R/include" -DNDEBUG -I'F:/biocbuild/bbs-3.19-bioc/R/library/S4Vectors/include' -I'F:/biocbuild/bbs-3.19-bioc/R/library/IRanges/include' -I'F:/biocbuild/bbs-3.19-bioc/R/library/XVector/include' -I'F:/biocbuild/bbs-3.19-bioc/R/library/Biostrings/include' -I"C:/rtools44/x86_64-w64-mingw32.static.posix/include" -O2 -Wall -mfpmath=sse -msse2 -mstackrealign -c dl_list.c -o dl_list.o
gcc -I"F:/biocbuild/bbs-3.19-bioc/R/include" -DNDEBUG -I'F:/biocbuild/bbs-3.19-bioc/R/library/S4Vectors/include' -I'F:/biocbuild/bbs-3.19-bioc/R/library/IRanges/include' -I'F:/biocbuild/bbs-3.19-bioc/R/library/XVector/include' -I'F:/biocbuild/bbs-3.19-bioc/R/library/Biostrings/include' -I"C:/rtools44/x86_64-w64-mingw32.static.posix/include" -O2 -Wall -mfpmath=sse -msse2 -mstackrealign -c interval.c -o interval.o
gcc -I"F:/biocbuild/bbs-3.19-bioc/R/include" -DNDEBUG -I'F:/biocbuild/bbs-3.19-bioc/R/library/S4Vectors/include' -I'F:/biocbuild/bbs-3.19-bioc/R/library/IRanges/include' -I'F:/biocbuild/bbs-3.19-bioc/R/library/XVector/include' -I'F:/biocbuild/bbs-3.19-bioc/R/library/Biostrings/include' -I"C:/rtools44/x86_64-w64-mingw32.static.posix/include" -O2 -Wall -mfpmath=sse -msse2 -mstackrealign -c libtriplex.c -o libtriplex.o
gcc -I"F:/biocbuild/bbs-3.19-bioc/R/include" -DNDEBUG -I'F:/biocbuild/bbs-3.19-bioc/R/library/S4Vectors/include' -I'F:/biocbuild/bbs-3.19-bioc/R/library/IRanges/include' -I'F:/biocbuild/bbs-3.19-bioc/R/library/XVector/include' -I'F:/biocbuild/bbs-3.19-bioc/R/library/Biostrings/include' -I"C:/rtools44/x86_64-w64-mingw32.static.posix/include" -O2 -Wall -mfpmath=sse -msse2 -mstackrealign -c progress.c -o progress.o
gcc -I"F:/biocbuild/bbs-3.19-bioc/R/include" -DNDEBUG -I'F:/biocbuild/bbs-3.19-bioc/R/library/S4Vectors/include' -I'F:/biocbuild/bbs-3.19-bioc/R/library/IRanges/include' -I'F:/biocbuild/bbs-3.19-bioc/R/library/XVector/include' -I'F:/biocbuild/bbs-3.19-bioc/R/library/Biostrings/include' -I"C:/rtools44/x86_64-w64-mingw32.static.posix/include" -O2 -Wall -mfpmath=sse -msse2 -mstackrealign -c search.c -o search.o
gcc -I"F:/biocbuild/bbs-3.19-bioc/R/include" -DNDEBUG -I'F:/biocbuild/bbs-3.19-bioc/R/library/S4Vectors/include' -I'F:/biocbuild/bbs-3.19-bioc/R/library/IRanges/include' -I'F:/biocbuild/bbs-3.19-bioc/R/library/XVector/include' -I'F:/biocbuild/bbs-3.19-bioc/R/library/Biostrings/include' -I"C:/rtools44/x86_64-w64-mingw32.static.posix/include" -O2 -Wall -mfpmath=sse -msse2 -mstackrealign -c search_interface.c -o search_interface.o
search_interface.c: In function 'decode_DNAString':
search_interface.c:371:84: warning: pointer used after 'free' [-Wuse-after-free]
371 | error("Unsupported symbol '%c' in input sequence.", dna.seq[i]);
| ^
search_interface.c:370:25: note: call to 'free' here
370 | free(dna.seq);
| ^~~~~~~~~~~~~
gcc -shared -s -static-libgcc -o triplex.dll tmp.def Biostrings_stubs.o IRanges_stubs.o R_init_triplex.o XVector_stubs.o align.o align_interface.o dl_list.o interval.o libtriplex.o progress.o search.o search_interface.o -LC:/rtools44/x86_64-w64-mingw32.static.posix/lib/x64 -LC:/rtools44/x86_64-w64-mingw32.static.posix/lib -LF:/biocbuild/bbs-3.19-bioc/R/bin/x64 -lR
installing to F:/biocbuild/bbs-3.19-bioc/R/library/00LOCK-triplex/00new/triplex/libs/x64
** R
** inst
** byte-compile and prepare package for lazy loading
Warning: replacing previous import 'grid::pattern' by 'Biostrings::pattern' when loading 'triplex'
** help
*** installing help indices
*** copying figures
** building package indices
** installing vignettes
** testing if installed package can be loaded from temporary location
Warning: replacing previous import 'grid::pattern' by 'Biostrings::pattern' when loading 'triplex'
** testing if installed package can be loaded from final location
Warning: replacing previous import 'grid::pattern' by 'Biostrings::pattern' when loading 'triplex'
** testing if installed package keeps a record of temporary installation path
* DONE (triplex)