| Back to Multiple platform build/check report for BioC 3.19: simplified long |
|
This page was generated on 2024-06-28 17:42 -0400 (Fri, 28 Jun 2024).
| Hostname | OS | Arch (*) | R version | Installed pkgs |
|---|---|---|---|---|
| nebbiolo1 | Linux (Ubuntu 22.04.3 LTS) | x86_64 | 4.4.0 (2024-04-24) -- "Puppy Cup" | 4760 |
| palomino3 | Windows Server 2022 Datacenter | x64 | 4.4.0 (2024-04-24 ucrt) -- "Puppy Cup" | 4494 |
| merida1 | macOS 12.7.4 Monterey | x86_64 | 4.4.0 (2024-04-24) -- "Puppy Cup" | 4508 |
| kjohnson1 | macOS 13.6.6 Ventura | arm64 | 4.4.0 (2024-04-24) -- "Puppy Cup" | 4466 |
| palomino7 | Windows Server 2022 Datacenter | x64 | 4.4.1 (2024-06-14 ucrt) -- "Race for Your Life" | 4362 |
| Click on any hostname to see more info about the system (e.g. compilers) (*) as reported by 'uname -p', except on Windows and Mac OS X | ||||
| Package 2195/2300 | Hostname | OS / Arch | INSTALL | BUILD | CHECK | BUILD BIN | ||||||||
| tRanslatome 1.42.0 (landing page) Toma Tebaldi
| nebbiolo1 | Linux (Ubuntu 22.04.3 LTS) / x86_64 | OK | OK | OK | |||||||||
| palomino3 | Windows Server 2022 Datacenter / x64 | OK | OK | OK | OK | |||||||||
| merida1 | macOS 12.7.4 Monterey / x86_64 | OK | OK | OK | OK | |||||||||
| kjohnson1 | macOS 13.6.6 Ventura / arm64 | OK | OK | OK | NA | |||||||||
| palomino7 | Windows Server 2022 Datacenter / x64 | OK | OK | OK | OK | |||||||||
|
To the developers/maintainers of the tRanslatome package: - Allow up to 24 hours (and sometimes 48 hours) for your latest push to git@git.bioconductor.org:packages/tRanslatome.git to reflect on this report. See Troubleshooting Build Report for more information. - Use the following Renviron settings to reproduce errors and warnings. - If 'R CMD check' started to fail recently on the Linux builder(s) over a missing dependency, add the missing dependency to 'Suggests:' in your DESCRIPTION file. See Renviron.bioc for more information. |
| Package: tRanslatome |
| Version: 1.42.0 |
| Command: F:\biocbuild\bbs-3.19-bioc\R\bin\R.exe CMD check --no-multiarch --install=check:tRanslatome.install-out.txt --library=F:\biocbuild\bbs-3.19-bioc\R\library --no-vignettes --timings tRanslatome_1.42.0.tar.gz |
| StartedAt: 2024-06-27 07:05:14 -0400 (Thu, 27 Jun 2024) |
| EndedAt: 2024-06-27 07:11:13 -0400 (Thu, 27 Jun 2024) |
| EllapsedTime: 359.8 seconds |
| RetCode: 0 |
| Status: OK |
| CheckDir: tRanslatome.Rcheck |
| Warnings: 0 |
##############################################################################
##############################################################################
###
### Running command:
###
### F:\biocbuild\bbs-3.19-bioc\R\bin\R.exe CMD check --no-multiarch --install=check:tRanslatome.install-out.txt --library=F:\biocbuild\bbs-3.19-bioc\R\library --no-vignettes --timings tRanslatome_1.42.0.tar.gz
###
##############################################################################
##############################################################################
* using log directory 'F:/biocbuild/bbs-3.19-bioc/meat/tRanslatome.Rcheck'
* using R version 4.4.0 (2024-04-24 ucrt)
* using platform: x86_64-w64-mingw32
* R was compiled by
gcc.exe (GCC) 13.2.0
GNU Fortran (GCC) 13.2.0
* running under: Windows Server 2022 x64 (build 20348)
* using session charset: UTF-8
* using option '--no-vignettes'
* checking for file 'tRanslatome/DESCRIPTION' ... OK
* checking extension type ... Package
* this is package 'tRanslatome' version '1.42.0'
* checking package namespace information ... OK
* checking package dependencies ... NOTE
Depends: includes the non-default packages:
'limma', 'anota', 'DESeq2', 'edgeR', 'RankProd', 'topGO',
'org.Hs.eg.db', 'GOSemSim', 'Heatplus', 'gplots', 'plotrix',
'Biobase'
Adding so many packages to the search path is excessive and importing
selectively is preferable.
* checking if this is a source package ... OK
* checking if there is a namespace ... OK
* checking for hidden files and directories ... OK
* checking for portable file names ... OK
* checking whether package 'tRanslatome' can be installed ... OK
* checking installed package size ... OK
* checking package directory ... OK
* checking 'build' directory ... OK
* checking DESCRIPTION meta-information ... OK
* checking top-level files ... OK
* checking for left-over files ... OK
* checking index information ... OK
* checking package subdirectories ... OK
* checking code files for non-ASCII characters ... OK
* checking R files for syntax errors ... OK
* checking whether the package can be loaded ... OK
* checking whether the package can be loaded with stated dependencies ... OK
* checking whether the package can be unloaded cleanly ... OK
* checking whether the namespace can be loaded with stated dependencies ... OK
* checking whether the namespace can be unloaded cleanly ... OK
* checking dependencies in R code ... OK
* checking S3 generic/method consistency ... OK
* checking replacement functions ... OK
* checking foreign function calls ... OK
* checking R code for possible problems ... NOTE
methodLimma: no visible global function definition for 'lmFit'
methodTTest: no visible global function definition for 'calcTStatFast'
GOEnrichment,DEGs: no visible global function definition for 'toTable'
Undefined global functions or variables:
calcTStatFast lmFit toTable
* checking Rd files ... OK
* checking Rd metadata ... OK
* checking Rd cross-references ... OK
* checking for missing documentation entries ... OK
* checking for code/documentation mismatches ... OK
* checking Rd \usage sections ... OK
* checking Rd contents ... OK
* checking for unstated dependencies in examples ... OK
* checking contents of 'data' directory ... OK
* checking data for non-ASCII characters ... OK
* checking data for ASCII and uncompressed saves ... OK
* checking sizes of PDF files under 'inst/doc' ... OK
* checking files in 'vignettes' ... OK
* checking examples ... OK
Examples with CPU (user + system) or elapsed time > 5s
user system elapsed
GOEnrichment 19.11 0.27 19.48
GOComparison 16.59 1.02 17.97
* checking for unstated dependencies in vignettes ... OK
* checking package vignettes ... OK
* checking running R code from vignettes ... SKIPPED
* checking re-building of vignette outputs ... SKIPPED
* checking PDF version of manual ... OK
* DONE
Status: 2 NOTEs
See
'F:/biocbuild/bbs-3.19-bioc/meat/tRanslatome.Rcheck/00check.log'
for details.
tRanslatome.Rcheck/00install.out
############################################################################## ############################################################################## ### ### Running command: ### ### F:\biocbuild\bbs-3.19-bioc\R\bin\R.exe CMD INSTALL tRanslatome ### ############################################################################## ############################################################################## * installing to library 'F:/biocbuild/bbs-3.19-bioc/R/library' * installing *source* package 'tRanslatome' ... ** using staged installation ** R ** data ** byte-compile and prepare package for lazy loading groupGOTerms: GOBPTerm, GOMFTerm, GOCCTerm environments built. ** help *** installing help indices ** building package indices ** installing vignettes ** testing if installed package can be loaded from temporary location groupGOTerms: GOBPTerm, GOMFTerm, GOCCTerm environments built. ** testing if installed package can be loaded from final location groupGOTerms: GOBPTerm, GOMFTerm, GOCCTerm environments built. ** testing if installed package keeps a record of temporary installation path * DONE (tRanslatome)
tRanslatome.Rcheck/tRanslatome-Ex.timings
| name | user | system | elapsed | |
| CVplot | 0.11 | 0.03 | 0.14 | |
| DEGs | 0 | 0 | 0 | |
| DEGs.table | 0.11 | 0.14 | 0.25 | |
| EnrichedSets | 0 | 0 | 0 | |
| FC.threshold | 0.05 | 0.00 | 0.05 | |
| GOComparison | 16.59 | 1.02 | 17.97 | |
| GOEnrichment | 19.11 | 0.27 | 19.48 | |
| GOsets | 0 | 0 | 0 | |
| GOsims | 0 | 0 | 0 | |
| Heatmap | 0.16 | 0.01 | 0.17 | |
| Histogram | 0.06 | 0.02 | 0.08 | |
| IdentityPlot | 0.04 | 0.01 | 0.06 | |
| MAplot | 0.07 | 0.02 | 0.08 | |
| Radar | 0.09 | 0.01 | 0.11 | |
| RegulatoryEnrichment | 2.11 | 0.11 | 2.21 | |
| SDplot | 0.06 | 0.02 | 0.08 | |
| Scatterplot | 0.11 | 0.01 | 0.13 | |
| SimilarityPlot | 0.05 | 0.04 | 0.08 | |
| TranslatomeDataset | 0 | 0 | 0 | |
| average.similarity.scores | 0.06 | 0.01 | 0.07 | |
| computeDEGs | 0.30 | 0.03 | 0.33 | |
| enriched.table | 0.06 | 0.02 | 0.08 | |
| getConditionA | 0.06 | 0.01 | 0.08 | |
| getConditionB | 0.05 | 0.02 | 0.06 | |
| getConditionC | 0.06 | 0.00 | 0.06 | |
| getConditionD | 0.06 | 0.00 | 0.07 | |
| getConditionLabels | 0.05 | 0.01 | 0.06 | |
| getDEGs | 0.06 | 0.00 | 0.07 | |
| getDEGsMethod | 0.05 | 0.04 | 0.07 | |
| getDataType | 0.06 | 0.01 | 0.08 | |
| getExprMatrix | 0.11 | 0.08 | 0.19 | |
| getLevelLabels | 0.04 | 0.03 | 0.08 | |
| identity.matrix | 0.05 | 0.02 | 0.06 | |
| label.condition | 0.03 | 0.03 | 0.06 | |
| label.level.DEGs | 0.06 | 0.01 | 0.08 | |
| label.level.enriched | 0.05 | 0.02 | 0.06 | |
| newTranslatomeDataset | 0.08 | 0.01 | 0.10 | |
| significance.threshold | 0.06 | 0.02 | 0.08 | |
| similarity.matrix | 0.05 | 0.02 | 0.06 | |
| tRanslatomeSampleData | 0.06 | 0.03 | 0.09 | |