| Back to Multiple platform build/check report for BioC 3.19: simplified long |
|
This page was generated on 2024-05-08 11:41:30 -0400 (Wed, 08 May 2024).
| Hostname | OS | Arch (*) | R version | Installed pkgs |
|---|---|---|---|---|
| nebbiolo1 | Linux (Ubuntu 22.04.3 LTS) | x86_64 | 4.4.0 (2024-04-24) -- "Puppy Cup" | 4707 |
| palomino3 | Windows Server 2022 Datacenter | x64 | 4.4.0 (2024-04-24 ucrt) -- "Puppy Cup" | 4484 |
| lconway | macOS 12.7.1 Monterey | x86_64 | 4.4.0 (2024-04-24) -- "Puppy Cup" | 4514 |
| kunpeng2 | Linux (openEuler 22.03 LTS-SP1) | aarch64 | 4.4.0 beta (2024-04-15 r86425) -- "Puppy Cup" | 4480 |
| Click on any hostname to see more info about the system (e.g. compilers) (*) as reported by 'uname -p', except on Windows and Mac OS X | ||||
| Package 2171/2300 | Hostname | OS / Arch | INSTALL | BUILD | CHECK | BUILD BIN | ||||||||
| tLOH 1.12.0 (landing page) Michelle Webb
| nebbiolo1 | Linux (Ubuntu 22.04.3 LTS) / x86_64 | OK | OK | OK | |||||||||
| palomino3 | Windows Server 2022 Datacenter / x64 | OK | OK | OK | OK | |||||||||
| lconway | macOS 12.7.1 Monterey / x86_64 | OK | OK | OK | OK | |||||||||
| kunpeng2 | Linux (openEuler 22.03 LTS-SP1) / aarch64 | OK | OK | OK | ||||||||||
| kjohnson3 | macOS 13.6.5 Ventura / arm64 | see weekly results here | ||||||||||||
|
To the developers/maintainers of the tLOH package: - Allow up to 24 hours (and sometimes 48 hours) for your latest push to git@git.bioconductor.org:packages/tLOH.git to reflect on this report. See Troubleshooting Build Report for more information. - Use the following Renviron settings to reproduce errors and warnings. - If 'R CMD check' started to fail recently on the Linux builder(s) over a missing dependency, add the missing dependency to 'Suggests:' in your DESCRIPTION file. See Renviron.bioc for more information. - See Martin Grigorov's blog post for how to debug Linux ARM64 related issues on a x86_64 host. |
| Package: tLOH |
| Version: 1.12.0 |
| Command: /home/biocbuild/R/R-beta-2024-04-15_r86425/bin/R CMD check --install=check:tLOH.install-out.txt --library=/home/biocbuild/R/R-beta-2024-04-15_r86425/site-library --no-vignettes --timings tLOH_1.12.0.tar.gz |
| StartedAt: 2024-05-08 12:45:08 -0000 (Wed, 08 May 2024) |
| EndedAt: 2024-05-08 12:59:18 -0000 (Wed, 08 May 2024) |
| EllapsedTime: 849.6 seconds |
| RetCode: 0 |
| Status: OK |
| CheckDir: tLOH.Rcheck |
| Warnings: 0 |
##############################################################################
##############################################################################
###
### Running command:
###
### /home/biocbuild/R/R-beta-2024-04-15_r86425/bin/R CMD check --install=check:tLOH.install-out.txt --library=/home/biocbuild/R/R-beta-2024-04-15_r86425/site-library --no-vignettes --timings tLOH_1.12.0.tar.gz
###
##############################################################################
##############################################################################
* using log directory ‘/home/biocbuild/bbs-3.19-bioc/meat/tLOH.Rcheck’
* using R version 4.4.0 beta (2024-04-15 r86425)
* using platform: aarch64-unknown-linux-gnu
* R was compiled by
gcc (GCC) 10.3.1
GNU Fortran (GCC) 10.3.1
* running under: openEuler 22.03 (LTS-SP1)
* using session charset: UTF-8
* using option ‘--no-vignettes’
* checking for file ‘tLOH/DESCRIPTION’ ... OK
* checking extension type ... Package
* this is package ‘tLOH’ version ‘1.12.0’
* package encoding: UTF-8
* checking package namespace information ... OK
* checking package dependencies ... OK
* checking if this is a source package ... OK
* checking if there is a namespace ... OK
* checking for hidden files and directories ... OK
* checking for portable file names ... OK
* checking for sufficient/correct file permissions ... OK
* checking whether package ‘tLOH’ can be installed ... OK
* checking installed package size ... OK
* checking package directory ... OK
* checking ‘build’ directory ... OK
* checking DESCRIPTION meta-information ... NOTE
License stub is invalid DCF.
* checking top-level files ... OK
* checking for left-over files ... OK
* checking index information ... OK
* checking package subdirectories ... NOTE
Problems with news in ‘NEWS.md’:
No news entries found.
* checking code files for non-ASCII characters ... OK
* checking R files for syntax errors ... OK
* checking whether the package can be loaded ... OK
* checking whether the package can be loaded with stated dependencies ... OK
* checking whether the package can be unloaded cleanly ... OK
* checking whether the namespace can be loaded with stated dependencies ... OK
* checking whether the namespace can be unloaded cleanly ... OK
* checking loading without being on the library search path ... OK
* checking dependencies in R code ... OK
* checking S3 generic/method consistency ... OK
* checking replacement functions ... OK
* checking foreign function calls ... OK
* checking R code for possible problems ... OK
* checking Rd files ... OK
* checking Rd metadata ... OK
* checking Rd cross-references ... OK
* checking for missing documentation entries ... OK
* checking for code/documentation mismatches ... OK
* checking Rd \usage sections ... OK
* checking Rd contents ... OK
* checking for unstated dependencies in examples ... OK
* checking contents of ‘data’ directory ... OK
* checking data for non-ASCII characters ... OK
* checking data for ASCII and uncompressed saves ... OK
* checking files in ‘vignettes’ ... OK
* checking examples ... OK
Examples with CPU (user + system) or elapsed time > 5s
user system elapsed
hiddenMarkovAnalysis 96.169 1.001 109.087
regionAnalysis 72.900 0.284 73.332
runHMM_3 66.360 0.343 66.841
runHMM_2 64.785 0.220 65.137
runHMM_1 39.704 0.132 39.912
prepareHMMdataframes 35.769 0.152 35.998
tLOHCalcUpdate 34.933 0.104 35.109
splitByChromosome 34.690 0.056 34.813
alleleFrequencyPlot 10.350 0.279 10.659
aggregateCHRPlot 8.939 0.479 9.441
tLOHCalc 6.693 0.020 6.728
* checking for unstated dependencies in vignettes ... OK
* checking package vignettes ... OK
* checking running R code from vignettes ... SKIPPED
* checking re-building of vignette outputs ... SKIPPED
* checking PDF version of manual ... OK
* DONE
Status: 2 NOTEs
See
‘/home/biocbuild/bbs-3.19-bioc/meat/tLOH.Rcheck/00check.log’
for details.
tLOH.Rcheck/00install.out
############################################################################## ############################################################################## ### ### Running command: ### ### /home/biocbuild/R/R-beta-2024-04-15_r86425/bin/R CMD INSTALL tLOH ### ############################################################################## ############################################################################## * installing to library ‘/home/biocbuild/R/R-beta-2024-04-15_r86425/site-library’ * installing *source* package ‘tLOH’ ... ** using staged installation ** R ** data ** inst ** byte-compile and prepare package for lazy loading ** help *** installing help indices ** building package indices ** installing vignettes ** testing if installed package can be loaded from temporary location ** testing if installed package can be loaded from final location ** testing if installed package keeps a record of temporary installation path * DONE (tLOH)
tLOH.Rcheck/tLOH-Ex.timings
| name | user | system | elapsed | |
| aggregateCHRPlot | 8.939 | 0.479 | 9.441 | |
| alleleFrequencyPlot | 10.350 | 0.279 | 10.659 | |
| documentErrorRegions | 0.001 | 0.002 | 0.003 | |
| hiddenMarkovAnalysis | 96.169 | 1.001 | 109.087 | |
| humanGBMsampleAC | 0.040 | 0.000 | 0.039 | |
| initialStartProbabilities | 0.001 | 0.000 | 0.001 | |
| marginalLikelihoodM1 | 0.003 | 0.000 | 0.003 | |
| marginalLikelihoodM2 | 0.002 | 0.000 | 0.002 | |
| marginalM1Calc | 0 | 0 | 0 | |
| marginalM2CalcBHET | 0.002 | 0.000 | 0.002 | |
| marginalM2CalcBLOH | 0.002 | 0.000 | 0.002 | |
| modePeakCalc | 0.001 | 0.000 | 0.001 | |
| prepareHMMdataframes | 35.769 | 0.152 | 35.998 | |
| regionAnalysis | 72.900 | 0.284 | 73.332 | |
| regionFinalize | 0 | 0 | 0 | |
| removeOutlierFromCalc | 0.001 | 0.000 | 0.001 | |
| runHMM_1 | 39.704 | 0.132 | 39.912 | |
| runHMM_2 | 64.785 | 0.220 | 65.137 | |
| runHMM_3 | 66.360 | 0.343 | 66.841 | |
| splitByChromosome | 34.690 | 0.056 | 34.813 | |
| summarizeRegions1 | 0.000 | 0.000 | 0.001 | |
| summarizeRegions2 | 0 | 0 | 0 | |
| tLOHCalc | 6.693 | 0.020 | 6.728 | |
| tLOHCalcUpdate | 34.933 | 0.104 | 35.109 | |
| tLOHDataImport | 0 | 0 | 0 | |