| Back to Multiple platform build/check report for BioC 3.19: simplified long |
|
This page was generated on 2024-10-18 20:40 -0400 (Fri, 18 Oct 2024).
| Hostname | OS | Arch (*) | R version | Installed pkgs |
|---|---|---|---|---|
| nebbiolo1 | Linux (Ubuntu 22.04.3 LTS) | x86_64 | 4.4.1 (2024-06-14) -- "Race for Your Life" | 4763 |
| palomino7 | Windows Server 2022 Datacenter | x64 | 4.4.1 (2024-06-14 ucrt) -- "Race for Your Life" | 4500 |
| merida1 | macOS 12.7.5 Monterey | x86_64 | 4.4.1 (2024-06-14) -- "Race for Your Life" | 4530 |
| kjohnson1 | macOS 13.6.6 Ventura | arm64 | 4.4.1 (2024-06-14) -- "Race for Your Life" | 4480 |
| Click on any hostname to see more info about the system (e.g. compilers) (*) as reported by 'uname -p', except on Windows and Mac OS X | ||||
| Package 2050/2300 | Hostname | OS / Arch | INSTALL | BUILD | CHECK | BUILD BIN | ||||||||
| spiky 1.10.0 (landing page) Tim Triche
| nebbiolo1 | Linux (Ubuntu 22.04.3 LTS) / x86_64 | OK | OK | OK | |||||||||
| palomino7 | Windows Server 2022 Datacenter / x64 | OK | OK | OK | OK | |||||||||
| merida1 | macOS 12.7.5 Monterey / x86_64 | OK | OK | OK | OK | |||||||||
| kjohnson1 | macOS 13.6.6 Ventura / arm64 | OK | OK | OK | NA | |||||||||
|
To the developers/maintainers of the spiky package: - Allow up to 24 hours (and sometimes 48 hours) for your latest push to git@git.bioconductor.org:packages/spiky.git to reflect on this report. See Troubleshooting Build Report for more information. - Use the following Renviron settings to reproduce errors and warnings. - If 'R CMD check' started to fail recently on the Linux builder(s) over a missing dependency, add the missing dependency to 'Suggests:' in your DESCRIPTION file. See Renviron.bioc for more information. |
| Package: spiky |
| Version: 1.10.0 |
| Command: E:\biocbuild\bbs-3.19-bioc\R\bin\R.exe CMD check --no-multiarch --install=check:spiky.install-out.txt --library=E:\biocbuild\bbs-3.19-bioc\R\library --no-vignettes --timings spiky_1.10.0.tar.gz |
| StartedAt: 2024-10-17 06:05:50 -0400 (Thu, 17 Oct 2024) |
| EndedAt: 2024-10-17 06:12:42 -0400 (Thu, 17 Oct 2024) |
| EllapsedTime: 412.3 seconds |
| RetCode: 0 |
| Status: OK |
| CheckDir: spiky.Rcheck |
| Warnings: 0 |
##############################################################################
##############################################################################
###
### Running command:
###
### E:\biocbuild\bbs-3.19-bioc\R\bin\R.exe CMD check --no-multiarch --install=check:spiky.install-out.txt --library=E:\biocbuild\bbs-3.19-bioc\R\library --no-vignettes --timings spiky_1.10.0.tar.gz
###
##############################################################################
##############################################################################
* using log directory 'E:/biocbuild/bbs-3.19-bioc/meat/spiky.Rcheck'
* using R version 4.4.1 (2024-06-14 ucrt)
* using platform: x86_64-w64-mingw32
* R was compiled by
gcc.exe (GCC) 13.2.0
GNU Fortran (GCC) 13.2.0
* running under: Windows Server 2022 x64 (build 20348)
* using session charset: UTF-8
* using option '--no-vignettes'
* checking for file 'spiky/DESCRIPTION' ... OK
* checking extension type ... Package
* this is package 'spiky' version '1.10.0'
* package encoding: UTF-8
* checking package namespace information ... OK
* checking package dependencies ... OK
* checking if this is a source package ... OK
* checking if there is a namespace ... OK
* checking for hidden files and directories ... OK
* checking for portable file names ... OK
* checking whether package 'spiky' can be installed ... OK
* checking installed package size ... NOTE
installed size is 16.3Mb
sub-directories of 1Mb or more:
data 3.1Mb
extdata 12.9Mb
* checking package directory ... OK
* checking 'build' directory ... OK
* checking DESCRIPTION meta-information ... OK
* checking top-level files ... OK
* checking for left-over files ... OK
* checking index information ... OK
* checking package subdirectories ... OK
* checking code files for non-ASCII characters ... OK
* checking R files for syntax errors ... OK
* checking whether the package can be loaded ... OK
* checking whether the package can be loaded with stated dependencies ... OK
* checking whether the package can be unloaded cleanly ... OK
* checking whether the namespace can be loaded with stated dependencies ... OK
* checking whether the namespace can be unloaded cleanly ... OK
* checking dependencies in R code ... OK
* checking S3 generic/method consistency ... OK
* checking replacement functions ... OK
* checking foreign function calls ... OK
* checking R code for possible problems ... NOTE
.toGRs: warning in grep("(chrom|seqnames|start|end)1", colnames(x), val
= TRUE): partial argument match of 'val' to 'value'
.toGRs: warning in grep("(chrom|seqnames|start|end)2", colnames(x), val
= TRUE): partial argument match of 'val' to 'value'
* checking Rd files ... OK
* checking Rd metadata ... OK
* checking Rd cross-references ... OK
* checking for missing documentation entries ... OK
* checking for code/documentation mismatches ... OK
* checking Rd \usage sections ... OK
* checking Rd contents ... OK
* checking for unstated dependencies in examples ... OK
* checking contents of 'data' directory ... OK
* checking data for non-ASCII characters ... OK
* checking LazyData ... OK
* checking data for ASCII and uncompressed saves ... OK
* checking files in 'vignettes' ... OK
* checking examples ... OK
Examples with CPU (user + system) or elapsed time > 5s
user system elapsed
scan_genomic_bedpe 20.39 0.67 21.08
scan_genomic_contigs 16.08 2.14 19.75
bin_pmol 11.00 3.75 58.94
predict_pmol 6.33 1.34 7.67
scan_spike_bedpe 7.00 0.23 7.32
model_bam_standards 6.61 0.27 6.89
* checking for unstated dependencies in vignettes ... OK
* checking package vignettes ... OK
* checking running R code from vignettes ... SKIPPED
* checking re-building of vignette outputs ... SKIPPED
* checking PDF version of manual ... OK
* DONE
Status: 2 NOTEs
See
'E:/biocbuild/bbs-3.19-bioc/meat/spiky.Rcheck/00check.log'
for details.
spiky.Rcheck/00install.out
############################################################################## ############################################################################## ### ### Running command: ### ### E:\biocbuild\bbs-3.19-bioc\R\bin\R.exe CMD INSTALL spiky ### ############################################################################## ############################################################################## * installing to library 'E:/biocbuild/bbs-3.19-bioc/R/library' * installing *source* package 'spiky' ... ** using staged installation ** R ** data *** moving datasets to lazyload DB ** inst ** byte-compile and prepare package for lazy loading ** help *** installing help indices ** building package indices ** installing vignettes ** testing if installed package can be loaded from temporary location ** testing if installed package can be loaded from final location ** testing if installed package keeps a record of temporary installation path * DONE (spiky)
spiky.Rcheck/spiky-Ex.timings
| name | user | system | elapsed | |
| add_frag_info | 0.19 | 0.03 | 0.26 | |
| bam_to_bins | 0.22 | 0.01 | 0.25 | |
| bin_pmol | 11.00 | 3.75 | 58.94 | |
| covg_to_df | 0.13 | 0.00 | 0.12 | |
| find_spike_contigs | 0.03 | 0.00 | 0.06 | |
| generate_spike_fasta | 0.20 | 0.00 | 0.21 | |
| get_base_name | 0.02 | 0.00 | 0.01 | |
| get_binned_coverage | 0.29 | 0.04 | 0.47 | |
| get_merged_gr | 0.08 | 0.03 | 0.11 | |
| get_spike_depth | 0.44 | 0.01 | 0.45 | |
| get_spiked_coverage | 0.20 | 0.00 | 0.21 | |
| kmax | 0.05 | 0.00 | 0.04 | |
| kmers | 0.05 | 0.00 | 0.05 | |
| methylation_specificity | 0.09 | 0.03 | 0.13 | |
| model_bam_standards | 6.61 | 0.27 | 6.89 | |
| model_glm_pmol | 0.09 | 0.02 | 0.11 | |
| predict_pmol | 6.33 | 1.34 | 7.67 | |
| process_spikes | 0.17 | 0.03 | 0.20 | |
| read_bedpe | 0 | 0 | 0 | |
| scan_genomic_bedpe | 20.39 | 0.67 | 21.08 | |
| scan_genomic_contigs | 16.08 | 2.14 | 19.75 | |
| scan_methylation_specificity | 0.02 | 0.02 | 0.03 | |
| scan_spike_bedpe | 7.00 | 0.23 | 7.32 | |
| scan_spike_contigs | 0.47 | 0.05 | 0.52 | |
| scan_spike_counts | 0.07 | 0.02 | 0.09 | |
| scan_spiked_bam | 0.66 | 0.01 | 0.67 | |
| seqinfo_from_header | 0.13 | 0.03 | 0.16 | |
| spike_bland_altman_plot | 0.12 | 0.02 | 0.16 | |
| spike_counts | 0.05 | 0.00 | 0.04 | |
| tile_bins | 0.03 | 0.01 | 0.05 | |