| Back to Multiple platform build/check report for BioC 3.19: simplified long |
|
This page was generated on 2024-10-18 20:41 -0400 (Fri, 18 Oct 2024).
| Hostname | OS | Arch (*) | R version | Installed pkgs |
|---|---|---|---|---|
| nebbiolo1 | Linux (Ubuntu 22.04.3 LTS) | x86_64 | 4.4.1 (2024-06-14) -- "Race for Your Life" | 4763 |
| palomino7 | Windows Server 2022 Datacenter | x64 | 4.4.1 (2024-06-14 ucrt) -- "Race for Your Life" | 4500 |
| merida1 | macOS 12.7.5 Monterey | x86_64 | 4.4.1 (2024-06-14) -- "Race for Your Life" | 4530 |
| kjohnson1 | macOS 13.6.6 Ventura | arm64 | 4.4.1 (2024-06-14) -- "Race for Your Life" | 4480 |
| Click on any hostname to see more info about the system (e.g. compilers) (*) as reported by 'uname -p', except on Windows and Mac OS X | ||||
| Package 1970/2300 | Hostname | OS / Arch | INSTALL | BUILD | CHECK | BUILD BIN | ||||||||
| signatureSearch 1.18.0 (landing page) Brendan Gongol
| nebbiolo1 | Linux (Ubuntu 22.04.3 LTS) / x86_64 | OK | OK | OK | |||||||||
| palomino7 | Windows Server 2022 Datacenter / x64 | OK | OK | OK | OK | |||||||||
| merida1 | macOS 12.7.5 Monterey / x86_64 | OK | OK | OK | OK | |||||||||
| kjohnson1 | macOS 13.6.6 Ventura / arm64 | OK | OK | OK | NA | |||||||||
|
To the developers/maintainers of the signatureSearch package: - Allow up to 24 hours (and sometimes 48 hours) for your latest push to git@git.bioconductor.org:packages/signatureSearch.git to reflect on this report. See Troubleshooting Build Report for more information. - Use the following Renviron settings to reproduce errors and warnings. - If 'R CMD check' started to fail recently on the Linux builder(s) over a missing dependency, add the missing dependency to 'Suggests:' in your DESCRIPTION file. See Renviron.bioc for more information. |
| Package: signatureSearch |
| Version: 1.18.0 |
| Command: /Library/Frameworks/R.framework/Resources/bin/R CMD check --install=check:signatureSearch.install-out.txt --library=/Library/Frameworks/R.framework/Resources/library --no-vignettes --timings signatureSearch_1.18.0.tar.gz |
| StartedAt: 2024-10-17 13:13:03 -0400 (Thu, 17 Oct 2024) |
| EndedAt: 2024-10-17 13:30:29 -0400 (Thu, 17 Oct 2024) |
| EllapsedTime: 1046.4 seconds |
| RetCode: 0 |
| Status: OK |
| CheckDir: signatureSearch.Rcheck |
| Warnings: 0 |
##############################################################################
##############################################################################
###
### Running command:
###
### /Library/Frameworks/R.framework/Resources/bin/R CMD check --install=check:signatureSearch.install-out.txt --library=/Library/Frameworks/R.framework/Resources/library --no-vignettes --timings signatureSearch_1.18.0.tar.gz
###
##############################################################################
##############################################################################
* using log directory ‘/Users/biocbuild/bbs-3.19-bioc/meat/signatureSearch.Rcheck’
* using R version 4.4.1 (2024-06-14)
* using platform: x86_64-apple-darwin20
* R was compiled by
Apple clang version 14.0.0 (clang-1400.0.29.202)
GNU Fortran (GCC) 12.2.0
* running under: macOS Monterey 12.7.6
* using session charset: UTF-8
* using option ‘--no-vignettes’
* checking for file ‘signatureSearch/DESCRIPTION’ ... OK
* this is package ‘signatureSearch’ version ‘1.18.0’
* package encoding: UTF-8
* checking package namespace information ... OK
* checking package dependencies ... OK
* checking if this is a source package ... OK
* checking if there is a namespace ... OK
* checking for hidden files and directories ... OK
* checking for portable file names ... OK
* checking for sufficient/correct file permissions ... OK
* checking whether package ‘signatureSearch’ can be installed ... OK
* used C compiler: ‘Apple clang version 14.0.0 (clang-1400.0.29.202)’
* used C++ compiler: ‘Apple clang version 14.0.0 (clang-1400.0.29.202)’
* used SDK: ‘MacOSX11.3.sdk’
* checking C++ specification ... NOTE
Specified C++11: please drop specification unless essential
* checking installed package size ... NOTE
installed size is 87.1Mb
sub-directories of 1Mb or more:
R 82.8Mb
data 2.0Mb
extdata 1.9Mb
* checking package directory ... OK
* checking ‘build’ directory ... OK
* checking DESCRIPTION meta-information ... OK
* checking top-level files ... OK
* checking for left-over files ... OK
* checking index information ... OK
* checking package subdirectories ... OK
* checking code files for non-ASCII characters ... OK
* checking R files for syntax errors ... OK
* checking whether the package can be loaded ... OK
* checking whether the package can be loaded with stated dependencies ... OK
* checking whether the package can be unloaded cleanly ... OK
* checking whether the namespace can be loaded with stated dependencies ... OK
* checking whether the namespace can be unloaded cleanly ... OK
* checking dependencies in R code ... OK
* checking S3 generic/method consistency ... OK
* checking replacement functions ... OK
* checking foreign function calls ... OK
* checking R code for possible problems ... OK
* checking Rd files ... OK
* checking Rd metadata ... OK
* checking Rd cross-references ... OK
* checking for missing documentation entries ... OK
* checking for code/documentation mismatches ... OK
* checking Rd \usage sections ... OK
* checking Rd contents ... OK
* checking for unstated dependencies in examples ... OK
* checking contents of ‘data’ directory ... OK
* checking data for non-ASCII characters ... NOTE
Note: found 147 marked UTF-8 strings
* checking data for ASCII and uncompressed saves ... OK
* checking R/sysdata.rda ... OK
* checking line endings in C/C++/Fortran sources/headers ... OK
* checking compiled code ... NOTE
Note: information on .o files is not available
* checking files in ‘vignettes’ ... OK
* checking examples ... OK
Examples with CPU (user + system) or elapsed time > 5s
user system elapsed
set_readable 152.029 5.790 179.208
rand_query_ES 11.650 4.607 17.668
runWF 12.888 1.600 17.056
addGESSannot 8.440 1.838 13.381
* checking for unstated dependencies in ‘tests’ ... OK
* checking tests ...
Running ‘testthat.R’
OK
* checking for unstated dependencies in vignettes ... OK
* checking package vignettes ... OK
* checking running R code from vignettes ... SKIPPED
* checking re-building of vignette outputs ... SKIPPED
* checking PDF version of manual ... OK
* DONE
Status: 4 NOTEs
See
‘/Users/biocbuild/bbs-3.19-bioc/meat/signatureSearch.Rcheck/00check.log’
for details.
signatureSearch.Rcheck/00install.out
############################################################################## ############################################################################## ### ### Running command: ### ### /Library/Frameworks/R.framework/Resources/bin/R CMD INSTALL signatureSearch ### ############################################################################## ############################################################################## * installing to library ‘/Library/Frameworks/R.framework/Versions/4.4-x86_64/Resources/library’ * installing *source* package ‘signatureSearch’ ... ** using staged installation ** libs using C compiler: ‘Apple clang version 14.0.0 (clang-1400.0.29.202)’ using C++ compiler: ‘Apple clang version 14.0.0 (clang-1400.0.29.202)’ using C++11 using SDK: ‘MacOSX11.3.sdk’ clang++ -arch x86_64 -std=gnu++11 -I"/Library/Frameworks/R.framework/Resources/include" -DNDEBUG -I'/Library/Frameworks/R.framework/Versions/4.4-x86_64/Resources/library/Rcpp/include' -I/opt/R/x86_64/include -fPIC -falign-functions=64 -Wall -g -O2 -c RcppExports.cpp -o RcppExports.o clang++ -arch x86_64 -std=gnu++11 -I"/Library/Frameworks/R.framework/Resources/include" -DNDEBUG -I'/Library/Frameworks/R.framework/Versions/4.4-x86_64/Resources/library/Rcpp/include' -I/opt/R/x86_64/include -fPIC -falign-functions=64 -Wall -g -O2 -c fastGSEA.cpp -o fastGSEA.o clang -arch x86_64 -I"/Library/Frameworks/R.framework/Resources/include" -DNDEBUG -I'/Library/Frameworks/R.framework/Versions/4.4-x86_64/Resources/library/Rcpp/include' -I/opt/R/x86_64/include -fPIC -falign-functions=64 -Wall -g -O2 -c fgsea_init.c -o fgsea_init.o clang++ -arch x86_64 -std=gnu++11 -dynamiclib -Wl,-headerpad_max_install_names -undefined dynamic_lookup -L/Library/Frameworks/R.framework/Resources/lib -L/opt/R/x86_64/lib -o signatureSearch.so RcppExports.o fastGSEA.o fgsea_init.o -F/Library/Frameworks/R.framework/.. -framework R -Wl,-framework -Wl,CoreFoundation installing to /Library/Frameworks/R.framework/Versions/4.4-x86_64/Resources/library/00LOCK-signatureSearch/00new/signatureSearch/libs ** R ** data ** inst ** byte-compile and prepare package for lazy loading ** help *** installing help indices ** building package indices ** installing vignettes ** testing if installed package can be loaded from temporary location ** checking absolute paths in shared objects and dynamic libraries ** testing if installed package can be loaded from final location ** testing if installed package keeps a record of temporary installation path * DONE (signatureSearch)
signatureSearch.Rcheck/tests/testthat.Rout
R version 4.4.1 (2024-06-14) -- "Race for Your Life"
Copyright (C) 2024 The R Foundation for Statistical Computing
Platform: x86_64-apple-darwin20
R is free software and comes with ABSOLUTELY NO WARRANTY.
You are welcome to redistribute it under certain conditions.
Type 'license()' or 'licence()' for distribution details.
R is a collaborative project with many contributors.
Type 'contributors()' for more information and
'citation()' on how to cite R or R packages in publications.
Type 'demo()' for some demos, 'help()' for on-line help, or
'help.start()' for an HTML browser interface to help.
Type 'q()' to quit R.
> # library(testthat)
> # library(signatureSearch)
> #
> # test_check("signatureSearch")
>
> proc.time()
user system elapsed
0.369 0.120 0.482
signatureSearch.Rcheck/signatureSearch-Ex.timings
| name | user | system | elapsed | |
| addGESSannot | 8.440 | 1.838 | 13.381 | |
| addMOA | 0.613 | 0.064 | 0.772 | |
| add_pcid | 0.501 | 0.012 | 0.573 | |
| append2H5 | 0.154 | 0.028 | 0.209 | |
| build_custom_db | 0.608 | 0.133 | 0.926 | |
| cellNtestPlot | 1.407 | 0.243 | 2.013 | |
| cell_info | 0.114 | 0.007 | 0.138 | |
| cell_info2 | 0.080 | 0.007 | 0.107 | |
| chembl_moa_list | 0.014 | 0.007 | 0.025 | |
| clue_moa_list | 0.015 | 0.006 | 0.021 | |
| comp_fea_res | 0.355 | 0.004 | 0.395 | |
| create_empty_h5 | 0.042 | 0.003 | 0.050 | |
| dim-methods | 0.012 | 0.001 | 0.014 | |
| drug_cell_ranks | 0.018 | 0.001 | 0.021 | |
| drugs-methods | 0.004 | 0.000 | 0.006 | |
| drugs10 | 0.002 | 0.004 | 0.007 | |
| dtnetplot | 3.443 | 0.256 | 4.599 | |
| enrichGO2 | 0.000 | 0.000 | 0.001 | |
| enrichKEGG2 | 0.001 | 0.001 | 0.001 | |
| enrichMOA | 0.077 | 0.009 | 0.095 | |
| enrichReactome | 0.000 | 0.001 | 0.000 | |
| fea | 0.003 | 0.006 | 0.012 | |
| feaResult | 0.004 | 0.001 | 0.007 | |
| gctx2h5 | 1.143 | 0.490 | 1.891 | |
| gess | 0.002 | 0.002 | 0.005 | |
| gessResult | 0.004 | 0.001 | 0.005 | |
| gess_res_vis | 0.928 | 0.011 | 1.040 | |
| getSig | 2.392 | 0.265 | 3.189 | |
| getTreats | 0.912 | 0.100 | 1.292 | |
| get_targets | 3.192 | 0.227 | 4.122 | |
| gmt2h5 | 0.209 | 0.054 | 0.300 | |
| gseGO2 | 0.003 | 0.004 | 0.008 | |
| gseKEGG2 | 0.019 | 0.001 | 0.023 | |
| gseReactome | 0.019 | 0.002 | 0.023 | |
| head-methods | 0.013 | 0.002 | 0.018 | |
| lincs_expr_inst_info | 0.122 | 0.005 | 0.141 | |
| lincs_pert_info | 0.606 | 0.016 | 0.716 | |
| lincs_pert_info2 | 2.329 | 0.031 | 2.700 | |
| lincs_sig_info | 0.144 | 0.004 | 0.165 | |
| list2df | 0.004 | 0.001 | 0.005 | |
| list_rev | 0.003 | 0.000 | 0.004 | |
| mabsGO | 0.004 | 0.005 | 0.008 | |
| mabsKEGG | 0.019 | 0.002 | 0.024 | |
| mabsReactome | 0.020 | 0.002 | 0.022 | |
| matrix2h5 | 0.122 | 0.010 | 0.141 | |
| meanExpr2h5 | 1.219 | 0.464 | 1.943 | |
| moa_conn | 0.072 | 0.006 | 0.087 | |
| parse_gctx | 0.143 | 0.008 | 0.163 | |
| qSig | 1.822 | 0.235 | 2.590 | |
| rand_query_ES | 11.650 | 4.607 | 17.668 | |
| read_gmt | 0.005 | 0.005 | 0.011 | |
| result-methods | 0.069 | 0.024 | 0.095 | |
| runWF | 12.888 | 1.600 | 17.056 | |
| set_readable | 152.029 | 5.790 | 179.208 | |
| show-methods | 0.070 | 0.003 | 0.085 | |
| sim_score_grp | 0.021 | 0.001 | 0.025 | |
| tail-methods | 0.014 | 0.002 | 0.017 | |
| tarReduce | 0.001 | 0.000 | 0.003 | |
| targetList | 0.006 | 0.005 | 0.011 | |
| vec_char_redu | 0.000 | 0.000 | 0.001 | |