| Back to Multiple platform build/check report for BioC 3.19: simplified long |
|
This page was generated on 2024-06-28 17:42 -0400 (Fri, 28 Jun 2024).
| Hostname | OS | Arch (*) | R version | Installed pkgs |
|---|---|---|---|---|
| nebbiolo1 | Linux (Ubuntu 22.04.3 LTS) | x86_64 | 4.4.0 (2024-04-24) -- "Puppy Cup" | 4760 |
| palomino3 | Windows Server 2022 Datacenter | x64 | 4.4.0 (2024-04-24 ucrt) -- "Puppy Cup" | 4494 |
| merida1 | macOS 12.7.4 Monterey | x86_64 | 4.4.0 (2024-04-24) -- "Puppy Cup" | 4508 |
| kjohnson1 | macOS 13.6.6 Ventura | arm64 | 4.4.0 (2024-04-24) -- "Puppy Cup" | 4466 |
| palomino7 | Windows Server 2022 Datacenter | x64 | 4.4.1 (2024-06-14 ucrt) -- "Race for Your Life" | 4362 |
| Click on any hostname to see more info about the system (e.g. compilers) (*) as reported by 'uname -p', except on Windows and Mac OS X | ||||
| Package 1940/2300 | Hostname | OS / Arch | INSTALL | BUILD | CHECK | BUILD BIN | ||||||||
| seqArchRplus 1.4.0 (landing page) Sarvesh Nikumbh
| nebbiolo1 | Linux (Ubuntu 22.04.3 LTS) / x86_64 | OK | OK | OK | |||||||||
| palomino3 | Windows Server 2022 Datacenter / x64 | OK | OK | OK | OK | |||||||||
| merida1 | macOS 12.7.4 Monterey / x86_64 | OK | OK | OK | OK | |||||||||
| kjohnson1 | macOS 13.6.6 Ventura / arm64 | OK | OK | OK | OK | |||||||||
| palomino7 | Windows Server 2022 Datacenter / x64 | ERROR | ERROR | skipped | skipped | |||||||||
|
To the developers/maintainers of the seqArchRplus package: - Allow up to 24 hours (and sometimes 48 hours) for your latest push to git@git.bioconductor.org:packages/seqArchRplus.git to reflect on this report. See Troubleshooting Build Report for more information. - Use the following Renviron settings to reproduce errors and warnings. - If 'R CMD check' started to fail recently on the Linux builder(s) over a missing dependency, add the missing dependency to 'Suggests:' in your DESCRIPTION file. See Renviron.bioc for more information. |
| Package: seqArchRplus |
| Version: 1.4.0 |
| Command: F:\biocbuild\bbs-3.19-bioc\R\bin\R.exe CMD check --no-multiarch --install=check:seqArchRplus.install-out.txt --library=F:\biocbuild\bbs-3.19-bioc\R\library --no-vignettes --timings seqArchRplus_1.4.0.tar.gz |
| StartedAt: 2024-06-27 06:05:33 -0400 (Thu, 27 Jun 2024) |
| EndedAt: 2024-06-27 06:12:33 -0400 (Thu, 27 Jun 2024) |
| EllapsedTime: 419.9 seconds |
| RetCode: 0 |
| Status: OK |
| CheckDir: seqArchRplus.Rcheck |
| Warnings: 0 |
##############################################################################
##############################################################################
###
### Running command:
###
### F:\biocbuild\bbs-3.19-bioc\R\bin\R.exe CMD check --no-multiarch --install=check:seqArchRplus.install-out.txt --library=F:\biocbuild\bbs-3.19-bioc\R\library --no-vignettes --timings seqArchRplus_1.4.0.tar.gz
###
##############################################################################
##############################################################################
* using log directory 'F:/biocbuild/bbs-3.19-bioc/meat/seqArchRplus.Rcheck'
* using R version 4.4.0 (2024-04-24 ucrt)
* using platform: x86_64-w64-mingw32
* R was compiled by
gcc.exe (GCC) 13.2.0
GNU Fortran (GCC) 13.2.0
* running under: Windows Server 2022 x64 (build 20348)
* using session charset: UTF-8
* using option '--no-vignettes'
* checking for file 'seqArchRplus/DESCRIPTION' ... OK
* checking extension type ... Package
* this is package 'seqArchRplus' version '1.4.0'
* package encoding: UTF-8
* checking package namespace information ... OK
* checking package dependencies ... OK
* checking if this is a source package ... OK
* checking if there is a namespace ... OK
* checking for hidden files and directories ... OK
* checking for portable file names ... OK
* checking whether package 'seqArchRplus' can be installed ... OK
* checking installed package size ... OK
* checking package directory ... OK
* checking 'build' directory ... OK
* checking DESCRIPTION meta-information ... OK
* checking top-level files ... OK
* checking for left-over files ... OK
* checking index information ... OK
* checking package subdirectories ... OK
* checking code files for non-ASCII characters ... OK
* checking R files for syntax errors ... OK
* checking whether the package can be loaded ... OK
* checking whether the package can be loaded with stated dependencies ... OK
* checking whether the package can be unloaded cleanly ... OK
* checking whether the namespace can be loaded with stated dependencies ... OK
* checking whether the namespace can be unloaded cleanly ... OK
* checking whether startup messages can be suppressed ... OK
* checking dependencies in R code ... OK
* checking S3 generic/method consistency ... OK
* checking replacement functions ... OK
* checking foreign function calls ... OK
* checking R code for possible problems ... OK
* checking Rd files ... OK
* checking Rd metadata ... OK
* checking Rd cross-references ... OK
* checking for missing documentation entries ... OK
* checking for code/documentation mismatches ... OK
* checking Rd \usage sections ... OK
* checking Rd contents ... OK
* checking for unstated dependencies in examples ... OK
* checking files in 'vignettes' ... OK
* checking examples ... OK
Examples with CPU (user + system) or elapsed time > 5s
user system elapsed
per_cluster_go_term_enrichments 59.22 4.37 101.02
generate_all_plots 49.31 3.15 52.65
curate_clusters 11.23 1.06 11.72
per_cluster_annotations 10.25 0.52 10.77
plot_motif_heatmaps2 4.73 1.40 6.28
handle_tc_from_cage 0.92 0.30 5.20
* checking for unstated dependencies in vignettes ... OK
* checking package vignettes ... OK
* checking running R code from vignettes ... SKIPPED
* checking re-building of vignette outputs ... SKIPPED
* checking PDF version of manual ... OK
* DONE
Status: OK
seqArchRplus.Rcheck/00install.out
############################################################################## ############################################################################## ### ### Running command: ### ### F:\biocbuild\bbs-3.19-bioc\R\bin\R.exe CMD INSTALL seqArchRplus ### ############################################################################## ############################################################################## * installing to library 'F:/biocbuild/bbs-3.19-bioc/R/library' * installing *source* package 'seqArchRplus' ... ** using staged installation ** R ** inst ** byte-compile and prepare package for lazy loading ** help *** installing help indices ** building package indices ** installing vignettes ** testing if installed package can be loaded from temporary location ** testing if installed package can be loaded from final location ** testing if installed package keeps a record of temporary installation path * DONE (seqArchRplus)
seqArchRplus.Rcheck/seqArchRplus-Ex.timings
| name | user | system | elapsed | |
| curate_clusters | 11.23 | 1.06 | 11.72 | |
| generate_all_plots | 49.31 | 3.15 | 52.65 | |
| generate_html_report | 0.02 | 0.00 | 0.02 | |
| handle_tc_from_cage | 0.92 | 0.30 | 5.20 | |
| iqw_tpm_plots | 0.69 | 0.07 | 0.77 | |
| order_clusters_iqw | 0.01 | 0.00 | 0.02 | |
| per_cluster_annotations | 10.25 | 0.52 | 10.77 | |
| per_cluster_go_term_enrichments | 59.22 | 4.37 | 101.02 | |
| per_cluster_seqlogos | 2.16 | 0.17 | 2.37 | |
| per_cluster_strand_dist | 1.20 | 0.02 | 1.21 | |
| plot_motif_heatmaps | 1.50 | 0.25 | 1.76 | |
| plot_motif_heatmaps2 | 4.73 | 1.40 | 6.28 | |
| seqs_acgt_image | 2.15 | 0.04 | 2.19 | |
| write_seqArchR_cluster_track_bed | 0.08 | 0.01 | 0.09 | |