| Back to Multiple platform build/check report for BioC 3.19: simplified long |
|
This page was generated on 2024-10-18 20:41 -0400 (Fri, 18 Oct 2024).
| Hostname | OS | Arch (*) | R version | Installed pkgs |
|---|---|---|---|---|
| nebbiolo1 | Linux (Ubuntu 22.04.3 LTS) | x86_64 | 4.4.1 (2024-06-14) -- "Race for Your Life" | 4763 |
| palomino7 | Windows Server 2022 Datacenter | x64 | 4.4.1 (2024-06-14 ucrt) -- "Race for Your Life" | 4500 |
| merida1 | macOS 12.7.5 Monterey | x86_64 | 4.4.1 (2024-06-14) -- "Race for Your Life" | 4530 |
| kjohnson1 | macOS 13.6.6 Ventura | arm64 | 4.4.1 (2024-06-14) -- "Race for Your Life" | 4480 |
| Click on any hostname to see more info about the system (e.g. compilers) (*) as reported by 'uname -p', except on Windows and Mac OS X | ||||
| Package 1906/2300 | Hostname | OS / Arch | INSTALL | BUILD | CHECK | BUILD BIN | ||||||||
| scone 1.28.0 (landing page) Davide Risso
| nebbiolo1 | Linux (Ubuntu 22.04.3 LTS) / x86_64 | OK | OK | OK | |||||||||
| palomino7 | Windows Server 2022 Datacenter / x64 | OK | OK | OK | OK | |||||||||
| merida1 | macOS 12.7.5 Monterey / x86_64 | OK | OK | OK | OK | |||||||||
| kjohnson1 | macOS 13.6.6 Ventura / arm64 | OK | OK | OK | NA | |||||||||
|
To the developers/maintainers of the scone package: - Allow up to 24 hours (and sometimes 48 hours) for your latest push to git@git.bioconductor.org:packages/scone.git to reflect on this report. See Troubleshooting Build Report for more information. - Use the following Renviron settings to reproduce errors and warnings. - If 'R CMD check' started to fail recently on the Linux builder(s) over a missing dependency, add the missing dependency to 'Suggests:' in your DESCRIPTION file. See Renviron.bioc for more information. |
| Package: scone |
| Version: 1.28.0 |
| Command: /Library/Frameworks/R.framework/Resources/bin/R CMD check --install=check:scone.install-out.txt --library=/Library/Frameworks/R.framework/Resources/library --no-vignettes --timings scone_1.28.0.tar.gz |
| StartedAt: 2024-10-17 12:44:53 -0400 (Thu, 17 Oct 2024) |
| EndedAt: 2024-10-17 13:07:53 -0400 (Thu, 17 Oct 2024) |
| EllapsedTime: 1380.5 seconds |
| RetCode: 0 |
| Status: OK |
| CheckDir: scone.Rcheck |
| Warnings: 0 |
##############################################################################
##############################################################################
###
### Running command:
###
### /Library/Frameworks/R.framework/Resources/bin/R CMD check --install=check:scone.install-out.txt --library=/Library/Frameworks/R.framework/Resources/library --no-vignettes --timings scone_1.28.0.tar.gz
###
##############################################################################
##############################################################################
* using log directory ‘/Users/biocbuild/bbs-3.19-bioc/meat/scone.Rcheck’
* using R version 4.4.1 (2024-06-14)
* using platform: x86_64-apple-darwin20
* R was compiled by
Apple clang version 14.0.0 (clang-1400.0.29.202)
GNU Fortran (GCC) 12.2.0
* running under: macOS Monterey 12.7.6
* using session charset: UTF-8
* using option ‘--no-vignettes’
* checking for file ‘scone/DESCRIPTION’ ... OK
* this is package ‘scone’ version ‘1.28.0’
* package encoding: UTF-8
* checking package namespace information ... OK
* checking package dependencies ... OK
* checking if this is a source package ... OK
* checking if there is a namespace ... OK
* checking for hidden files and directories ... OK
* checking for portable file names ... OK
* checking for sufficient/correct file permissions ... OK
* checking whether package ‘scone’ can be installed ... OK
* checking installed package size ... OK
* checking package directory ... OK
* checking ‘build’ directory ... OK
* checking DESCRIPTION meta-information ... OK
* checking top-level files ... OK
* checking for left-over files ... OK
* checking index information ... OK
* checking package subdirectories ... OK
* checking code files for non-ASCII characters ... OK
* checking R files for syntax errors ... OK
* checking whether the package can be loaded ... OK
* checking whether the package can be loaded with stated dependencies ... OK
* checking whether the package can be unloaded cleanly ... OK
* checking whether the namespace can be loaded with stated dependencies ... OK
* checking whether the namespace can be unloaded cleanly ... OK
* checking dependencies in R code ... OK
* checking S3 generic/method consistency ... OK
* checking replacement functions ... OK
* checking foreign function calls ... OK
* checking R code for possible problems ... NOTE
sconeReport: no visible global function definition for
‘visNetworkOutput’
sconeReport: no visible global function definition for ‘plotlyOutput’
sconeReport : server: no visible global function definition for
‘renderVisNetwork’
sconeReport : server: no visible global function definition for ‘%>%’
sconeReport : server: no visible global function definition for
‘visNetwork’
sconeReport : server: no visible global function definition for
‘visHierarchicalLayout’
sconeReport : server: no visible global function definition for
‘visGroups’
sconeReport : server: no visible global function definition for
‘visEdges’
sconeReport : server: no visible global function definition for
‘visOptions’
sconeReport : server: no visible global function definition for
‘visLegend’
sconeReport : server: no visible global function definition for
‘visNetworkProxy’
sconeReport : server: no visible global function definition for
‘visSelectNodes’
sconeReport : server: no visible global function definition for
‘plot_ly’
sconeReport : server: no visible global function definition for
‘ggplot’
sconeReport : server: no visible global function definition for ‘aes’
sconeReport : server: no visible global function definition for
‘geom_bar’
sconeReport : server: no visible global function definition for ‘ylim’
sconeReport : server: no visible global function definition for ‘labs’
sconeReport : server: no visible global function definition for ‘theme’
sconeReport : server: no visible global function definition for
‘element_blank’
sconeReport : server: no visible global function definition for
‘ggplotly’
sconeReport : server: no visible global function definition for
‘geom_violin’
sconeReport : server: no visible global function definition for
‘coord_cartesian’
sconeReport : server: no visible global function definition for
‘scale_fill_manual’
sconeReport : server: no visible global function definition for
‘geom_point’
sconeReport : server: no visible global function definition for
‘guides’
Undefined global functions or variables:
%>% aes coord_cartesian element_blank geom_bar geom_point geom_violin
ggplot ggplotly guides labs plot_ly plotlyOutput renderVisNetwork
scale_fill_manual theme visEdges visGroups visHierarchicalLayout
visLegend visNetwork visNetworkOutput visNetworkProxy visOptions
visSelectNodes ylim
* checking Rd files ... NOTE
checkRd: (-1) estimate_ziber.Rd:57: Lost braces; missing escapes or markup?
57 | expression rate (Z in {0,1}). Detection conditioned on expression is a
| ^
checkRd: (-1) estimate_ziber.Rd:42-43: Lost braces in \itemize; \value handles \item{}{} directly
checkRd: (-1) estimate_ziber.Rd:43-44: Lost braces in \itemize; \value handles \item{}{} directly
checkRd: (-1) estimate_ziber.Rd:44: Lost braces in \itemize; \value handles \item{}{} directly
checkRd: (-1) estimate_ziber.Rd:44-45: Lost braces in \itemize; \value handles \item{}{} directly
checkRd: (-1) estimate_ziber.Rd:46: Lost braces in \itemize; \value handles \item{}{} directly
checkRd: (-1) estimate_ziber.Rd:47-48: Lost braces in \itemize; \value handles \item{}{} directly
checkRd: (-1) estimate_ziber.Rd:48-49: Lost braces in \itemize; \value handles \item{}{} directly
checkRd: (-1) estimate_ziber.Rd:49: Lost braces in \itemize; \value handles \item{}{} directly
checkRd: (-1) estimate_ziber.Rd:50-51: Lost braces in \itemize; \value handles \item{}{} directly
checkRd: (-1) fast_estimate_ziber.Rd:59: Lost braces; missing escapes or markup?
59 | expression rate (Z in {0,1}). Detection conditioned on expression is a
| ^
checkRd: (-1) fast_estimate_ziber.Rd:43-44: Lost braces in \itemize; \value handles \item{}{} directly
checkRd: (-1) fast_estimate_ziber.Rd:44-45: Lost braces in \itemize; \value handles \item{}{} directly
checkRd: (-1) fast_estimate_ziber.Rd:45: Lost braces in \itemize; \value handles \item{}{} directly
checkRd: (-1) fast_estimate_ziber.Rd:45-46: Lost braces in \itemize; \value handles \item{}{} directly
checkRd: (-1) fast_estimate_ziber.Rd:47: Lost braces in \itemize; \value handles \item{}{} directly
checkRd: (-1) fast_estimate_ziber.Rd:48-49: Lost braces in \itemize; \value handles \item{}{} directly
checkRd: (-1) fast_estimate_ziber.Rd:49-50: Lost braces in \itemize; \value handles \item{}{} directly
checkRd: (-1) fast_estimate_ziber.Rd:50: Lost braces in \itemize; \value handles \item{}{} directly
checkRd: (-1) fast_estimate_ziber.Rd:51-52: Lost braces in \itemize; \value handles \item{}{} directly
checkRd: (-1) impute_expectation.Rd:23: Lost braces; missing escapes or markup?
23 | y_{ij}* = y_{ij} * Pr( No Drop | y_{ij}) + mu_{i} * Pr( Drop | y_{ij}).
| ^
checkRd: (-1) impute_expectation.Rd:23: Lost braces; missing escapes or markup?
23 | y_{ij}* = y_{ij} * Pr( No Drop | y_{ij}) + mu_{i} * Pr( Drop | y_{ij}).
| ^
checkRd: (-1) impute_expectation.Rd:23: Lost braces; missing escapes or markup?
23 | y_{ij}* = y_{ij} * Pr( No Drop | y_{ij}) + mu_{i} * Pr( Drop | y_{ij}).
| ^
checkRd: (-1) impute_expectation.Rd:23: Lost braces; missing escapes or markup?
23 | y_{ij}* = y_{ij} * Pr( No Drop | y_{ij}) + mu_{i} * Pr( Drop | y_{ij}).
| ^
checkRd: (-1) impute_expectation.Rd:23: Lost braces; missing escapes or markup?
23 | y_{ij}* = y_{ij} * Pr( No Drop | y_{ij}) + mu_{i} * Pr( Drop | y_{ij}).
| ^
checkRd: (-1) metric_sample_filter.Rd:104-105: Lost braces in \itemize; \value handles \item{}{} directly
checkRd: (-1) metric_sample_filter.Rd:105-106: Lost braces in \itemize; \value handles \item{}{} directly
checkRd: (-1) metric_sample_filter.Rd:106-107: Lost braces in \itemize; \value handles \item{}{} directly
checkRd: (-1) metric_sample_filter.Rd:107-108: Lost braces in \itemize; \value handles \item{}{} directly
checkRd: (-1) scone.Rd:126-127: Lost braces in \itemize; meant \describe ?
checkRd: (-1) scone.Rd:128: Lost braces in \itemize; meant \describe ?
checkRd: (-1) scone.Rd:129: Lost braces in \itemize; meant \describe ?
checkRd: (-1) scone.Rd:144: Lost braces in \itemize; meant \describe ?
checkRd: (-1) scone.Rd:145-146: Lost braces in \itemize; meant \describe ?
checkRd: (-1) scone.Rd:147-148: Lost braces in \itemize; meant \describe ?
checkRd: (-1) scone.Rd:149: Lost braces in \itemize; meant \describe ?
checkRd: (-1) score_matrix.Rd:98-99: Lost braces in \itemize; meant \describe ?
checkRd: (-1) score_matrix.Rd:100-101: Lost braces in \itemize; meant \describe ?
checkRd: (-1) score_matrix.Rd:76-77: Lost braces in \itemize; \value handles \item{}{} directly
checkRd: (-1) score_matrix.Rd:77-78: Lost braces in \itemize; \value handles \item{}{} directly
checkRd: (-1) score_matrix.Rd:78-79: Lost braces in \itemize; \value handles \item{}{} directly
checkRd: (-1) score_matrix.Rd:80-81: Lost braces in \itemize; \value handles \item{}{} directly
checkRd: (-1) score_matrix.Rd:81-83: Lost braces in \itemize; \value handles \item{}{} directly
checkRd: (-1) score_matrix.Rd:83-85: Lost braces in \itemize; \value handles \item{}{} directly
checkRd: (-1) score_matrix.Rd:85-87: Lost braces in \itemize; \value handles \item{}{} directly
checkRd: (-1) score_matrix.Rd:87-88: Lost braces in \itemize; \value handles \item{}{} directly
* checking Rd metadata ... OK
* checking Rd cross-references ... OK
* checking for missing documentation entries ... OK
* checking for code/documentation mismatches ... OK
* checking Rd \usage sections ... OK
* checking Rd contents ... OK
* checking for unstated dependencies in examples ... OK
* checking contents of ‘data’ directory ... OK
* checking data for non-ASCII characters ... OK
* checking data for ASCII and uncompressed saves ... OK
* checking files in ‘vignettes’ ... OK
* checking examples ... OK
* checking for unstated dependencies in ‘tests’ ... OK
* checking tests ...
Running ‘testthat.R’
OK
* checking for unstated dependencies in vignettes ... OK
* checking package vignettes ... OK
* checking running R code from vignettes ... SKIPPED
* checking re-building of vignette outputs ... SKIPPED
* checking PDF version of manual ... OK
* DONE
Status: 2 NOTEs
See
‘/Users/biocbuild/bbs-3.19-bioc/meat/scone.Rcheck/00check.log’
for details.
scone.Rcheck/00install.out
############################################################################## ############################################################################## ### ### Running command: ### ### /Library/Frameworks/R.framework/Resources/bin/R CMD INSTALL scone ### ############################################################################## ############################################################################## * installing to library ‘/Library/Frameworks/R.framework/Versions/4.4-x86_64/Resources/library’ * installing *source* package ‘scone’ ... ** using staged installation ** R ** data ** inst ** byte-compile and prepare package for lazy loading ** help *** installing help indices ** building package indices ** installing vignettes ** testing if installed package can be loaded from temporary location ** testing if installed package can be loaded from final location ** testing if installed package keeps a record of temporary installation path * DONE (scone)
scone.Rcheck/tests/testthat.Rout
R version 4.4.1 (2024-06-14) -- "Race for Your Life"
Copyright (C) 2024 The R Foundation for Statistical Computing
Platform: x86_64-apple-darwin20
R is free software and comes with ABSOLUTELY NO WARRANTY.
You are welcome to redistribute it under certain conditions.
Type 'license()' or 'licence()' for distribution details.
R is a collaborative project with many contributors.
Type 'contributors()' for more information and
'citation()' on how to cite R or R packages in publications.
Type 'demo()' for some demos, 'help()' for on-line help, or
'help.start()' for an HTML browser interface to help.
Type 'q()' to quit R.
> Sys.setenv("R_TESTS" = "")
>
> library(testthat)
> library(scone)
Loading required package: SummarizedExperiment
Loading required package: MatrixGenerics
Loading required package: matrixStats
Attaching package: 'MatrixGenerics'
The following objects are masked from 'package:matrixStats':
colAlls, colAnyNAs, colAnys, colAvgsPerRowSet, colCollapse,
colCounts, colCummaxs, colCummins, colCumprods, colCumsums,
colDiffs, colIQRDiffs, colIQRs, colLogSumExps, colMadDiffs,
colMads, colMaxs, colMeans2, colMedians, colMins, colOrderStats,
colProds, colQuantiles, colRanges, colRanks, colSdDiffs, colSds,
colSums2, colTabulates, colVarDiffs, colVars, colWeightedMads,
colWeightedMeans, colWeightedMedians, colWeightedSds,
colWeightedVars, rowAlls, rowAnyNAs, rowAnys, rowAvgsPerColSet,
rowCollapse, rowCounts, rowCummaxs, rowCummins, rowCumprods,
rowCumsums, rowDiffs, rowIQRDiffs, rowIQRs, rowLogSumExps,
rowMadDiffs, rowMads, rowMaxs, rowMeans2, rowMedians, rowMins,
rowOrderStats, rowProds, rowQuantiles, rowRanges, rowRanks,
rowSdDiffs, rowSds, rowSums2, rowTabulates, rowVarDiffs, rowVars,
rowWeightedMads, rowWeightedMeans, rowWeightedMedians,
rowWeightedSds, rowWeightedVars
Loading required package: GenomicRanges
Loading required package: stats4
Loading required package: BiocGenerics
Attaching package: 'BiocGenerics'
The following objects are masked from 'package:stats':
IQR, mad, sd, var, xtabs
The following objects are masked from 'package:base':
Filter, Find, Map, Position, Reduce, anyDuplicated, aperm, append,
as.data.frame, basename, cbind, colnames, dirname, do.call,
duplicated, eval, evalq, get, grep, grepl, intersect, is.unsorted,
lapply, mapply, match, mget, order, paste, pmax, pmax.int, pmin,
pmin.int, rank, rbind, rownames, sapply, setdiff, table, tapply,
union, unique, unsplit, which.max, which.min
Loading required package: S4Vectors
Attaching package: 'S4Vectors'
The following object is masked from 'package:utils':
findMatches
The following objects are masked from 'package:base':
I, expand.grid, unname
Loading required package: IRanges
Loading required package: GenomeInfoDb
Loading required package: Biobase
Welcome to Bioconductor
Vignettes contain introductory material; view with
'browseVignettes()'. To cite Bioconductor, see
'citation("Biobase")', and for packages 'citation("pkgname")'.
Attaching package: 'Biobase'
The following object is masked from 'package:MatrixGenerics':
rowMedians
The following objects are masked from 'package:matrixStats':
anyMissing, rowMedians
>
> test_check("scone")
[ FAIL 0 | WARN 0 | SKIP 0 | PASS 64 ]
>
> proc.time()
user system elapsed
121.335 14.673 523.678
scone.Rcheck/scone-Ex.timings
| name | user | system | elapsed | |
| CLR_FN | 0.003 | 0.001 | 0.003 | |
| DESEQ_FN | 0.002 | 0.001 | 0.003 | |
| FQ_FN | 0.004 | 0.001 | 0.007 | |
| PSINORM_FN | 0.003 | 0.001 | 0.007 | |
| PsiNorm | 0.776 | 0.012 | 1.019 | |
| SCRAN_FN | 2.556 | 0.245 | 3.553 | |
| SUM_FN | 0.001 | 0.000 | 0.001 | |
| SconeExperiment-class | 0.266 | 0.004 | 0.348 | |
| TMM_FN | 0.004 | 0.000 | 0.008 | |
| UQ_FN | 0.003 | 0.000 | 0.008 | |
| biplot_color | 0.014 | 0.003 | 0.030 | |
| biplot_interactive | 0.481 | 0.012 | 0.667 | |
| control_genes | 0.028 | 0.013 | 0.060 | |
| estimate_ziber | 0.085 | 0.004 | 0.128 | |
| factor_sample_filter | 0.155 | 0.013 | 0.237 | |
| fast_estimate_ziber | 0.076 | 0.001 | 0.116 | |
| get_bio | 0.091 | 0.001 | 0.123 | |
| get_design | 1.080 | 0.008 | 1.408 | |
| get_negconruv | 0.107 | 0.001 | 0.141 | |
| get_normalized | 0.249 | 0.003 | 0.309 | |
| get_params | 0.095 | 0.001 | 0.131 | |
| get_qc | 0.103 | 0.009 | 0.166 | |
| get_scores | 0.259 | 0.030 | 0.413 | |
| impute_expectation | 0.001 | 0.001 | 0.003 | |
| impute_null | 0.001 | 0.001 | 0.000 | |
| lm_adjust | 0.007 | 0.001 | 0.017 | |
| make_design | 0.003 | 0.001 | 0.003 | |
| metric_sample_filter | 0.011 | 0.004 | 0.015 | |
| scone | 0.596 | 0.065 | 0.901 | |
| sconeReport | 0.258 | 0.002 | 0.346 | |
| scone_easybake | 0.257 | 0.003 | 0.354 | |
| score_matrix | 0.007 | 0.000 | 0.008 | |
| select_methods | 0.261 | 0.002 | 0.353 | |
| simple_FNR_params | 0.061 | 0.000 | 0.083 | |