| Back to Multiple platform build/check report for BioC 3.19: simplified long |
|
This page was generated on 2024-06-28 17:42 -0400 (Fri, 28 Jun 2024).
| Hostname | OS | Arch (*) | R version | Installed pkgs |
|---|---|---|---|---|
| nebbiolo1 | Linux (Ubuntu 22.04.3 LTS) | x86_64 | 4.4.0 (2024-04-24) -- "Puppy Cup" | 4760 |
| palomino3 | Windows Server 2022 Datacenter | x64 | 4.4.0 (2024-04-24 ucrt) -- "Puppy Cup" | 4494 |
| merida1 | macOS 12.7.4 Monterey | x86_64 | 4.4.0 (2024-04-24) -- "Puppy Cup" | 4508 |
| kjohnson1 | macOS 13.6.6 Ventura | arm64 | 4.4.0 (2024-04-24) -- "Puppy Cup" | 4466 |
| palomino7 | Windows Server 2022 Datacenter | x64 | 4.4.1 (2024-06-14 ucrt) -- "Race for Your Life" | 4362 |
| Click on any hostname to see more info about the system (e.g. compilers) (*) as reported by 'uname -p', except on Windows and Mac OS X | ||||
| Package 1735/2300 | Hostname | OS / Arch | INSTALL | BUILD | CHECK | BUILD BIN | ||||||||
| regutools 1.16.0 (landing page) Joselyn Chavez
| nebbiolo1 | Linux (Ubuntu 22.04.3 LTS) / x86_64 | OK | OK | OK | |||||||||
| palomino3 | Windows Server 2022 Datacenter / x64 | OK | OK | OK | OK | |||||||||
| merida1 | macOS 12.7.4 Monterey / x86_64 | OK | OK | OK | OK | |||||||||
| kjohnson1 | macOS 13.6.6 Ventura / arm64 | OK | OK | OK | OK | |||||||||
| palomino7 | Windows Server 2022 Datacenter / x64 | OK | ERROR | skipped | skipped | |||||||||
|
To the developers/maintainers of the regutools package: - Allow up to 24 hours (and sometimes 48 hours) for your latest push to git@git.bioconductor.org:packages/regutools.git to reflect on this report. See Troubleshooting Build Report for more information. - Use the following Renviron settings to reproduce errors and warnings. - If 'R CMD check' started to fail recently on the Linux builder(s) over a missing dependency, add the missing dependency to 'Suggests:' in your DESCRIPTION file. See Renviron.bioc for more information. |
| Package: regutools |
| Version: 1.16.0 |
| Command: F:\biocbuild\bbs-3.19-bioc\R\bin\R.exe CMD check --no-multiarch --install=check:regutools.install-out.txt --library=F:\biocbuild\bbs-3.19-bioc\R\library --no-vignettes --timings regutools_1.16.0.tar.gz |
| StartedAt: 2024-06-27 05:16:37 -0400 (Thu, 27 Jun 2024) |
| EndedAt: 2024-06-27 05:25:35 -0400 (Thu, 27 Jun 2024) |
| EllapsedTime: 537.8 seconds |
| RetCode: 0 |
| Status: OK |
| CheckDir: regutools.Rcheck |
| Warnings: 0 |
##############################################################################
##############################################################################
###
### Running command:
###
### F:\biocbuild\bbs-3.19-bioc\R\bin\R.exe CMD check --no-multiarch --install=check:regutools.install-out.txt --library=F:\biocbuild\bbs-3.19-bioc\R\library --no-vignettes --timings regutools_1.16.0.tar.gz
###
##############################################################################
##############################################################################
* using log directory 'F:/biocbuild/bbs-3.19-bioc/meat/regutools.Rcheck'
* using R version 4.4.0 (2024-04-24 ucrt)
* using platform: x86_64-w64-mingw32
* R was compiled by
gcc.exe (GCC) 13.2.0
GNU Fortran (GCC) 13.2.0
* running under: Windows Server 2022 x64 (build 20348)
* using session charset: UTF-8
* using option '--no-vignettes'
* checking for file 'regutools/DESCRIPTION' ... OK
* this is package 'regutools' version '1.16.0'
* package encoding: UTF-8
* checking package namespace information ... OK
* checking package dependencies ... OK
* checking if this is a source package ... OK
* checking if there is a namespace ... OK
* checking for hidden files and directories ... OK
* checking for portable file names ... OK
* checking whether package 'regutools' can be installed ... OK
* checking installed package size ... OK
* checking package directory ... OK
* checking 'build' directory ... OK
* checking DESCRIPTION meta-information ... OK
* checking top-level files ... OK
* checking for left-over files ... OK
* checking index information ... OK
* checking package subdirectories ... OK
* checking code files for non-ASCII characters ... OK
* checking R files for syntax errors ... OK
* checking whether the package can be loaded ... OK
* checking whether the package can be loaded with stated dependencies ... OK
* checking whether the package can be unloaded cleanly ... OK
* checking whether the namespace can be loaded with stated dependencies ... OK
* checking whether the namespace can be unloaded cleanly ... OK
* checking dependencies in R code ... OK
* checking S3 generic/method consistency ... OK
* checking replacement functions ... OK
* checking foreign function calls ... OK
* checking R code for possible problems ... OK
* checking Rd files ... OK
* checking Rd metadata ... OK
* checking Rd cross-references ... OK
* checking for missing documentation entries ... OK
* checking for code/documentation mismatches ... OK
* checking Rd \usage sections ... OK
* checking Rd contents ... OK
* checking for unstated dependencies in examples ... OK
* checking files in 'vignettes' ... OK
* checking examples ... OK
Examples with CPU (user + system) or elapsed time > 5s
user system elapsed
plot_dna_objects 8.50 0.73 9.42
convert_to_granges 4.76 0.69 5.48
convert_to_biostrings 3.67 0.98 5.13
get_regulatory_network 3.53 0.58 6.15
* checking for unstated dependencies in 'tests' ... OK
* checking tests ...
Running 'testthat.R'
OK
* checking for unstated dependencies in vignettes ... OK
* checking package vignettes ... OK
* checking running R code from vignettes ... SKIPPED
* checking re-building of vignette outputs ... SKIPPED
* checking PDF version of manual ... OK
* DONE
Status: OK
regutools.Rcheck/00install.out
############################################################################## ############################################################################## ### ### Running command: ### ### F:\biocbuild\bbs-3.19-bioc\R\bin\R.exe CMD INSTALL regutools ### ############################################################################## ############################################################################## * installing to library 'F:/biocbuild/bbs-3.19-bioc/R/library' * installing *source* package 'regutools' ... ** using staged installation ** R ** inst ** byte-compile and prepare package for lazy loading ** help *** installing help indices *** copying figures ** building package indices ** installing vignettes ** testing if installed package can be loaded from temporary location ** testing if installed package can be loaded from final location ** testing if installed package keeps a record of temporary installation path * DONE (regutools)
regutools.Rcheck/tests/testthat.Rout
R version 4.4.0 (2024-04-24 ucrt) -- "Puppy Cup"
Copyright (C) 2024 The R Foundation for Statistical Computing
Platform: x86_64-w64-mingw32/x64
R is free software and comes with ABSOLUTELY NO WARRANTY.
You are welcome to redistribute it under certain conditions.
Type 'license()' or 'licence()' for distribution details.
R is a collaborative project with many contributors.
Type 'contributors()' for more information and
'citation()' on how to cite R or R packages in publications.
Type 'demo()' for some demos, 'help()' for on-line help, or
'help.start()' for an HTML browser interface to help.
Type 'q()' to quit R.
> library("testthat")
> library("regutools")
>
> test_check("regutools")
[ FAIL 0 | WARN 0 | SKIP 0 | PASS 110 ]
Warning message:
call dbDisconnect() when finished working with a connection
>
> proc.time()
user system elapsed
70.60 10.81 92.85
regutools.Rcheck/regutools-Ex.timings
| name | user | system | elapsed | |
| build_condition | 4.09 | 0.58 | 4.92 | |
| connect_database | 3.05 | 0.55 | 3.63 | |
| convert_to_biostrings | 3.67 | 0.98 | 5.13 | |
| convert_to_granges | 4.76 | 0.69 | 5.48 | |
| existing_intervals | 0 | 0 | 0 | |
| existing_partial_match | 0 | 0 | 0 | |
| get_binding_sites | 2.91 | 0.58 | 3.58 | |
| get_dataset | 3.62 | 0.62 | 4.26 | |
| get_dna_objects | 3.17 | 0.64 | 3.89 | |
| get_gene_regulators | 3.41 | 0.49 | 3.97 | |
| get_gene_synonyms | 3.59 | 0.45 | 4.10 | |
| get_regulatory_network | 3.53 | 0.58 | 6.15 | |
| get_regulatory_summary | 3.96 | 0.62 | 4.64 | |
| guess_id | 3.47 | 0.57 | 4.05 | |
| list_attributes | 3.62 | 0.62 | 4.26 | |
| list_datasets | 3.22 | 0.44 | 3.68 | |
| non_existing_intervals | 0 | 0 | 0 | |
| plot_dna_objects | 8.50 | 0.73 | 9.42 | |
| regulondb | 2.92 | 0.71 | 3.67 | |