| Back to Multiple platform build/check report for BioC 3.19: simplified long |
|
This page was generated on 2024-06-28 17:42 -0400 (Fri, 28 Jun 2024).
| Hostname | OS | Arch (*) | R version | Installed pkgs |
|---|---|---|---|---|
| nebbiolo1 | Linux (Ubuntu 22.04.3 LTS) | x86_64 | 4.4.0 (2024-04-24) -- "Puppy Cup" | 4760 |
| palomino3 | Windows Server 2022 Datacenter | x64 | 4.4.0 (2024-04-24 ucrt) -- "Puppy Cup" | 4494 |
| merida1 | macOS 12.7.4 Monterey | x86_64 | 4.4.0 (2024-04-24) -- "Puppy Cup" | 4508 |
| kjohnson1 | macOS 13.6.6 Ventura | arm64 | 4.4.0 (2024-04-24) -- "Puppy Cup" | 4466 |
| palomino7 | Windows Server 2022 Datacenter | x64 | 4.4.1 (2024-06-14 ucrt) -- "Race for Your Life" | 4362 |
| Click on any hostname to see more info about the system (e.g. compilers) (*) as reported by 'uname -p', except on Windows and Mac OS X | ||||
| Package 1722/2300 | Hostname | OS / Arch | INSTALL | BUILD | CHECK | BUILD BIN | ||||||||
| recountmethylation 1.14.0 (landing page) Sean K Maden
| nebbiolo1 | Linux (Ubuntu 22.04.3 LTS) / x86_64 | OK | OK | OK | |||||||||
| palomino3 | Windows Server 2022 Datacenter / x64 | OK | OK | OK | OK | |||||||||
| merida1 | macOS 12.7.4 Monterey / x86_64 | OK | OK | OK | OK | |||||||||
| kjohnson1 | macOS 13.6.6 Ventura / arm64 | OK | OK | OK | OK | |||||||||
| palomino7 | Windows Server 2022 Datacenter / x64 | OK | OK | OK | OK | |||||||||
|
To the developers/maintainers of the recountmethylation package: - Allow up to 24 hours (and sometimes 48 hours) for your latest push to git@git.bioconductor.org:packages/recountmethylation.git to reflect on this report. See Troubleshooting Build Report for more information. - Use the following Renviron settings to reproduce errors and warnings. - If 'R CMD check' started to fail recently on the Linux builder(s) over a missing dependency, add the missing dependency to 'Suggests:' in your DESCRIPTION file. See Renviron.bioc for more information. |
| Package: recountmethylation |
| Version: 1.14.0 |
| Command: F:\biocbuild\bbs-3.19-bioc\R\bin\R.exe CMD check --no-multiarch --install=check:recountmethylation.install-out.txt --library=F:\biocbuild\bbs-3.19-bioc\R\library --no-vignettes --timings recountmethylation_1.14.0.tar.gz |
| StartedAt: 2024-06-27 05:13:36 -0400 (Thu, 27 Jun 2024) |
| EndedAt: 2024-06-27 05:15:18 -0400 (Thu, 27 Jun 2024) |
| EllapsedTime: 101.8 seconds |
| RetCode: 0 |
| Status: OK |
| CheckDir: recountmethylation.Rcheck |
| Warnings: 0 |
##############################################################################
##############################################################################
###
### Running command:
###
### F:\biocbuild\bbs-3.19-bioc\R\bin\R.exe CMD check --no-multiarch --install=check:recountmethylation.install-out.txt --library=F:\biocbuild\bbs-3.19-bioc\R\library --no-vignettes --timings recountmethylation_1.14.0.tar.gz
###
##############################################################################
##############################################################################
* using log directory 'F:/biocbuild/bbs-3.19-bioc/meat/recountmethylation.Rcheck'
* using R version 4.4.0 (2024-04-24 ucrt)
* using platform: x86_64-w64-mingw32
* R was compiled by
gcc.exe (GCC) 13.2.0
GNU Fortran (GCC) 13.2.0
* running under: Windows Server 2022 x64 (build 20348)
* using session charset: UTF-8
* using option '--no-vignettes'
* checking for file 'recountmethylation/DESCRIPTION' ... OK
* this is package 'recountmethylation' version '1.14.0'
* package encoding: UTF-8
* checking package namespace information ... OK
* checking package dependencies ... OK
* checking if this is a source package ... OK
* checking if there is a namespace ... OK
* checking for hidden files and directories ... OK
* checking for portable file names ... OK
* checking whether package 'recountmethylation' can be installed ... OK
* checking installed package size ... OK
* checking package directory ... OK
* checking 'build' directory ... OK
* checking DESCRIPTION meta-information ... OK
* checking top-level files ... OK
* checking for left-over files ... OK
* checking index information ... OK
* checking package subdirectories ... OK
* checking code files for non-ASCII characters ... OK
* checking R files for syntax errors ... OK
* checking whether the package can be loaded ... OK
* checking whether the package can be loaded with stated dependencies ... OK
* checking whether the package can be unloaded cleanly ... OK
* checking whether the namespace can be loaded with stated dependencies ... OK
* checking whether the namespace can be unloaded cleanly ... OK
* checking whether startup messages can be suppressed ... OK
* checking dependencies in R code ... OK
* checking S3 generic/method consistency ... OK
* checking replacement functions ... OK
* checking foreign function calls ... OK
* checking R code for possible problems ... NOTE
get_fh : <anonymous>: no visible global function definition for
'make_fhmatrix_autolabel'
make_si : <anonymous>: no visible global function definition for
'make_hnsw_si'
query_si: no visible binding for global variable 'v'
query_si : <anonymous>: no visible global function definition for
'make_dfk_sampleid'
Undefined global functions or variables:
make_dfk_sampleid make_fhmatrix_autolabel make_hnsw_si v
* checking Rd files ... OK
* checking Rd metadata ... OK
* checking Rd cross-references ... OK
* checking for missing documentation entries ... OK
* checking for code/documentation mismatches ... OK
* checking Rd \usage sections ... OK
* checking Rd contents ... OK
* checking for unstated dependencies in examples ... OK
* checking files in 'vignettes' ... OK
* checking examples ... OK
Examples with CPU (user + system) or elapsed time > 5s
user system elapsed
bactrl 14.57 1.19 15.75
gds_idat2rg 6.36 0.44 10.06
get_rmdl 0.11 0.02 5.67
* checking for unstated dependencies in 'tests' ... OK
* checking tests ...
Running 'test-servermatrix.R'
OK
* checking for unstated dependencies in vignettes ... OK
* checking package vignettes ... OK
* checking running R code from vignettes ... SKIPPED
* checking re-building of vignette outputs ... SKIPPED
* checking PDF version of manual ... OK
* DONE
Status: 1 NOTE
See
'F:/biocbuild/bbs-3.19-bioc/meat/recountmethylation.Rcheck/00check.log'
for details.
recountmethylation.Rcheck/00install.out
############################################################################## ############################################################################## ### ### Running command: ### ### F:\biocbuild\bbs-3.19-bioc\R\bin\R.exe CMD INSTALL recountmethylation ### ############################################################################## ############################################################################## * installing to library 'F:/biocbuild/bbs-3.19-bioc/R/library' * installing *source* package 'recountmethylation' ... ** using staged installation ** R ** inst ** byte-compile and prepare package for lazy loading ** help *** installing help indices ** building package indices ** installing vignettes ** testing if installed package can be loaded from temporary location ** testing if installed package can be loaded from final location ** testing if installed package keeps a record of temporary installation path * DONE (recountmethylation)
recountmethylation.Rcheck/tests/test-servermatrix.Rout
R version 4.4.0 (2024-04-24 ucrt) -- "Puppy Cup"
Copyright (C) 2024 The R Foundation for Statistical Computing
Platform: x86_64-w64-mingw32/x64
R is free software and comes with ABSOLUTELY NO WARRANTY.
You are welcome to redistribute it under certain conditions.
Type 'license()' or 'licence()' for distribution details.
R is a collaborative project with many contributors.
Type 'contributors()' for more information and
'citation()' on how to cite R or R packages in publications.
Type 'demo()' for some demos, 'help()' for on-line help, or
'help.start()' for an HTML browser interface to help.
Type 'q()' to quit R.
> testthat::context("Test the server matrix properties")
>
> testthat::test_that("Properties of server matrix returned from get_rmdl
+ and servermatrix", {
+ sm <- recountmethylation::get_servermatrix()
+ testthat::expect_true(is(sm, "matrix"))
+ testthat::expect_equal(ncol(sm), 4)
+ testthat::expect_true(is(sm[,1], "character"))
+ })
Test passed 🌈
>
> proc.time()
user system elapsed
1.48 0.26 7.23
recountmethylation.Rcheck/recountmethylation-Ex.timings
| name | user | system | elapsed | |
| bactrl | 14.57 | 1.19 | 15.75 | |
| bathresh | 0 | 0 | 0 | |
| data_mdpost | 0.01 | 0.00 | 0.02 | |
| gds_idat2rg | 6.36 | 0.44 | 10.06 | |
| gds_idatquery | 1.55 | 0.14 | 4.58 | |
| get_crossreactive_cpgs | 0.14 | 0.02 | 0.28 | |
| get_fh | 0 | 0 | 0 | |
| get_qcsignal | 2.72 | 0.23 | 3.92 | |
| get_rmdl | 0.11 | 0.02 | 5.67 | |
| get_servermatrix | 0.01 | 0.00 | 0.02 | |
| getdb | 0 | 0 | 0 | |
| getrg | 0.25 | 0.03 | 0.43 | |
| hread | 0.02 | 0.00 | 0.02 | |
| make_si | 0 | 0 | 0 | |
| matchds_1to2 | 0 | 0 | 0 | |
| query_si | 0 | 0 | 0 | |
| rgse | 0.12 | 0.01 | 0.14 | |
| servermatrix | 0.02 | 0.00 | 0.33 | |
| smfilt | 0 | 0 | 0 | |