| Back to Multiple platform build/check report for BioC 3.19: simplified long |
|
This page was generated on 2024-10-18 20:41 -0400 (Fri, 18 Oct 2024).
| Hostname | OS | Arch (*) | R version | Installed pkgs |
|---|---|---|---|---|
| nebbiolo1 | Linux (Ubuntu 22.04.3 LTS) | x86_64 | 4.4.1 (2024-06-14) -- "Race for Your Life" | 4763 |
| palomino7 | Windows Server 2022 Datacenter | x64 | 4.4.1 (2024-06-14 ucrt) -- "Race for Your Life" | 4500 |
| merida1 | macOS 12.7.5 Monterey | x86_64 | 4.4.1 (2024-06-14) -- "Race for Your Life" | 4530 |
| kjohnson1 | macOS 13.6.6 Ventura | arm64 | 4.4.1 (2024-06-14) -- "Race for Your Life" | 4480 |
| Click on any hostname to see more info about the system (e.g. compilers) (*) as reported by 'uname -p', except on Windows and Mac OS X | ||||
| Package 1842/2300 | Hostname | OS / Arch | INSTALL | BUILD | CHECK | BUILD BIN | ||||||||
| rTRMui 1.42.0 (landing page) Diego Diez
| nebbiolo1 | Linux (Ubuntu 22.04.3 LTS) / x86_64 | OK | OK | OK | |||||||||
| palomino7 | Windows Server 2022 Datacenter / x64 | OK | OK | OK | OK | |||||||||
| merida1 | macOS 12.7.5 Monterey / x86_64 | OK | OK | OK | OK | |||||||||
| kjohnson1 | macOS 13.6.6 Ventura / arm64 | OK | OK | OK | NA | |||||||||
|
To the developers/maintainers of the rTRMui package: - Allow up to 24 hours (and sometimes 48 hours) for your latest push to git@git.bioconductor.org:packages/rTRMui.git to reflect on this report. See Troubleshooting Build Report for more information. - Use the following Renviron settings to reproduce errors and warnings. - If 'R CMD check' started to fail recently on the Linux builder(s) over a missing dependency, add the missing dependency to 'Suggests:' in your DESCRIPTION file. See Renviron.bioc for more information. |
| Package: rTRMui |
| Version: 1.42.0 |
| Command: rm -rf rTRMui.buildbin-libdir && mkdir rTRMui.buildbin-libdir && /Users/biocbuild/BBS/utils/build-universal.sh rTRMui_1.42.0.tar.gz /Library/Frameworks/R.framework/Resources/bin/R rTRMui.buildbin-libdir |
| StartedAt: 2024-10-17 17:04:36 -0400 (Thu, 17 Oct 2024) |
| EndedAt: 2024-10-17 17:06:36 -0400 (Thu, 17 Oct 2024) |
| EllapsedTime: 119.5 seconds |
| RetCode: 0 |
| Status: OK |
| PackageFile: rTRMui_1.42.0.tgz |
| PackageFileSize: 834.4 KiB |
##############################################################################
##############################################################################
###
### Running command:
###
### rm -rf rTRMui.buildbin-libdir && mkdir rTRMui.buildbin-libdir && /Users/biocbuild/BBS/utils/build-universal.sh rTRMui_1.42.0.tar.gz /Library/Frameworks/R.framework/Resources/bin/R rTRMui.buildbin-libdir
###
##############################################################################
##############################################################################
>>>>>>>
>>>>>>> INSTALLATION WITH 'R CMD INSTALL --preclean --no-multiarch --library=rTRMui.buildbin-libdir rTRMui_1.42.0.tar.gz'
>>>>>>>
* installing *source* package ‘rTRMui’ ...
** using staged installation
** R
** inst
** byte-compile and prepare package for lazy loading
See system.file("LICENSE", package="MotifDb") for use restrictions.
** help
*** installing help indices
** building package indices
** installing vignettes
** testing if installed package can be loaded from temporary location
See system.file("LICENSE", package="MotifDb") for use restrictions.
** testing if installed package can be loaded from final location
See system.file("LICENSE", package="MotifDb") for use restrictions.
** testing if installed package keeps a record of temporary installation path
* DONE (rTRMui)