| Back to Multiple platform build/check report for BioC 3.19: simplified long | 
  | 
This page was generated on 2024-06-28 17:42 -0400 (Fri, 28 Jun 2024).
| Hostname | OS | Arch (*) | R version | Installed pkgs | 
|---|---|---|---|---|
| nebbiolo1 | Linux (Ubuntu 22.04.3 LTS) | x86_64 | 4.4.0 (2024-04-24) -- "Puppy Cup" | 4760 | 
| palomino3 | Windows Server 2022 Datacenter | x64 | 4.4.0 (2024-04-24 ucrt) -- "Puppy Cup" | 4494 | 
| merida1 | macOS 12.7.4 Monterey | x86_64 | 4.4.0 (2024-04-24) -- "Puppy Cup" | 4508 | 
| kjohnson1 | macOS 13.6.6 Ventura | arm64 | 4.4.0 (2024-04-24) -- "Puppy Cup" | 4466 | 
| palomino7 | Windows Server 2022 Datacenter | x64 | 4.4.1 (2024-06-14 ucrt) -- "Race for Your Life" | 4362 | 
| Click on any hostname to see more info about the system (e.g. compilers) (*) as reported by 'uname -p', except on Windows and Mac OS X | ||||
| Package 1597/2300 | Hostname | OS / Arch | INSTALL | BUILD | CHECK | BUILD BIN | ||||||||
| pqsfinder 2.20.0  (landing page) Jiri Hon 
  | nebbiolo1 | Linux (Ubuntu 22.04.3 LTS) / x86_64 | OK | OK | WARNINGS | |||||||||
| palomino3 | Windows Server 2022 Datacenter / x64 | OK | OK | OK | OK | |||||||||
| merida1 | macOS 12.7.4 Monterey / x86_64 | OK | OK | WARNINGS | OK | |||||||||
| kjohnson1 | macOS 13.6.6 Ventura / arm64 | OK | OK | WARNINGS | OK | |||||||||
| palomino7 | Windows Server 2022 Datacenter / x64 | OK | OK | OK | OK | |||||||||
| 
To the developers/maintainers of the pqsfinder package: - Allow up to 24 hours (and sometimes 48 hours) for your latest push to git@git.bioconductor.org:packages/pqsfinder.git to reflect on this report. See Troubleshooting Build Report for more information. - Use the following Renviron settings to reproduce errors and warnings. - If 'R CMD check' started to fail recently on the Linux builder(s) over a missing dependency, add the missing dependency to 'Suggests:' in your DESCRIPTION file. See Renviron.bioc for more information.  | 
| Package: pqsfinder | 
| Version: 2.20.0 | 
| Command: rm -rf pqsfinder.buildbin-libdir && mkdir pqsfinder.buildbin-libdir && F:\biocbuild\bbs-3.19-bioc\R\bin\R.exe CMD INSTALL --build --library=pqsfinder.buildbin-libdir pqsfinder_2.20.0.tar.gz | 
| StartedAt: 2024-06-27 08:41:35 -0400 (Thu, 27 Jun 2024) | 
| EndedAt: 2024-06-27 08:42:52 -0400 (Thu, 27 Jun 2024) | 
| EllapsedTime: 77.2 seconds | 
| RetCode: 0 | 
| Status: OK | 
| PackageFile: pqsfinder_2.20.0.zip | 
| PackageFileSize: 1.232 MiB | 
##############################################################################
##############################################################################
###
### Running command:
###
###   rm -rf pqsfinder.buildbin-libdir && mkdir pqsfinder.buildbin-libdir && F:\biocbuild\bbs-3.19-bioc\R\bin\R.exe CMD INSTALL --build --library=pqsfinder.buildbin-libdir pqsfinder_2.20.0.tar.gz
###
##############################################################################
##############################################################################
* installing *source* package 'pqsfinder' ...
** using staged installation
** libs
using C++ compiler: 'G__~1.EXE (GCC) 13.2.0'
using C++11
g++  -std=gnu++11 -I"F:/biocbuild/bbs-3.19-bioc/R/include" -DNDEBUG  -I'F:/biocbuild/bbs-3.19-bioc/R/library/Rcpp/include' -I'F:/biocbuild/bbs-3.19-bioc/R/library/BH/include'   -I"C:/rtools44/x86_64-w64-mingw32.static.posix/include"     -O2 -Wall  -mfpmath=sse -msse2 -mstackrealign  -c RcppExports.cpp -o RcppExports.o
g++  -std=gnu++11 -I"F:/biocbuild/bbs-3.19-bioc/R/include" -DNDEBUG  -I'F:/biocbuild/bbs-3.19-bioc/R/library/Rcpp/include' -I'F:/biocbuild/bbs-3.19-bioc/R/library/BH/include'   -I"C:/rtools44/x86_64-w64-mingw32.static.posix/include"     -O2 -Wall  -mfpmath=sse -msse2 -mstackrealign  -c pqsfinder.cpp -o pqsfinder.o
pqsfinder.cpp: In function 'void find_all_runs(SEXP, int, std::__cxx11::basic_string<char>::const_iterator, std::__cxx11::basic_string<char>::const_iterator, run_match*, const boost::regex&, const opts_t&, const scoring&, const std::__cxx11::basic_string<char>::const_iterator&, size_t, storage&, int&, results&, bool, std::chrono::_V2::system_clock::time_point, int, int, int, int&, bool)':
pqsfinder.cpp:584:53: warning: 'loop_len' may be used uninitialized [-Wmaybe-uninitialized]
  584 |           pqs_storage, int_cnt, res, (loop_len == 0 ? true : zero_loop),
      |                                      ~~~~~~~~~~~~~~~^~~~~~~~~~~~~~~~~~~
pqsfinder.cpp:489:14: note: 'loop_len' was declared here
  489 |   int score, loop_len;
      |              ^~~~~~~~
g++  -std=gnu++11 -I"F:/biocbuild/bbs-3.19-bioc/R/include" -DNDEBUG  -I'F:/biocbuild/bbs-3.19-bioc/R/library/Rcpp/include' -I'F:/biocbuild/bbs-3.19-bioc/R/library/BH/include'   -I"C:/rtools44/x86_64-w64-mingw32.static.posix/include"     -O2 -Wall  -mfpmath=sse -msse2 -mstackrealign  -c boost_regex/posix_api.cpp -o boost_regex/posix_api.o
g++  -std=gnu++11 -I"F:/biocbuild/bbs-3.19-bioc/R/include" -DNDEBUG  -I'F:/biocbuild/bbs-3.19-bioc/R/library/Rcpp/include' -I'F:/biocbuild/bbs-3.19-bioc/R/library/BH/include'   -I"C:/rtools44/x86_64-w64-mingw32.static.posix/include"     -O2 -Wall  -mfpmath=sse -msse2 -mstackrealign  -c boost_regex/regex.cpp -o boost_regex/regex.o
g++  -std=gnu++11 -I"F:/biocbuild/bbs-3.19-bioc/R/include" -DNDEBUG  -I'F:/biocbuild/bbs-3.19-bioc/R/library/Rcpp/include' -I'F:/biocbuild/bbs-3.19-bioc/R/library/BH/include'   -I"C:/rtools44/x86_64-w64-mingw32.static.posix/include"     -O2 -Wall  -mfpmath=sse -msse2 -mstackrealign  -c boost_regex/regex_debug.cpp -o boost_regex/regex_debug.o
g++  -std=gnu++11 -I"F:/biocbuild/bbs-3.19-bioc/R/include" -DNDEBUG  -I'F:/biocbuild/bbs-3.19-bioc/R/library/Rcpp/include' -I'F:/biocbuild/bbs-3.19-bioc/R/library/BH/include'   -I"C:/rtools44/x86_64-w64-mingw32.static.posix/include"     -O2 -Wall  -mfpmath=sse -msse2 -mstackrealign  -c boost_regex/static_mutex.cpp -o boost_regex/static_mutex.o
g++  -std=gnu++11 -I"F:/biocbuild/bbs-3.19-bioc/R/include" -DNDEBUG  -I'F:/biocbuild/bbs-3.19-bioc/R/library/Rcpp/include' -I'F:/biocbuild/bbs-3.19-bioc/R/library/BH/include'   -I"C:/rtools44/x86_64-w64-mingw32.static.posix/include"     -O2 -Wall  -mfpmath=sse -msse2 -mstackrealign  -c boost_regex/wide_posix_api.cpp -o boost_regex/wide_posix_api.o
mkdir -p "F:/biocbuild/bbs-3.19-bioc/meat/pqsfinder.buildbin-libdir/00LOCK-pqsfinder/00new/pqsfinder/lib/x64"
ar rs "F:/biocbuild/bbs-3.19-bioc/meat/pqsfinder.buildbin-libdir/00LOCK-pqsfinder/00new/pqsfinder/lib/x64/libboost_regex.a" boost_regex/posix_api.o boost_regex/regex.o boost_regex/regex_debug.o boost_regex/static_mutex.o boost_regex/wide_posix_api.o
C:\rtools44\x86_64-w64-mingw32.static.posix\bin\ar.exe: creating F:/biocbuild/bbs-3.19-bioc/meat/pqsfinder.buildbin-libdir/00LOCK-pqsfinder/00new/pqsfinder/lib/x64/libboost_regex.a
g++ -shared -s -static-libgcc -o pqsfinder.dll tmp.def RcppExports.o pqsfinder.o F:/biocbuild/bbs-3.19-bioc/meat/pqsfinder.buildbin-libdir/00LOCK-pqsfinder/00new/pqsfinder/lib/x64/libboost_regex.a -LC:/rtools44/x86_64-w64-mingw32.static.posix/lib/x64 -LC:/rtools44/x86_64-w64-mingw32.static.posix/lib -LF:/biocbuild/bbs-3.19-bioc/R/bin/x64 -lR
installing to F:/biocbuild/bbs-3.19-bioc/meat/pqsfinder.buildbin-libdir/00LOCK-pqsfinder/00new/pqsfinder/libs/x64
** R
** inst
** byte-compile and prepare package for lazy loading
** help
*** installing help indices
** building package indices
** installing vignettes
** testing if installed package can be loaded from temporary location
** testing if installed package can be loaded from final location
** testing if installed package keeps a record of temporary installation path
* MD5 sums
packaged installation of 'pqsfinder' as pqsfinder_2.20.0.zip
* DONE (pqsfinder)