| Back to Multiple platform build/check report for BioC 3.19: simplified long | 
  | 
This page was generated on 2024-10-18 20:41 -0400 (Fri, 18 Oct 2024).
| Hostname | OS | Arch (*) | R version | Installed pkgs | 
|---|---|---|---|---|
| nebbiolo1 | Linux (Ubuntu 22.04.3 LTS) | x86_64 | 4.4.1 (2024-06-14) -- "Race for Your Life" | 4763 | 
| palomino7 | Windows Server 2022 Datacenter | x64 | 4.4.1 (2024-06-14 ucrt) -- "Race for Your Life" | 4500 | 
| merida1 | macOS 12.7.5 Monterey | x86_64 | 4.4.1 (2024-06-14) -- "Race for Your Life" | 4530 | 
| kjohnson1 | macOS 13.6.6 Ventura | arm64 | 4.4.1 (2024-06-14) -- "Race for Your Life" | 4480 | 
| Click on any hostname to see more info about the system (e.g. compilers) (*) as reported by 'uname -p', except on Windows and Mac OS X | ||||
| Package 1584/2300 | Hostname | OS / Arch | INSTALL | BUILD | CHECK | BUILD BIN | ||||||||
| plyinteractions 1.2.0  (landing page) Jacques Serizay 
  | nebbiolo1 | Linux (Ubuntu 22.04.3 LTS) / x86_64 | OK | OK | OK | |||||||||
| palomino7 | Windows Server 2022 Datacenter / x64 | OK | OK | OK | OK | |||||||||
| merida1 | macOS 12.7.5 Monterey / x86_64 | OK | OK | OK | OK | |||||||||
| kjohnson1 | macOS 13.6.6 Ventura / arm64 | OK | OK | OK | OK | |||||||||
| 
To the developers/maintainers of the plyinteractions package: - Allow up to 24 hours (and sometimes 48 hours) for your latest push to git@git.bioconductor.org:packages/plyinteractions.git to reflect on this report. See Troubleshooting Build Report for more information. - Use the following Renviron settings to reproduce errors and warnings. - If 'R CMD check' started to fail recently on the Linux builder(s) over a missing dependency, add the missing dependency to 'Suggests:' in your DESCRIPTION file. See Renviron.bioc for more information.  | 
| Package: plyinteractions | 
| Version: 1.2.0 | 
| Command: /Library/Frameworks/R.framework/Resources/bin/R CMD check --install=check:plyinteractions.install-out.txt --library=/Library/Frameworks/R.framework/Resources/library --no-vignettes --timings plyinteractions_1.2.0.tar.gz | 
| StartedAt: 2024-10-17 10:58:35 -0400 (Thu, 17 Oct 2024) | 
| EndedAt: 2024-10-17 11:09:42 -0400 (Thu, 17 Oct 2024) | 
| EllapsedTime: 667.5 seconds | 
| RetCode: 0 | 
| Status: OK | 
| CheckDir: plyinteractions.Rcheck | 
| Warnings: 0 | 
##############################################################################
##############################################################################
###
### Running command:
###
###   /Library/Frameworks/R.framework/Resources/bin/R CMD check --install=check:plyinteractions.install-out.txt --library=/Library/Frameworks/R.framework/Resources/library --no-vignettes --timings plyinteractions_1.2.0.tar.gz
###
##############################################################################
##############################################################################
* using log directory ‘/Users/biocbuild/bbs-3.19-bioc/meat/plyinteractions.Rcheck’
* using R version 4.4.1 (2024-06-14)
* using platform: x86_64-apple-darwin20
* R was compiled by
    Apple clang version 14.0.0 (clang-1400.0.29.202)
    GNU Fortran (GCC) 12.2.0
* running under: macOS Monterey 12.7.6
* using session charset: UTF-8
* using option ‘--no-vignettes’
* checking for file ‘plyinteractions/DESCRIPTION’ ... OK
* this is package ‘plyinteractions’ version ‘1.2.0’
* package encoding: UTF-8
* checking package namespace information ... OK
* checking package dependencies ... OK
* checking if this is a source package ... OK
* checking if there is a namespace ... OK
* checking for hidden files and directories ... OK
* checking for portable file names ... OK
* checking for sufficient/correct file permissions ... OK
* checking whether package ‘plyinteractions’ can be installed ... OK
* checking installed package size ... OK
* checking package directory ... OK
* checking ‘build’ directory ... OK
* checking DESCRIPTION meta-information ... OK
* checking top-level files ... OK
* checking for left-over files ... OK
* checking index information ... OK
* checking package subdirectories ... OK
* checking code files for non-ASCII characters ... OK
* checking R files for syntax errors ... OK
* checking whether the package can be loaded ... OK
* checking whether the package can be loaded with stated dependencies ... OK
* checking whether the package can be unloaded cleanly ... OK
* checking whether the namespace can be loaded with stated dependencies ... OK
* checking whether the namespace can be unloaded cleanly ... OK
* checking dependencies in R code ... OK
* checking S3 generic/method consistency ... OK
* checking replacement functions ... OK
* checking foreign function calls ... OK
* checking R code for possible problems ... NOTE
count.GInteractions: no visible binding for global variable ‘group’
Undefined global functions or variables:
  group
* checking Rd files ... OK
* checking Rd metadata ... OK
* checking Rd cross-references ... OK
* checking for missing documentation entries ... OK
* checking for code/documentation mismatches ... OK
* checking Rd \usage sections ... OK
* checking Rd contents ... OK
* checking for unstated dependencies in examples ... OK
* checking contents of ‘data’ directory ... OK
* checking data for non-ASCII characters ... OK
* checking data for ASCII and uncompressed saves ... OK
* checking files in ‘vignettes’ ... OK
* checking examples ... OK
Examples with CPU (user + system) or elapsed time > 5s
                        user system elapsed
ginteractions-annotate 4.914  0.172   6.168
* checking for unstated dependencies in ‘tests’ ... OK
* checking tests ...
  Running ‘testthat.R’
 OK
* checking for unstated dependencies in vignettes ... OK
* checking package vignettes ... OK
* checking running R code from vignettes ... SKIPPED
* checking re-building of vignette outputs ... SKIPPED
* checking PDF version of manual ... OK
* DONE
Status: 1 NOTE
See
  ‘/Users/biocbuild/bbs-3.19-bioc/meat/plyinteractions.Rcheck/00check.log’
for details.
plyinteractions.Rcheck/00install.out
############################################################################## ############################################################################## ### ### Running command: ### ### /Library/Frameworks/R.framework/Resources/bin/R CMD INSTALL plyinteractions ### ############################################################################## ############################################################################## * installing to library ‘/Library/Frameworks/R.framework/Versions/4.4-x86_64/Resources/library’ * installing *source* package ‘plyinteractions’ ... ** using staged installation ** R ** data ** inst ** byte-compile and prepare package for lazy loading ** help *** installing help indices *** copying figures ** building package indices ** installing vignettes ** testing if installed package can be loaded from temporary location ** testing if installed package can be loaded from final location ** testing if installed package keeps a record of temporary installation path * DONE (plyinteractions)
plyinteractions.Rcheck/tests/testthat.Rout
R version 4.4.1 (2024-06-14) -- "Race for Your Life"
Copyright (C) 2024 The R Foundation for Statistical Computing
Platform: x86_64-apple-darwin20
R is free software and comes with ABSOLUTELY NO WARRANTY.
You are welcome to redistribute it under certain conditions.
Type 'license()' or 'licence()' for distribution details.
R is a collaborative project with many contributors.
Type 'contributors()' for more information and
'citation()' on how to cite R or R packages in publications.
Type 'demo()' for some demos, 'help()' for on-line help, or
'help.start()' for an HTML browser interface to help.
Type 'q()' to quit R.
> # This file is part of the standard setup for testthat.
> # It is recommended that you do not modify it.
> #
> # Where should you do additional test configuration?
> # Learn more about the roles of various files in:
> # * https://r-pkgs.org/testing-design.html#sec-tests-files-overview
> # * https://testthat.r-lib.org/articles/special-files.html
> 
> library(testthat)
> library(plyinteractions)
Attaching package: 'plyinteractions'
The following object is masked from 'package:stats':
    filter
> 
> gi <- read.table(text = "
+         chr1 11 20 chr1 21 30 + +
+         chr1 11 20 chr1 51 55 + +
+         chr1 11 30 chr1 51 55 - -
+         chr1 11 30 chr2 51 60 - -",
+         col.names = c(
+         "seqnames1", "start1", "end1", 
+         "seqnames2", "start2", "end2", "strand1", "strand2")
+     ) |> 
+         as_ginteractions() |> 
+         mutate(score = runif(4), type = c('cis', 'cis', 'cis', 'trans'))
> 
> test_check("plyinteractions")
GInteractions object with 4 interactions and 2 metadata columns:
      seqnames1   ranges1 strand1     seqnames2   ranges2 strand2 |      score
          <Rle> <IRanges>   <Rle>         <Rle> <IRanges>   <Rle> |  <numeric>
  [1]      chr1     11-20       + ---      chr1     21-30       + | 0.86091538
  [2]      chr1     11-20       + ---      chr1     51-55       + | 0.64031061
  [3]      chr1     11-30       - ---      chr1     51-55       - | 0.00949576
  [4]      chr1     11-30       - ---      chr2     51-60       - | 0.23255051
             type
      <character>
  [1]         cis
  [2]         cis
  [3]         cis
  [4]       trans
  -------
  regions: 6 ranges and 0 metadata columns
  seqinfo: 2 sequences from an unspecified genome; no seqlengths
PinnedGInteractions object with 4 interactions and 2 metadata columns:
Pinned on: anchors2
      seqnames1   ranges1 strand1     seqnames2   ranges2 strand2 |      score
          <Rle> <IRanges>   <Rle>         <Rle> <IRanges>   <Rle> |  <numeric>
  [1]      chr1     11-20       + ---      chr1     21-30       + | 0.86091538
  [2]      chr1     11-20       + ---      chr1     51-55       + | 0.64031061
  [3]      chr1     11-30       - ---      chr1     51-55       - | 0.00949576
  [4]      chr1     11-30       - ---      chr2     51-60       - | 0.23255051
             type
      <character>
  [1]         cis
  [2]         cis
  [3]         cis
  [4]       trans
  -------
  regions: 6 ranges and 0 metadata columns
  seqinfo: 2 sequences from an unspecified genome; no seqlengths
AnchoredPinnedGInteractions object with 4 interactions and 2 metadata columns:
Pinned on: anchors2 | Anchored by: 5p
      seqnames1   ranges1 strand1     seqnames2   ranges2 strand2 |      score
          <Rle> <IRanges>   <Rle>         <Rle> <IRanges>   <Rle> |  <numeric>
  [1]      chr1     11-20       + ---      chr1     21-30       + | 0.86091538
  [2]      chr1     11-20       + ---      chr1     51-55       + | 0.64031061
  [3]      chr1     11-30       - ---      chr1     51-55       - | 0.00949576
  [4]      chr1     11-30       - ---      chr2     51-60       - | 0.23255051
             type
      <character>
  [1]         cis
  [2]         cis
  [3]         cis
  [4]       trans
  -------
  regions: 6 ranges and 0 metadata columns
  seqinfo: 2 sequences from an unspecified genome; no seqlengths
GroupedGInteractions object with 4 interactions and 3 metadata columns:
Groups: group [2]
      seqnames1   ranges1 strand1     seqnames2   ranges2 strand2 |      score
          <Rle> <IRanges>   <Rle>         <Rle> <IRanges>   <Rle> |  <numeric>
  [1]      chr1     11-20       + ---      chr1     21-30       + | 0.86091538
  [2]      chr1     11-20       + ---      chr1     51-55       + | 0.64031061
  [3]      chr1     11-30       - ---      chr1     51-55       - | 0.00949576
  [4]      chr1     11-30       - ---      chr2     51-60       - | 0.23255051
             type     group
      <character> <numeric>
  [1]         cis         1
  [2]         cis         1
  [3]         cis         2
  [4]       trans         2
  -------
  regions: 6 ranges and 0 metadata columns
  seqinfo: 2 sequences from an unspecified genome; no seqlengths
AnchoredPinnedGInteractions object with 4 interactions and 2 metadata columns:
Pinned on: anchors2 | Anchored by: 5p
      seqnames1   ranges1 strand1     seqnames2   ranges2 strand2 |      score
          <Rle> <IRanges>   <Rle>         <Rle> <IRanges>   <Rle> |  <numeric>
  [1]      chr1     11-20       + ---      chr1     21-30       + | 0.86091538
  [2]      chr1     11-20       + ---      chr1     51-55       + | 0.64031061
  [3]      chr1     11-30       - ---      chr1     51-55       - | 0.00949576
  [4]      chr1     11-30       - ---      chr2     51-60       - | 0.23255051
             type
      <character>
  [1]         cis
  [2]         cis
  [3]         cis
  [4]       trans
  -------
  regions: 6 ranges and 0 metadata columns
  seqinfo: 2 sequences from an unspecified genome; no seqlengths
[ FAIL 0 | WARN 0 | SKIP 0 | PASS 177 ]
> 
> proc.time()
   user  system elapsed 
 45.941   1.901  53.505 
plyinteractions.Rcheck/plyinteractions-Ex.timings
| name | user | system | elapsed | |
| dplyr-arrange | 1.735 | 0.120 | 2.241 | |
| dplyr-count | 2.881 | 0.052 | 3.585 | |
| dplyr-filter | 1.266 | 0.051 | 1.639 | |
| dplyr-group_by | 1.781 | 0.238 | 2.520 | |
| dplyr-mutate | 3.438 | 0.039 | 4.291 | |
| dplyr-rename | 0.358 | 0.003 | 0.425 | |
| dplyr-select | 0.695 | 0.014 | 0.847 | |
| dplyr-slice | 0.222 | 0.005 | 0.272 | |
| dplyr-summarize | 1.448 | 0.017 | 1.760 | |
| ginteractions-anchor | 0.366 | 0.005 | 0.449 | |
| ginteractions-annotate | 4.914 | 0.172 | 6.168 | |
| ginteractions-construct | 1.494 | 0.051 | 1.886 | |
| ginteractions-count-overlaps | 0.883 | 0.008 | 1.067 | |
| ginteractions-filter-overlaps | 1.082 | 0.025 | 1.310 | |
| ginteractions-find-overlaps | 1.290 | 0.092 | 1.651 | |
| ginteractions-getters | 0.403 | 0.005 | 0.494 | |
| ginteractions-join-overlap-left | 1.712 | 0.026 | 2.039 | |
| ginteractions-pin | 0.600 | 0.013 | 0.680 | |
| group-group_data | 0.507 | 0.005 | 0.554 | |
| plyranges-flank | 1.035 | 0.009 | 1.265 | |
| plyranges-shift | 1.316 | 0.016 | 1.645 | |
| plyranges-stretch | 1.431 | 0.014 | 1.727 | |
| reexports | 0.000 | 0.000 | 0.001 | |
| replace_anchors | 1.609 | 0.016 | 1.950 | |