| Back to Multiple platform build/check report for BioC 3.19: simplified long |
|
This page was generated on 2024-10-18 20:39 -0400 (Fri, 18 Oct 2024).
| Hostname | OS | Arch (*) | R version | Installed pkgs |
|---|---|---|---|---|
| nebbiolo1 | Linux (Ubuntu 22.04.3 LTS) | x86_64 | 4.4.1 (2024-06-14) -- "Race for Your Life" | 4763 |
| palomino7 | Windows Server 2022 Datacenter | x64 | 4.4.1 (2024-06-14 ucrt) -- "Race for Your Life" | 4500 |
| merida1 | macOS 12.7.5 Monterey | x86_64 | 4.4.1 (2024-06-14) -- "Race for Your Life" | 4530 |
| kjohnson1 | macOS 13.6.6 Ventura | arm64 | 4.4.1 (2024-06-14) -- "Race for Your Life" | 4480 |
| Click on any hostname to see more info about the system (e.g. compilers) (*) as reported by 'uname -p', except on Windows and Mac OS X | ||||
| Package 1491/2300 | Hostname | OS / Arch | INSTALL | BUILD | CHECK | BUILD BIN | ||||||||
| orthos 1.2.0 (landing page) Panagiotis Papasaikas
| nebbiolo1 | Linux (Ubuntu 22.04.3 LTS) / x86_64 | OK | OK | OK | |||||||||
| palomino7 | Windows Server 2022 Datacenter / x64 | OK | OK | OK | OK | |||||||||
| merida1 | macOS 12.7.5 Monterey / x86_64 | OK | OK | OK | OK | |||||||||
| kjohnson1 | macOS 13.6.6 Ventura / arm64 | OK | OK | OK | OK | |||||||||
|
To the developers/maintainers of the orthos package: - Allow up to 24 hours (and sometimes 48 hours) for your latest push to git@git.bioconductor.org:packages/orthos.git to reflect on this report. See Troubleshooting Build Report for more information. - Use the following Renviron settings to reproduce errors and warnings. - If 'R CMD check' started to fail recently on the Linux builder(s) over a missing dependency, add the missing dependency to 'Suggests:' in your DESCRIPTION file. See Renviron.bioc for more information. |
| Package: orthos |
| Version: 1.2.0 |
| Command: E:\biocbuild\bbs-3.19-bioc\R\bin\R.exe CMD check --no-multiarch --install=check:orthos.install-out.txt --library=E:\biocbuild\bbs-3.19-bioc\R\library --no-vignettes --timings orthos_1.2.0.tar.gz |
| StartedAt: 2024-10-17 04:11:18 -0400 (Thu, 17 Oct 2024) |
| EndedAt: 2024-10-17 04:24:58 -0400 (Thu, 17 Oct 2024) |
| EllapsedTime: 820.1 seconds |
| RetCode: 0 |
| Status: OK |
| CheckDir: orthos.Rcheck |
| Warnings: 0 |
##############################################################################
##############################################################################
###
### Running command:
###
### E:\biocbuild\bbs-3.19-bioc\R\bin\R.exe CMD check --no-multiarch --install=check:orthos.install-out.txt --library=E:\biocbuild\bbs-3.19-bioc\R\library --no-vignettes --timings orthos_1.2.0.tar.gz
###
##############################################################################
##############################################################################
* using log directory 'E:/biocbuild/bbs-3.19-bioc/meat/orthos.Rcheck'
* using R version 4.4.1 (2024-06-14 ucrt)
* using platform: x86_64-w64-mingw32
* R was compiled by
gcc.exe (GCC) 13.2.0
GNU Fortran (GCC) 13.2.0
* running under: Windows Server 2022 x64 (build 20348)
* using session charset: UTF-8
* using option '--no-vignettes'
* checking for file 'orthos/DESCRIPTION' ... OK
* checking extension type ... Package
* this is package 'orthos' version '1.2.0'
* package encoding: UTF-8
* checking package namespace information ... OK
* checking package dependencies ... OK
* checking if this is a source package ... OK
* checking if there is a namespace ... OK
* checking for hidden files and directories ... OK
* checking for portable file names ... OK
* checking whether package 'orthos' can be installed ... NOTE
Found the following notes/warnings:
Non-staged installation was used
See 'E:/biocbuild/bbs-3.19-bioc/meat/orthos.Rcheck/00install.out' for details.
* checking installed package size ... OK
* checking package directory ... OK
* checking 'build' directory ... OK
* checking DESCRIPTION meta-information ... OK
* checking top-level files ... OK
* checking for left-over files ... OK
* checking index information ... OK
* checking package subdirectories ... OK
* checking code files for non-ASCII characters ... OK
* checking R files for syntax errors ... OK
* checking whether the package can be loaded ... OK
* checking whether the package can be loaded with stated dependencies ... OK
* checking whether the package can be unloaded cleanly ... OK
* checking whether the namespace can be loaded with stated dependencies ... OK
* checking whether the namespace can be unloaded cleanly ... OK
* checking dependencies in R code ... OK
* checking S3 generic/method consistency ... OK
* checking replacement functions ... OK
* checking foreign function calls ... OK
* checking R code for possible problems ... OK
* checking Rd files ... OK
* checking Rd metadata ... OK
* checking Rd cross-references ... OK
* checking for missing documentation entries ... OK
* checking for code/documentation mismatches ... OK
* checking Rd \usage sections ... OK
* checking Rd contents ... OK
* checking for unstated dependencies in examples ... OK
* checking line endings in shell scripts ... OK
* checking files in 'vignettes' ... OK
* checking examples ... OK
Examples with CPU (user + system) or elapsed time > 5s
user system elapsed
decomposeVar 38.57 11.57 146.98
plotQueryResultsManh 41.77 6.70 58.78
plotQueryResultsViolin 33.95 5.75 44.27
queryWithContrasts 32.49 5.66 40.83
loadContrastDatabase 6.56 0.58 15.09
* checking for unstated dependencies in 'tests' ... OK
* checking tests ...
Running 'testthat.R'
OK
* checking for unstated dependencies in vignettes ... OK
* checking package vignettes ... OK
* checking running R code from vignettes ... SKIPPED
* checking re-building of vignette outputs ... SKIPPED
* checking PDF version of manual ... OK
* DONE
Status: 1 NOTE
See
'E:/biocbuild/bbs-3.19-bioc/meat/orthos.Rcheck/00check.log'
for details.
orthos.Rcheck/00install.out
############################################################################## ############################################################################## ### ### Running command: ### ### E:\biocbuild\bbs-3.19-bioc\R\bin\R.exe CMD INSTALL orthos ### ############################################################################## ############################################################################## * installing to library 'E:/biocbuild/bbs-3.19-bioc/R/library' * installing *source* package 'orthos' ... ** using non-staged installation via StagedInstall field ** R ** inst ** byte-compile and prepare package for lazy loading ** help *** installing help indices ** building package indices ** installing vignettes ** testing if installed package can be loaded * DONE (orthos)
orthos.Rcheck/tests/testthat.Rout
R version 4.4.1 (2024-06-14 ucrt) -- "Race for Your Life"
Copyright (C) 2024 The R Foundation for Statistical Computing
Platform: x86_64-w64-mingw32/x64
R is free software and comes with ABSOLUTELY NO WARRANTY.
You are welcome to redistribute it under certain conditions.
Type 'license()' or 'licence()' for distribution details.
R is a collaborative project with many contributors.
Type 'contributors()' for more information and
'citation()' on how to cite R or R packages in publications.
Type 'demo()' for some demos, 'help()' for on-line help, or
'help.start()' for an HTML browser interface to help.
Type 'q()' to quit R.
> # This file is part of the standard setup for testthat.
> # It is recommended that you do not modify it.
> #
> # Where should you do additional test configuration?
> # Learn more about the roles of various files in:
> # * https://r-pkgs.org/tests.html
> # * https://testthat.r-lib.org/reference/test_package.html#special-files
>
> library(testthat)
> library(orthos)
Loading required package: SummarizedExperiment
Loading required package: MatrixGenerics
Loading required package: matrixStats
Attaching package: 'MatrixGenerics'
The following objects are masked from 'package:matrixStats':
colAlls, colAnyNAs, colAnys, colAvgsPerRowSet, colCollapse,
colCounts, colCummaxs, colCummins, colCumprods, colCumsums,
colDiffs, colIQRDiffs, colIQRs, colLogSumExps, colMadDiffs,
colMads, colMaxs, colMeans2, colMedians, colMins, colOrderStats,
colProds, colQuantiles, colRanges, colRanks, colSdDiffs, colSds,
colSums2, colTabulates, colVarDiffs, colVars, colWeightedMads,
colWeightedMeans, colWeightedMedians, colWeightedSds,
colWeightedVars, rowAlls, rowAnyNAs, rowAnys, rowAvgsPerColSet,
rowCollapse, rowCounts, rowCummaxs, rowCummins, rowCumprods,
rowCumsums, rowDiffs, rowIQRDiffs, rowIQRs, rowLogSumExps,
rowMadDiffs, rowMads, rowMaxs, rowMeans2, rowMedians, rowMins,
rowOrderStats, rowProds, rowQuantiles, rowRanges, rowRanks,
rowSdDiffs, rowSds, rowSums2, rowTabulates, rowVarDiffs, rowVars,
rowWeightedMads, rowWeightedMeans, rowWeightedMedians,
rowWeightedSds, rowWeightedVars
Loading required package: GenomicRanges
Loading required package: stats4
Loading required package: BiocGenerics
Attaching package: 'BiocGenerics'
The following objects are masked from 'package:stats':
IQR, mad, sd, var, xtabs
The following objects are masked from 'package:base':
Filter, Find, Map, Position, Reduce, anyDuplicated, aperm, append,
as.data.frame, basename, cbind, colnames, dirname, do.call,
duplicated, eval, evalq, get, grep, grepl, intersect, is.unsorted,
lapply, mapply, match, mget, order, paste, pmax, pmax.int, pmin,
pmin.int, rank, rbind, rownames, sapply, setdiff, table, tapply,
union, unique, unsplit, which.max, which.min
Loading required package: S4Vectors
Attaching package: 'S4Vectors'
The following object is masked from 'package:utils':
findMatches
The following objects are masked from 'package:base':
I, expand.grid, unname
Loading required package: IRanges
Attaching package: 'IRanges'
The following object is masked from 'package:grDevices':
windows
Loading required package: GenomeInfoDb
Loading required package: Biobase
Welcome to Bioconductor
Vignettes contain introductory material; view with
'browseVignettes()'. To cite Bioconductor, see
'citation("Biobase")', and for packages 'citation("pkgname")'.
Attaching package: 'Biobase'
The following object is masked from 'package:MatrixGenerics':
rowMedians
The following objects are masked from 'package:matrixStats':
anyMissing, rowMedians
>
> test_check("orthos")
demo_decomposed_contrasts_mouse_rds already present in cache at: E:\biocbuild\ExperimentHub_cache/mouse_v212_NDF_c100_DEMOse.rds
demo_decomposed_contrasts_mouse_hdf5 already present in cache at: E:\biocbuild\ExperimentHub_cache/mouse_v212_NDF_c100_DEMOassays.h5
demo_decomposed_contrasts_human_rds already present in cache at: E:\biocbuild\ExperimentHub_cache/human_v212_NDF_c100_DEMOse.rds
demo_decomposed_contrasts_human_hdf5 already present in cache at: E:\biocbuild\ExperimentHub_cache/human_v212_NDF_c100_DEMOassays.h5
demo_decomposed_contrasts_mouse_rds already present in cache at: E:\biocbuild\ExperimentHub_cache/mouse_v212_NDF_c100_DEMOse.rds
demo_decomposed_contrasts_mouse_hdf5 already present in cache at: E:\biocbuild\ExperimentHub_cache/mouse_v212_NDF_c100_DEMOassays.h5
demo_decomposed_contrasts_human_rds already present in cache at: E:\biocbuild\ExperimentHub_cache/human_v212_NDF_c100_DEMOse.rds
demo_decomposed_contrasts_human_hdf5 already present in cache at: E:\biocbuild\ExperimentHub_cache/human_v212_NDF_c100_DEMOassays.h5
demo_decomposed_contrasts_mouse_rds already present in cache at: E:\biocbuild\ExperimentHub_cache/mouse_v212_NDF_c100_DEMOse.rds
demo_decomposed_contrasts_mouse_hdf5 already present in cache at: E:\biocbuild\ExperimentHub_cache/mouse_v212_NDF_c100_DEMOassays.h5
demo_decomposed_contrasts_human_rds already present in cache at: E:\biocbuild\ExperimentHub_cache/human_v212_NDF_c100_DEMOse.rds
demo_decomposed_contrasts_human_hdf5 already present in cache at: E:\biocbuild\ExperimentHub_cache/human_v212_NDF_c100_DEMOassays.h5
see ?orthosData and browseVignettes('orthosData') for documentation
loading from cache
require("keras")
2024-10-17 04:21:40.929833: I tensorflow/core/platform/cpu_feature_guard.cc:193] This TensorFlow binary is optimized with oneAPI Deep Neural Network Library (oneDNN) to use the following CPU instructions in performance-critical operations: AVX2
To enable them in other operations, rebuild TensorFlow with the appropriate compiler flags.
2024-10-17 04:21:40.933824: I tensorflow/core/common_runtime/process_util.cc:146] Creating new thread pool with default inter op setting: 16. Tune using inter_op_parallelism_threads for best performance.
WARNING:tensorflow:No training configuration found in the save file, so the model was *not* compiled. Compile it manually.
OMP: Warning #96: Cannot form a team with 2 threads, using 1 instead.
OMP: Hint Consider unsetting KMP_DEVICE_THREAD_LIMIT (KMP_ALL_THREADS), KMP_TEAMS_THREAD_LIMIT, and OMP_THREAD_LIMIT (if any are set).
1/1 [==============================] - ETA: 0s
1/1 [==============================] - 1s 545ms/step
see ?orthosData and browseVignettes('orthosData') for documentation
loading from cache
WARNING:tensorflow:No training configuration found in the save file, so the model was *not* compiled. Compile it manually.
see ?orthosData and browseVignettes('orthosData') for documentation
loading from cache
WARNING:tensorflow:No training configuration found in the save file, so the model was *not* compiled. Compile it manually.
1/1 [==============================] - ETA: 0s
1/1 [==============================] - 0s 109ms/step
1/1 [==============================] - ETA: 0s
1/1 [==============================] - 0s 109ms/step
see ?orthosData and browseVignettes('orthosData') for documentation
loading from cache
WARNING:tensorflow:No training configuration found in the save file, so the model was *not* compiled. Compile it manually.
1/1 [==============================] - ETA: 0s
1/1 [==============================] - 0s 125ms/step
see ?orthosData and browseVignettes('orthosData') for documentation
loading from cache
WARNING:tensorflow:No training configuration found in the save file, so the model was *not* compiled. Compile it manually.
see ?orthosData and browseVignettes('orthosData') for documentation
loading from cache
WARNING:tensorflow:No training configuration found in the save file, so the model was *not* compiled. Compile it manually.
WARNING:tensorflow:5 out of the last 5 calls to <function Model.make_predict_function.<locals>.predict_function at 0x0000023BC6FB9820> triggered tf.function retracing. Tracing is expensive and the excessive number of tracings could be due to (1) creating @tf.function repeatedly in a loop, (2) passing tensors with different shapes, (3) passing Python objects instead of tensors. For (1), please define your @tf.function outside of the loop. For (2), @tf.function has reduce_retracing=True option that can avoid unnecessary retracing. For (3), please refer to https://www.tensorflow.org/guide/function#controlling_retracing and https://www.tensorflow.org/api_docs/python/tf/function for more details.
1/1 [==============================] - ETA: 0s
1/1 [==============================] - 0s 141ms/step
WARNING:tensorflow:6 out of the last 6 calls to <function Model.make_predict_function.<locals>.predict_function at 0x0000023BC6FB9550> triggered tf.function retracing. Tracing is expensive and the excessive number of tracings could be due to (1) creating @tf.function repeatedly in a loop, (2) passing tensors with different shapes, (3) passing Python objects instead of tensors. For (1), please define your @tf.function outside of the loop. For (2), @tf.function has reduce_retracing=True option that can avoid unnecessary retracing. For (3), please refer to https://www.tensorflow.org/guide/function#controlling_retracing and https://www.tensorflow.org/api_docs/python/tf/function for more details.
1/1 [==============================] - ETA: 0s
1/1 [==============================] - 0s 109ms/step
Checking input...
demo_decomposed_contrasts_human_rds already present in cache at: E:\biocbuild\ExperimentHub_cache/human_v212_NDF_c100_DEMOse.rds
demo_decomposed_contrasts_human_hdf5 already present in cache at: E:\biocbuild\ExperimentHub_cache/human_v212_NDF_c100_DEMOassays.h5
Detecting feature ids-type...
Feature ids-type detected: GENE_SYMBOL
18051/18051 provided input features mapped against a total of 20411 model features.
2360 missing features will be set to 0.
--> Missing features corresponding to non/lowly expressed genes in your context(s) are of no consequence.
--> The model is robust to small fractions (<10%) of missing genes that are expressed in your context(s).
--> Increased numbers of missing expressed genes in your input might result in model performance decline.
Preparing input...
Encoding context...
see ?orthosData and browseVignettes('orthosData') for documentation
loading from cache
WARNING:tensorflow:No training configuration found in the save file, so the model was *not* compiled. Compile it manually.
1/1 [==============================] - ETA: 0s
1/1 [==============================] - 0s 94ms/step
Encoding and decoding contrasts...
see ?orthosData and browseVignettes('orthosData') for documentation
loading from cache
WARNING:tensorflow:No training configuration found in the save file, so the model was *not* compiled. Compile it manually.
see ?orthosData and browseVignettes('orthosData') for documentation
loading from cache
WARNING:tensorflow:No training configuration found in the save file, so the model was *not* compiled. Compile it manually.
1/1 [==============================] - ETA: 0s
1/1 [==============================] - 0s 156ms/step
1/1 [==============================] - ETA: 0s
1/1 [==============================] - 0s 141ms/step
Preparing output...
Done!
Checking input...
demo_decomposed_contrasts_mouse_rds already present in cache at: E:\biocbuild\ExperimentHub_cache/mouse_v212_NDF_c100_DEMOse.rds
demo_decomposed_contrasts_mouse_hdf5 already present in cache at: E:\biocbuild\ExperimentHub_cache/mouse_v212_NDF_c100_DEMOassays.h5
Detecting feature ids-type...
Feature ids-type detected: GENE_SYMBOL
19774/19776 provided input features mapped against a total of 20339 model features.
565 missing features will be set to 0.
--> Missing features corresponding to non/lowly expressed genes in your context(s) are of no consequence.
--> The model is robust to small fractions (<10%) of missing genes that are expressed in your context(s).
--> Increased numbers of missing expressed genes in your input might result in model performance decline.
Preparing input...
Encoding context...
see ?orthosData and browseVignettes('orthosData') for documentation
loading from cache
WARNING:tensorflow:No training configuration found in the save file, so the model was *not* compiled. Compile it manually.
1/1 [==============================] - ETA: 0s
1/1 [==============================] - 0s 125ms/step
Encoding and decoding contrasts...
see ?orthosData and browseVignettes('orthosData') for documentation
loading from cache
WARNING:tensorflow:No training configuration found in the save file, so the model was *not* compiled. Compile it manually.
see ?orthosData and browseVignettes('orthosData') for documentation
loading from cache
WARNING:tensorflow:No training configuration found in the save file, so the model was *not* compiled. Compile it manually.
1/1 [==============================] - ETA: 0s
1/1 [==============================] - 0s 172ms/step
1/1 [==============================] - ETA: 0s
1/1 [==============================] - 0s 109ms/step
Preparing output...
Done!
demo_decomposed_contrasts_human_rds already present in cache at: E:\biocbuild\ExperimentHub_cache/human_v212_NDF_c100_DEMOse.rds
demo_decomposed_contrasts_human_hdf5 already present in cache at: E:\biocbuild\ExperimentHub_cache/human_v212_NDF_c100_DEMOassays.h5
demo_decomposed_contrasts_mouse_rds already present in cache at: E:\biocbuild\ExperimentHub_cache/mouse_v212_NDF_c100_DEMOse.rds
demo_decomposed_contrasts_mouse_hdf5 already present in cache at: E:\biocbuild\ExperimentHub_cache/mouse_v212_NDF_c100_DEMOassays.h5
demo_decomposed_contrasts_human_rds already present in cache at: E:\biocbuild\ExperimentHub_cache/human_v212_NDF_c100_DEMOse.rds
demo_decomposed_contrasts_human_hdf5 already present in cache at: E:\biocbuild\ExperimentHub_cache/human_v212_NDF_c100_DEMOassays.h5
see ?orthosData and browseVignettes('orthosData') for documentation
loading from cache
WARNING:tensorflow:No training configuration found in the save file, so the model was *not* compiled. Compile it manually.
1/1 [==============================] - ETA: 0s
1/1 [==============================] - 0s 125ms/step
see ?orthosData and browseVignettes('orthosData') for documentation
loading from cache
WARNING:tensorflow:No training configuration found in the save file, so the model was *not* compiled. Compile it manually.
see ?orthosData and browseVignettes('orthosData') for documentation
loading from cache
WARNING:tensorflow:No training configuration found in the save file, so the model was *not* compiled. Compile it manually.
1/1 [==============================] - ETA: 0s
1/1 [==============================] - 0s 141ms/step
1/1 [==============================] - ETA: 0s
1/1 [==============================] - 0s 141ms/step
demo_decomposed_contrasts_human_rds already present in cache at: E:\biocbuild\ExperimentHub_cache/human_v212_NDF_c100_DEMOse.rds
demo_decomposed_contrasts_human_hdf5 already present in cache at: E:\biocbuild\ExperimentHub_cache/human_v212_NDF_c100_DEMOassays.h5
provided contrast: INPUT_CONTRASTS
provided contrast: DECODED_CONTRASTS
provided contrast: RESIDUAL_CONTRASTS
Loading contrast database...
demo_decomposed_contrasts_human_rds already present in cache at: E:\biocbuild\ExperimentHub_cache/human_v212_NDF_c100_DEMOse.rds
demo_decomposed_contrasts_human_hdf5 already present in cache at: E:\biocbuild\ExperimentHub_cache/human_v212_NDF_c100_DEMOassays.h5
Thresholding genes...
Querying contrast database with INPUT_CONTRASTS...
|
| | 0%
|
|=================================== | 50%
|
|======================================================================| 100%
Querying contrast database with DECODED_CONTRASTS...
|
| | 0%
|
|=================================== | 50%
|
|======================================================================| 100%
Querying contrast database with RESIDUAL_CONTRASTS...
|
| | 0%
|
|=================================== | 50%
|
|======================================================================| 100%
Compiling query statistics...
Done!
[ FAIL 0 | WARN 6 | SKIP 1 | PASS 216 ]
══ Skipped tests (1) ═══════════════════════════════════════════════════════════
• cannot test `mustWork` when data is available (1): 'test-decomposeVar.R:66:5'
[ FAIL 0 | WARN 6 | SKIP 1 | PASS 216 ]
>
> proc.time()
user system elapsed
170.95 29.42 264.25
orthos.Rcheck/orthos-Ex.timings
| name | user | system | elapsed | |
| decomposeVar | 38.57 | 11.57 | 146.98 | |
| loadContrastDatabase | 6.56 | 0.58 | 15.09 | |
| plotQueryResultsManh | 41.77 | 6.70 | 58.78 | |
| plotQueryResultsViolin | 33.95 | 5.75 | 44.27 | |
| queryWithContrasts | 32.49 | 5.66 | 40.83 | |
| testOrthosEnv | 0 | 0 | 0 | |