| Back to Multiple platform build/check report for BioC 3.19: simplified long | 
  | 
This page was generated on 2024-06-11 14:42 -0400 (Tue, 11 Jun 2024).
| Hostname | OS | Arch (*) | R version | Installed pkgs | 
|---|---|---|---|---|
| nebbiolo1 | Linux (Ubuntu 22.04.3 LTS) | x86_64 | 4.4.0 (2024-04-24) -- "Puppy Cup" | 4757 | 
| palomino3 | Windows Server 2022 Datacenter | x64 | 4.4.0 (2024-04-24 ucrt) -- "Puppy Cup" | 4491 | 
| lconway | macOS 12.7.1 Monterey | x86_64 | 4.4.0 (2024-04-24) -- "Puppy Cup" | 4522 | 
| kjohnson3 | macOS 13.6.5 Ventura | arm64 | 4.4.0 (2024-04-24) -- "Puppy Cup" | 4468 | 
| Click on any hostname to see more info about the system (e.g. compilers) (*) as reported by 'uname -p', except on Windows and Mac OS X | ||||
| Package 1430/2300 | Hostname | OS / Arch | INSTALL | BUILD | CHECK | BUILD BIN | ||||||||
| nipalsMCIA 1.2.0  (landing page) Maximilian Mattessich 
  | nebbiolo1 | Linux (Ubuntu 22.04.3 LTS) / x86_64 | OK | OK | OK | |||||||||
| palomino3 | Windows Server 2022 Datacenter / x64 | OK | OK | OK | OK | |||||||||
| lconway | macOS 12.7.1 Monterey / x86_64 | OK | OK | OK | OK | |||||||||
| kjohnson3 | macOS 13.6.5 Ventura / arm64 | OK | OK | OK | OK | |||||||||
| 
To the developers/maintainers of the nipalsMCIA package: - Allow up to 24 hours (and sometimes 48 hours) for your latest push to git@git.bioconductor.org:packages/nipalsMCIA.git to reflect on this report. See Troubleshooting Build Report for more information. - Use the following Renviron settings to reproduce errors and warnings. - If 'R CMD check' started to fail recently on the Linux builder(s) over a missing dependency, add the missing dependency to 'Suggests:' in your DESCRIPTION file. See Renviron.bioc for more information.  | 
| Package: nipalsMCIA | 
| Version: 1.2.0 | 
| Command: /Library/Frameworks/R.framework/Resources/bin/R CMD check --install=check:nipalsMCIA.install-out.txt --library=/Library/Frameworks/R.framework/Resources/library --no-vignettes --timings nipalsMCIA_1.2.0.tar.gz | 
| StartedAt: 2024-06-09 21:53:41 -0400 (Sun, 09 Jun 2024) | 
| EndedAt: 2024-06-09 21:59:00 -0400 (Sun, 09 Jun 2024) | 
| EllapsedTime: 318.4 seconds | 
| RetCode: 0 | 
| Status: OK | 
| CheckDir: nipalsMCIA.Rcheck | 
| Warnings: 0 | 
##############################################################################
##############################################################################
###
### Running command:
###
###   /Library/Frameworks/R.framework/Resources/bin/R CMD check --install=check:nipalsMCIA.install-out.txt --library=/Library/Frameworks/R.framework/Resources/library --no-vignettes --timings nipalsMCIA_1.2.0.tar.gz
###
##############################################################################
##############################################################################
* using log directory ‘/Users/biocbuild/bbs-3.19-bioc/meat/nipalsMCIA.Rcheck’
* using R version 4.4.0 (2024-04-24)
* using platform: x86_64-apple-darwin20
* R was compiled by
    Apple clang version 14.0.0 (clang-1400.0.29.202)
    GNU Fortran (GCC) 12.2.0
* running under: macOS Monterey 12.7.1
* using session charset: UTF-8
* using option ‘--no-vignettes’
* checking for file ‘nipalsMCIA/DESCRIPTION’ ... OK
* this is package ‘nipalsMCIA’ version ‘1.2.0’
* package encoding: UTF-8
* checking package namespace information ... OK
* checking package dependencies ... OK
* checking if this is a source package ... OK
* checking if there is a namespace ... OK
* checking for hidden files and directories ... OK
* checking for portable file names ... OK
* checking for sufficient/correct file permissions ... OK
* checking whether package ‘nipalsMCIA’ can be installed ... OK
* checking installed package size ... OK
* checking package directory ... OK
* checking ‘build’ directory ... OK
* checking DESCRIPTION meta-information ... OK
* checking top-level files ... OK
* checking for left-over files ... OK
* checking index information ... OK
* checking package subdirectories ... OK
* checking code files for non-ASCII characters ... OK
* checking R files for syntax errors ... OK
* checking whether the package can be loaded ... OK
* checking whether the package can be loaded with stated dependencies ... OK
* checking whether the package can be unloaded cleanly ... OK
* checking whether the namespace can be loaded with stated dependencies ... OK
* checking whether the namespace can be unloaded cleanly ... OK
* checking dependencies in R code ... OK
* checking S3 generic/method consistency ... OK
* checking replacement functions ... OK
* checking foreign function calls ... OK
* checking R code for possible problems ... OK
* checking Rd files ... OK
* checking Rd metadata ... OK
* checking Rd cross-references ... OK
* checking for missing documentation entries ... OK
* checking for code/documentation mismatches ... OK
* checking Rd \usage sections ... OK
* checking Rd contents ... OK
* checking for unstated dependencies in examples ... OK
* checking contents of ‘data’ directory ... OK
* checking data for non-ASCII characters ... OK
* checking data for ASCII and uncompressed saves ... OK
* checking files in ‘vignettes’ ... OK
* checking examples ... OK
Examples with CPU (user + system) or elapsed time > 5s
                                user system elapsed
block_weights_heatmap          7.392  0.492   7.909
nipals_multiblock              6.971  0.510   7.509
get_colors                     6.415  0.390   6.830
vis_load_plot                  6.304  0.498   6.833
global_scores_eigenvalues_plot 6.179  0.373   6.576
projection_plot                6.069  0.414   6.513
vis_load_ord                   5.568  0.392   5.989
ord_loadings                   5.365  0.356   5.737
get_metadata_colors            5.332  0.342   5.696
* checking for unstated dependencies in ‘tests’ ... OK
* checking tests ...
  Running ‘testthat.R’
 OK
* checking for unstated dependencies in vignettes ... OK
* checking package vignettes ... OK
* checking running R code from vignettes ... SKIPPED
* checking re-building of vignette outputs ... SKIPPED
* checking PDF version of manual ... OK
* DONE
Status: OK
nipalsMCIA.Rcheck/00install.out
############################################################################## ############################################################################## ### ### Running command: ### ### /Library/Frameworks/R.framework/Resources/bin/R CMD INSTALL nipalsMCIA ### ############################################################################## ############################################################################## * installing to library ‘/Library/Frameworks/R.framework/Versions/4.4-x86_64/Resources/library’ * installing *source* package ‘nipalsMCIA’ ... ** using staged installation ** R ** data ** inst ** byte-compile and prepare package for lazy loading ** help *** installing help indices *** copying figures ** building package indices ** installing vignettes ** testing if installed package can be loaded from temporary location ** testing if installed package can be loaded from final location ** testing if installed package keeps a record of temporary installation path * DONE (nipalsMCIA)
nipalsMCIA.Rcheck/tests/testthat.Rout
R version 4.4.0 (2024-04-24) -- "Puppy Cup"
Copyright (C) 2024 The R Foundation for Statistical Computing
Platform: x86_64-apple-darwin20
R is free software and comes with ABSOLUTELY NO WARRANTY.
You are welcome to redistribute it under certain conditions.
Type 'license()' or 'licence()' for distribution details.
R is a collaborative project with many contributors.
Type 'contributors()' for more information and
'citation()' on how to cite R or R packages in publications.
Type 'demo()' for some demos, 'help()' for on-line help, or
'help.start()' for an HTML browser interface to help.
Type 'q()' to quit R.
> # This file is part of the standard setup for testthat.
> # It is recommended that you do not modify it.
> 
> library(nipalsMCIA)
> library(testthat)
> 
> test_check("nipalsMCIA")
Performing column-level pre-processing...
Column pre-processing completed.
Performing block-level preprocessing...
Block pre-processing completed.
Computing order 1 scores
Computing order 2 scores
Performing column-level pre-processing...
Column pre-processing completed.
Performing block-level preprocessing...
Block pre-processing completed.
Computing order 1 scores
Computing order 2 scores
Computing order 3 scores
Performing column-level pre-processing...
Column pre-processing completed.
Performing block-level preprocessing...
Block pre-processing completed.
Computing order 1 scores
Computing order 2 scores
Running GSEA for Factor 1
  |                                                                            
  |                                                                      |   0%
  |                                                                            
  |=                                                                     |   2%
  |                                                                            
  |==                                                                    |   3%
  |                                                                            
  |===                                                                   |   5%
  |                                                                            
  |====                                                                  |   6%
  |                                                                            
  |======                                                                |   8%
  |                                                                            
  |=======                                                               |  10%
  |                                                                            
  |========                                                              |  11%
  |                                                                            
  |=========                                                             |  13%
  |                                                                            
  |==========                                                            |  14%
  |                                                                            
  |===========                                                           |  16%
  |                                                                            
  |============                                                          |  17%
  |                                                                            
  |=============                                                         |  19%
  |                                                                            
  |==============                                                        |  21%
  |                                                                            
  |================                                                      |  22%
  |                                                                            
  |=================                                                     |  24%
  |                                                                            
  |==================                                                    |  25%
  |                                                                            
  |===================                                                   |  27%
  |                                                                            
  |====================                                                  |  29%
  |                                                                            
  |=====================                                                 |  30%
  |                                                                            
  |======================                                                |  32%
  |                                                                            
  |=======================                                               |  33%
  |                                                                            
  |========================                                              |  35%
  |                                                                            
  |==========================                                            |  37%
  |                                                                            
  |===========================                                           |  38%
  |                                                                            
  |============================                                          |  40%
  |                                                                            
  |=============================                                         |  41%
  |                                                                            
  |==============================                                        |  43%
  |                                                                            
  |===============================                                       |  44%
  |                                                                            
  |================================                                      |  46%
  |                                                                            
  |=================================                                     |  48%
  |                                                                            
  |==================================                                    |  49%
  |                                                                            
  |====================================                                  |  51%
  |                                                                            
  |=====================================                                 |  52%
  |                                                                            
  |======================================                                |  54%
  |                                                                            
  |=======================================                               |  56%
  |                                                                            
  |========================================                              |  57%
  |                                                                            
  |=========================================                             |  59%
  |                                                                            
  |==========================================                            |  60%
  |                                                                            
  |===========================================                           |  62%
  |                                                                            
  |============================================                          |  63%
  |                                                                            
  |==============================================                        |  65%
  |                                                                            
  |===============================================                       |  67%
  |                                                                            
  |================================================                      |  68%
  |                                                                            
  |=================================================                     |  70%
  |                                                                            
  |==================================================                    |  71%
  |                                                                            
  |===================================================                   |  73%
  |                                                                            
  |====================================================                  |  75%
  |                                                                            
  |=====================================================                 |  76%
  |                                                                            
  |======================================================                |  78%
  |                                                                            
  |========================================================              |  79%
  |                                                                            
  |=========================================================             |  81%
  |                                                                            
  |==========================================================            |  83%
  |                                                                            
  |===========================================================           |  84%
  |                                                                            
  |============================================================          |  86%
  |                                                                            
  |=============================================================         |  87%
  |                                                                            
  |==============================================================        |  89%
  |                                                                            
  |===============================================================       |  90%
  |                                                                            
  |================================================================      |  92%
  |                                                                            
  |==================================================================    |  94%
  |                                                                            
  |===================================================================   |  95%
  |                                                                            
  |====================================================================  |  97%
  |                                                                            
  |===================================================================== |  98%
  |                                                                            
  |======================================================================| 100%
Performing column-level pre-processing...
Column pre-processing completed.
Performing block-level preprocessing...
Block pre-processing completed.
Computing order 1 scores
Computing order 2 scores
Computing order 3 scores
Computing order 4 scores
Performing pre-processing on data
Pre-processing completed
color_col option not recognized, defaulting to black/white plotting.
[ FAIL 0 | WARN 0 | SKIP 0 | PASS 57 ]
> 
> proc.time()
   user  system elapsed 
 35.469   1.393  37.292 
nipalsMCIA.Rcheck/nipalsMCIA-Ex.timings
| name | user | system | elapsed | |
| block_preproc | 0.001 | 0.001 | 0.001 | |
| block_weights_heatmap | 7.392 | 0.492 | 7.909 | |
| cc_preproc | 0.000 | 0.000 | 0.001 | |
| col_preproc | 0 | 0 | 0 | |
| deflate_block_bl | 0.001 | 0.001 | 0.001 | |
| deflate_block_gs | 0.001 | 0.000 | 0.000 | |
| extract_from_mae | 0.700 | 0.043 | 0.747 | |
| get_colors | 6.415 | 0.390 | 6.830 | |
| get_metadata_colors | 5.332 | 0.342 | 5.696 | |
| get_tv | 0.242 | 0.020 | 0.264 | |
| global_scores_eigenvalues_plot | 6.179 | 0.373 | 6.576 | |
| nipals_iter | 0.301 | 0.005 | 0.307 | |
| nipals_multiblock | 6.971 | 0.510 | 7.509 | |
| nmb_get_bl | 4.245 | 0.306 | 4.568 | |
| nmb_get_bs | 3.873 | 0.232 | 4.118 | |
| nmb_get_bs_weights | 4.496 | 0.289 | 4.796 | |
| nmb_get_eigs | 4.415 | 0.292 | 4.717 | |
| nmb_get_gl | 3.836 | 0.358 | 4.204 | |
| nmb_get_gs | 4.608 | 0.246 | 4.864 | |
| nmb_get_metadata | 3.783 | 0.243 | 4.033 | |
| ord_loadings | 5.365 | 0.356 | 5.737 | |
| predict_gs | 1.773 | 0.067 | 1.845 | |
| projection_plot | 6.069 | 0.414 | 6.513 | |
| simple_mae | 0.398 | 0.046 | 0.445 | |
| vis_load_ord | 5.568 | 0.392 | 5.989 | |
| vis_load_plot | 6.304 | 0.498 | 6.833 | |