| Back to Multiple platform build/check report for BioC 3.19: simplified long |
|
This page was generated on 2024-10-18 20:39 -0400 (Fri, 18 Oct 2024).
| Hostname | OS | Arch (*) | R version | Installed pkgs |
|---|---|---|---|---|
| nebbiolo1 | Linux (Ubuntu 22.04.3 LTS) | x86_64 | 4.4.1 (2024-06-14) -- "Race for Your Life" | 4763 |
| palomino7 | Windows Server 2022 Datacenter | x64 | 4.4.1 (2024-06-14 ucrt) -- "Race for Your Life" | 4500 |
| merida1 | macOS 12.7.5 Monterey | x86_64 | 4.4.1 (2024-06-14) -- "Race for Your Life" | 4530 |
| kjohnson1 | macOS 13.6.6 Ventura | arm64 | 4.4.1 (2024-06-14) -- "Race for Your Life" | 4480 |
| Click on any hostname to see more info about the system (e.g. compilers) (*) as reported by 'uname -p', except on Windows and Mac OS X | ||||
| Package 1429/2300 | Hostname | OS / Arch | INSTALL | BUILD | CHECK | BUILD BIN | ||||||||
| ngsReports 2.6.1 (landing page) Stevie Pederson
| nebbiolo1 | Linux (Ubuntu 22.04.3 LTS) / x86_64 | OK | OK | OK | |||||||||
| palomino7 | Windows Server 2022 Datacenter / x64 | OK | OK | OK | OK | |||||||||
| merida1 | macOS 12.7.5 Monterey / x86_64 | OK | OK | OK | OK | |||||||||
| kjohnson1 | macOS 13.6.6 Ventura / arm64 | OK | OK | OK | OK | |||||||||
|
To the developers/maintainers of the ngsReports package: - Allow up to 24 hours (and sometimes 48 hours) for your latest push to git@git.bioconductor.org:packages/ngsReports.git to reflect on this report. See Troubleshooting Build Report for more information. - Use the following Renviron settings to reproduce errors and warnings. - If 'R CMD check' started to fail recently on the Linux builder(s) over a missing dependency, add the missing dependency to 'Suggests:' in your DESCRIPTION file. See Renviron.bioc for more information. |
| Package: ngsReports |
| Version: 2.6.1 |
| Command: E:\biocbuild\bbs-3.19-bioc\R\bin\R.exe CMD check --no-multiarch --install=check:ngsReports.install-out.txt --library=E:\biocbuild\bbs-3.19-bioc\R\library --no-vignettes --timings ngsReports_2.6.1.tar.gz |
| StartedAt: 2024-10-17 03:58:28 -0400 (Thu, 17 Oct 2024) |
| EndedAt: 2024-10-17 04:02:18 -0400 (Thu, 17 Oct 2024) |
| EllapsedTime: 230.8 seconds |
| RetCode: 0 |
| Status: OK |
| CheckDir: ngsReports.Rcheck |
| Warnings: 0 |
##############################################################################
##############################################################################
###
### Running command:
###
### E:\biocbuild\bbs-3.19-bioc\R\bin\R.exe CMD check --no-multiarch --install=check:ngsReports.install-out.txt --library=E:\biocbuild\bbs-3.19-bioc\R\library --no-vignettes --timings ngsReports_2.6.1.tar.gz
###
##############################################################################
##############################################################################
* using log directory 'E:/biocbuild/bbs-3.19-bioc/meat/ngsReports.Rcheck'
* using R version 4.4.1 (2024-06-14 ucrt)
* using platform: x86_64-w64-mingw32
* R was compiled by
gcc.exe (GCC) 13.2.0
GNU Fortran (GCC) 13.2.0
* running under: Windows Server 2022 x64 (build 20348)
* using session charset: UTF-8
* using option '--no-vignettes'
* checking for file 'ngsReports/DESCRIPTION' ... OK
* this is package 'ngsReports' version '2.6.1'
* package encoding: UTF-8
* checking package namespace information ... OK
* checking package dependencies ... OK
* checking if this is a source package ... OK
* checking if there is a namespace ... OK
* checking for hidden files and directories ... OK
* checking for portable file names ... OK
* checking whether package 'ngsReports' can be installed ... OK
* checking installed package size ... OK
* checking package directory ... OK
* checking 'build' directory ... OK
* checking DESCRIPTION meta-information ... OK
* checking top-level files ... OK
* checking for left-over files ... OK
* checking index information ... OK
* checking package subdirectories ... OK
* checking code files for non-ASCII characters ... OK
* checking R files for syntax errors ... OK
* checking whether the package can be loaded ... OK
* checking whether the package can be loaded with stated dependencies ... OK
* checking whether the package can be unloaded cleanly ... OK
* checking whether the namespace can be loaded with stated dependencies ... OK
* checking whether the namespace can be unloaded cleanly ... OK
* checking dependencies in R code ... OK
* checking S3 generic/method consistency ... OK
* checking replacement functions ... OK
* checking foreign function calls ... OK
* checking R code for possible problems ... OK
* checking Rd files ... OK
* checking Rd metadata ... OK
* checking Rd cross-references ... OK
* checking for missing documentation entries ... OK
* checking for code/documentation mismatches ... OK
* checking Rd \usage sections ... OK
* checking Rd contents ... OK
* checking for unstated dependencies in examples ... OK
* checking contents of 'data' directory ... OK
* checking data for non-ASCII characters ... OK
* checking LazyData ... OK
* checking data for ASCII and uncompressed saves ... OK
* checking files in 'vignettes' ... OK
* checking examples ... OK
* checking for unstated dependencies in 'tests' ... OK
* checking tests ...
Running 'testthat.R'
OK
* checking for unstated dependencies in vignettes ... OK
* checking package vignettes ... OK
* checking running R code from vignettes ... SKIPPED
* checking re-building of vignette outputs ... SKIPPED
* checking PDF version of manual ... OK
* DONE
Status: OK
ngsReports.Rcheck/00install.out
############################################################################## ############################################################################## ### ### Running command: ### ### E:\biocbuild\bbs-3.19-bioc\R\bin\R.exe CMD INSTALL ngsReports ### ############################################################################## ############################################################################## * installing to library 'E:/biocbuild/bbs-3.19-bioc/R/library' * installing *source* package 'ngsReports' ... ** using staged installation ** R ** data *** moving datasets to lazyload DB ** inst ** byte-compile and prepare package for lazy loading ** help *** installing help indices *** copying figures ** building package indices ** installing vignettes ** testing if installed package can be loaded from temporary location ** testing if installed package can be loaded from final location ** testing if installed package keeps a record of temporary installation path * DONE (ngsReports)
ngsReports.Rcheck/tests/testthat.Rout
R version 4.4.1 (2024-06-14 ucrt) -- "Race for Your Life"
Copyright (C) 2024 The R Foundation for Statistical Computing
Platform: x86_64-w64-mingw32/x64
R is free software and comes with ABSOLUTELY NO WARRANTY.
You are welcome to redistribute it under certain conditions.
Type 'license()' or 'licence()' for distribution details.
R is a collaborative project with many contributors.
Type 'contributors()' for more information and
'citation()' on how to cite R or R packages in publications.
Type 'demo()' for some demos, 'help()' for on-line help, or
'help.start()' for an HTML browser interface to help.
Type 'q()' to quit R.
> library(testthat)
> library(ngsReports)
Loading required package: BiocGenerics
Attaching package: 'BiocGenerics'
The following objects are masked from 'package:stats':
IQR, mad, sd, var, xtabs
The following objects are masked from 'package:base':
Filter, Find, Map, Position, Reduce, anyDuplicated, aperm, append,
as.data.frame, basename, cbind, colnames, dirname, do.call,
duplicated, eval, evalq, get, grep, grepl, intersect, is.unsorted,
lapply, mapply, match, mget, order, paste, pmax, pmax.int, pmin,
pmin.int, rank, rbind, rownames, sapply, setdiff, table, tapply,
union, unique, unsplit, which.max, which.min
Loading required package: ggplot2
Loading required package: patchwork
Loading required package: tibble
>
> test_check("ngsReports")
[ FAIL 0 | WARN 0 | SKIP 0 | PASS 387 ]
>
> proc.time()
user system elapsed
58.00 3.23 63.64
ngsReports.Rcheck/ngsReports-Ex.timings
| name | user | system | elapsed | |
| FastqcData | 0.09 | 0.00 | 0.10 | |
| FastqcDataList | 0.48 | 0.05 | 0.53 | |
| TheoreticalGC-class | 0.11 | 0.00 | 0.13 | |
| dot-FastqcFile-class | 0 | 0 | 0 | |
| dot-addPercent | 0 | 0 | 0 | |
| dot-emptyPlot | 0.17 | 0.00 | 0.17 | |
| dot-makeDendro | 0.58 | 0.05 | 0.62 | |
| dot-makeLabels | 0 | 0 | 0 | |
| dot-splitByTab | 0.02 | 0.00 | 0.02 | |
| estGcDistn | 0.03 | 0.00 | 0.03 | |
| extract-methods | 0.31 | 0.01 | 0.33 | |
| fqName-methods | 0.33 | 0.05 | 0.37 | |
| fqcVersion | 0.47 | 0.03 | 0.50 | |
| gcAvail | 0.03 | 0.00 | 0.04 | |
| gcTheoretical | 0.06 | 0.00 | 0.06 | |
| getColours-methods | 0 | 0 | 0 | |
| getGC | 0.03 | 0.00 | 0.03 | |
| getModule | 0.45 | 0.03 | 0.48 | |
| getSummary | 0.55 | 0.02 | 0.57 | |
| importNgsLogs | 0.03 | 0.00 | 0.03 | |
| importSJ | 0.02 | 0.00 | 0.01 | |
| isCompressed | 0 | 0 | 0 | |
| mData | 0.04 | 0.00 | 0.05 | |
| maxAdapterContent | 0.47 | 0.03 | 0.50 | |
| overRep2Fasta-methods | 0.49 | 0.03 | 0.52 | |
| path | 0.44 | 0.03 | 0.46 | |
| plotAdapterContent-methods | 3.26 | 0.05 | 3.32 | |
| plotAlignmentSummary | 0.67 | 0.00 | 0.67 | |
| plotAssemblyStats | 0.63 | 0.11 | 0.73 | |
| plotBaseQuals-methods | 1.83 | 0.05 | 1.88 | |
| plotDupLevels-methods | 1.06 | 0.04 | 1.11 | |
| plotFastqcPCA-methods | 0.50 | 0.05 | 0.54 | |
| plotGcContent-methods | 1.01 | 0.06 | 1.08 | |
| plotInsertSize-methods | 0.58 | 0.03 | 0.61 | |
| plotKmers-methods | 1.74 | 0.05 | 1.78 | |
| plotNContent-methods | 1.00 | 0.02 | 1.02 | |
| plotOverrep-methods | 0.95 | 0.01 | 0.97 | |
| plotReadTotals-methods | 0.87 | 0.05 | 0.92 | |
| plotSeqContent-methods | 3.86 | 0.06 | 3.92 | |
| plotSeqLengthDistn-methods | 1.22 | 0.08 | 1.30 | |
| plotSeqQuals-methods | 1.25 | 0.08 | 1.33 | |
| plotSummary-methods | 0.53 | 0.03 | 0.56 | |
| pwf | 0 | 0 | 0 | |
| readTotals | 0.36 | 0.03 | 0.39 | |
| summariseOverrep-methods | 0.83 | 0.01 | 0.84 | |
| writeHtmlReport | 0 | 0 | 0 | |