| Back to Multiple platform build/check report for BioC 3.19: simplified long |
|
This page was generated on 2024-10-18 20:38 -0400 (Fri, 18 Oct 2024).
| Hostname | OS | Arch (*) | R version | Installed pkgs |
|---|---|---|---|---|
| nebbiolo1 | Linux (Ubuntu 22.04.3 LTS) | x86_64 | 4.4.1 (2024-06-14) -- "Race for Your Life" | 4763 |
| palomino7 | Windows Server 2022 Datacenter | x64 | 4.4.1 (2024-06-14 ucrt) -- "Race for Your Life" | 4500 |
| merida1 | macOS 12.7.5 Monterey | x86_64 | 4.4.1 (2024-06-14) -- "Race for Your Life" | 4530 |
| kjohnson1 | macOS 13.6.6 Ventura | arm64 | 4.4.1 (2024-06-14) -- "Race for Your Life" | 4480 |
| Click on any hostname to see more info about the system (e.g. compilers) (*) as reported by 'uname -p', except on Windows and Mac OS X | ||||
| Package 1412/2300 | Hostname | OS / Arch | INSTALL | BUILD | CHECK | BUILD BIN | ||||||||
| nearBynding 1.14.0 (landing page) Veronica Busa
| nebbiolo1 | Linux (Ubuntu 22.04.3 LTS) / x86_64 | OK | OK | OK | |||||||||
| palomino7 | Windows Server 2022 Datacenter / x64 | OK | OK | OK | OK | |||||||||
| merida1 | macOS 12.7.5 Monterey / x86_64 | OK | OK | OK | OK | |||||||||
| kjohnson1 | macOS 13.6.6 Ventura / arm64 | OK | OK | OK | OK | |||||||||
|
To the developers/maintainers of the nearBynding package: - Allow up to 24 hours (and sometimes 48 hours) for your latest push to git@git.bioconductor.org:packages/nearBynding.git to reflect on this report. See Troubleshooting Build Report for more information. - Use the following Renviron settings to reproduce errors and warnings. - If 'R CMD check' started to fail recently on the Linux builder(s) over a missing dependency, add the missing dependency to 'Suggests:' in your DESCRIPTION file. See Renviron.bioc for more information. |
| Package: nearBynding |
| Version: 1.14.0 |
| Command: /home/biocbuild/bbs-3.19-bioc/R/bin/R CMD check --install=check:nearBynding.install-out.txt --library=/home/biocbuild/bbs-3.19-bioc/R/site-library --timings nearBynding_1.14.0.tar.gz |
| StartedAt: 2024-10-17 03:02:02 -0400 (Thu, 17 Oct 2024) |
| EndedAt: 2024-10-17 03:07:21 -0400 (Thu, 17 Oct 2024) |
| EllapsedTime: 318.6 seconds |
| RetCode: 0 |
| Status: OK |
| CheckDir: nearBynding.Rcheck |
| Warnings: 0 |
##############################################################################
##############################################################################
###
### Running command:
###
### /home/biocbuild/bbs-3.19-bioc/R/bin/R CMD check --install=check:nearBynding.install-out.txt --library=/home/biocbuild/bbs-3.19-bioc/R/site-library --timings nearBynding_1.14.0.tar.gz
###
##############################################################################
##############################################################################
* using log directory ‘/home/biocbuild/bbs-3.19-bioc/meat/nearBynding.Rcheck’
* using R version 4.4.1 (2024-06-14)
* using platform: x86_64-pc-linux-gnu
* R was compiled by
gcc (Ubuntu 11.4.0-1ubuntu1~22.04) 11.4.0
GNU Fortran (Ubuntu 11.4.0-1ubuntu1~22.04) 11.4.0
* running under: Ubuntu 22.04.5 LTS
* using session charset: UTF-8
* checking for file ‘nearBynding/DESCRIPTION’ ... OK
* checking extension type ... Package
* this is package ‘nearBynding’ version ‘1.14.0’
* package encoding: UTF-8
* checking package namespace information ... OK
* checking package dependencies ... OK
* checking if this is a source package ... OK
* checking if there is a namespace ... OK
* checking for hidden files and directories ... OK
* checking for portable file names ... OK
* checking for sufficient/correct file permissions ... OK
* checking whether package ‘nearBynding’ can be installed ... OK
* checking installed package size ... OK
* checking package directory ... OK
* checking ‘build’ directory ... OK
* checking DESCRIPTION meta-information ... OK
* checking top-level files ... OK
* checking for left-over files ... OK
* checking index information ... OK
* checking package subdirectories ... OK
* checking code files for non-ASCII characters ... OK
* checking R files for syntax errors ... OK
* checking whether the package can be loaded ... OK
* checking whether the package can be loaded with stated dependencies ... OK
* checking whether the package can be unloaded cleanly ... OK
* checking whether the namespace can be loaded with stated dependencies ... OK
* checking whether the namespace can be unloaded cleanly ... OK
* checking loading without being on the library search path ... OK
* checking dependencies in R code ... OK
* checking S3 generic/method consistency ... OK
* checking replacement functions ... OK
* checking foreign function calls ... OK
* checking R code for possible problems ... OK
* checking Rd files ... OK
* checking Rd metadata ... OK
* checking Rd cross-references ... OK
* checking for missing documentation entries ... OK
* checking for code/documentation mismatches ... OK
* checking Rd \usage sections ... OK
* checking Rd contents ... OK
* checking for unstated dependencies in examples ... OK
* checking files in ‘vignettes’ ... OK
* checking examples ... OK
Examples with CPU (user + system) or elapsed time > 5s
user system elapsed
processCapRout 17.981 0.506 18.489
* checking for unstated dependencies in vignettes ... OK
* checking package vignettes ... OK
* checking re-building of vignette outputs ... OK
* checking PDF version of manual ... OK
* DONE
Status: OK
nearBynding.Rcheck/00install.out
############################################################################## ############################################################################## ### ### Running command: ### ### /home/biocbuild/bbs-3.19-bioc/R/bin/R CMD INSTALL nearBynding ### ############################################################################## ############################################################################## * installing to library ‘/home/biocbuild/bbs-3.19-bioc/R/site-library’ * installing *source* package ‘nearBynding’ ... ** using staged installation ** R ** inst ** byte-compile and prepare package for lazy loading ** help *** installing help indices ** building package indices ** installing vignettes ** testing if installed package can be loaded from temporary location ** testing if installed package can be loaded from final location ** testing if installed package keeps a record of temporary installation path * DONE (nearBynding)
nearBynding.Rcheck/nearBynding-Ex.timings
| name | user | system | elapsed | |
| CleanBAMtoBG | 0.037 | 0.000 | 0.037 | |
| CleanBEDtoBG | 0.006 | 0.001 | 0.007 | |
| ExtractTranscriptomeSequence | 0 | 0 | 0 | |
| GenomeMappingToChainFile | 3.905 | 0.159 | 4.065 | |
| assessGrouping | 0.995 | 0.032 | 1.026 | |
| bindingContextDistance | 0.111 | 0.012 | 0.130 | |
| bindingContextDistanceCapR | 0.293 | 0.008 | 0.300 | |
| getChainChrSize | 3.023 | 0.008 | 3.031 | |
| get_outfiles | 0.002 | 0.004 | 0.007 | |
| liftOverToExomicBG | 3.535 | 0.068 | 3.604 | |
| nearBynding-package | 0.000 | 0.001 | 0.000 | |
| processCapRout | 17.981 | 0.506 | 18.489 | |
| runCapR | 0.002 | 0.000 | 0.002 | |
| runStereogene | 0.001 | 0.001 | 0.002 | |
| runStereogeneOnCapR | 0.005 | 0.003 | 0.009 | |
| symmetryCapR | 0.297 | 0.004 | 0.301 | |
| symmetryContext | 0.046 | 0.004 | 0.050 | |
| visualizeCapRStereogene | 4.843 | 0.060 | 4.874 | |
| visualizeStereogene | 4.567 | 0.028 | 4.568 | |
| write_config | 0.001 | 0.000 | 0.001 | |
| write_fasta | 0.002 | 0.000 | 0.002 | |