| Back to Multiple platform build/check report for BioC 3.19: simplified long |
|
This page was generated on 2024-10-18 20:41 -0400 (Fri, 18 Oct 2024).
| Hostname | OS | Arch (*) | R version | Installed pkgs |
|---|---|---|---|---|
| nebbiolo1 | Linux (Ubuntu 22.04.3 LTS) | x86_64 | 4.4.1 (2024-06-14) -- "Race for Your Life" | 4763 |
| palomino7 | Windows Server 2022 Datacenter | x64 | 4.4.1 (2024-06-14 ucrt) -- "Race for Your Life" | 4500 |
| merida1 | macOS 12.7.5 Monterey | x86_64 | 4.4.1 (2024-06-14) -- "Race for Your Life" | 4530 |
| kjohnson1 | macOS 13.6.6 Ventura | arm64 | 4.4.1 (2024-06-14) -- "Race for Your Life" | 4480 |
| Click on any hostname to see more info about the system (e.g. compilers) (*) as reported by 'uname -p', except on Windows and Mac OS X | ||||
| Package 1261/2300 | Hostname | OS / Arch | INSTALL | BUILD | CHECK | BUILD BIN | ||||||||
| microbiome 1.26.0 (landing page) Leo Lahti
| nebbiolo1 | Linux (Ubuntu 22.04.3 LTS) / x86_64 | OK | OK | OK | |||||||||
| palomino7 | Windows Server 2022 Datacenter / x64 | OK | OK | OK | OK | |||||||||
| merida1 | macOS 12.7.5 Monterey / x86_64 | OK | OK | OK | OK | |||||||||
| kjohnson1 | macOS 13.6.6 Ventura / arm64 | OK | OK | ERROR | OK | |||||||||
|
To the developers/maintainers of the microbiome package: - Allow up to 24 hours (and sometimes 48 hours) for your latest push to git@git.bioconductor.org:packages/microbiome.git to reflect on this report. See Troubleshooting Build Report for more information. - Use the following Renviron settings to reproduce errors and warnings. - If 'R CMD check' started to fail recently on the Linux builder(s) over a missing dependency, add the missing dependency to 'Suggests:' in your DESCRIPTION file. See Renviron.bioc for more information. |
| Package: microbiome |
| Version: 1.26.0 |
| Command: /Library/Frameworks/R.framework/Resources/bin/R CMD check --install=check:microbiome.install-out.txt --library=/Library/Frameworks/R.framework/Resources/library --no-vignettes --timings microbiome_1.26.0.tar.gz |
| StartedAt: 2024-10-17 08:26:48 -0400 (Thu, 17 Oct 2024) |
| EndedAt: 2024-10-17 08:48:26 -0400 (Thu, 17 Oct 2024) |
| EllapsedTime: 1298.0 seconds |
| RetCode: 0 |
| Status: OK |
| CheckDir: microbiome.Rcheck |
| Warnings: 0 |
##############################################################################
##############################################################################
###
### Running command:
###
### /Library/Frameworks/R.framework/Resources/bin/R CMD check --install=check:microbiome.install-out.txt --library=/Library/Frameworks/R.framework/Resources/library --no-vignettes --timings microbiome_1.26.0.tar.gz
###
##############################################################################
##############################################################################
* using log directory ‘/Users/biocbuild/bbs-3.19-bioc/meat/microbiome.Rcheck’
* using R version 4.4.1 (2024-06-14)
* using platform: x86_64-apple-darwin20
* R was compiled by
Apple clang version 14.0.0 (clang-1400.0.29.202)
GNU Fortran (GCC) 12.2.0
* running under: macOS Monterey 12.7.6
* using session charset: UTF-8
* using option ‘--no-vignettes’
* checking for file ‘microbiome/DESCRIPTION’ ... OK
* checking extension type ... Package
* this is package ‘microbiome’ version ‘1.26.0’
* package encoding: UTF-8
* checking package namespace information ... OK
* checking package dependencies ... OK
* checking if this is a source package ... OK
* checking if there is a namespace ... OK
* checking for hidden files and directories ... OK
* checking for portable file names ... OK
* checking for sufficient/correct file permissions ... OK
* checking whether package ‘microbiome’ can be installed ... OK
* checking installed package size ... OK
* checking package directory ... OK
* checking ‘build’ directory ... OK
* checking DESCRIPTION meta-information ... OK
* checking top-level files ... OK
* checking for left-over files ... OK
* checking index information ... OK
* checking package subdirectories ... NOTE
Problems with news in ‘NEWS’:
Cannot process chunk/lines:
CHANGES IN VERSION 0.1.2
# New features
o Added plot_abundances function
o Added Chao1 index in richness function
o In atlas1006 data set, pseudocount of +1 in otu table has been
removed to facilitate comparison with sequencing data sets and to
avoid confusion
o In atlas1006 data set, only a single replicate per subject-time
combination is chosen (at random)
o New function collapse_replicates has been added
# Major changes
o Abundance matrices (otu tables) for all example data sets now
starting from 0 without pseudocount
# Minor changes
o Changed the default for the detection argument in the richness function to
detection=0
o Color order in plot_landscape legend now follows the factor levels
of the col argument
o Various minor fixes; see github commits for many more details
* checking code files for non-ASCII characters ... OK
* checking R files for syntax errors ... OK
* checking whether the package can be loaded ... OK
* checking whether the package can be loaded with stated dependencies ... OK
* checking whether the package can be unloaded cleanly ... OK
* checking whether the namespace can be loaded with stated dependencies ... OK
* checking whether the namespace can be unloaded cleanly ... OK
* checking whether startup messages can be suppressed ... OK
* checking dependencies in R code ... OK
* checking S3 generic/method consistency ... OK
* checking replacement functions ... OK
* checking foreign function calls ... OK
* checking R code for possible problems ... OK
* checking Rd files ... NOTE
checkRd: (-1) bimodality.Rd:51-52: Lost braces in \itemize; meant \describe ?
checkRd: (-1) bimodality.Rd:53-54: Lost braces in \itemize; meant \describe ?
checkRd: (-1) bimodality.Rd:55-58: Lost braces in \itemize; meant \describe ?
checkRd: (-1) bimodality.Rd:38-39: Lost braces in \itemize; \value handles \item{}{} directly
checkRd: (-1) bimodality.Rd:40-41: Lost braces in \itemize; \value handles \item{}{} directly
checkRd: (-1) bimodality.Rd:42-43: Lost braces in \itemize; \value handles \item{}{} directly
checkRd: (-1) bimodality.Rd:91-93: Lost braces in \itemize; meant \describe ?
checkRd: (-1) bimodality.Rd:94-95: Lost braces in \itemize; meant \describe ?
checkRd: (-1) bimodality.Rd:96: Lost braces in \itemize; meant \describe ?
checkRd: (-1) bimodality.Rd:97: Lost braces in \itemize; meant \describe ?
checkRd: (-1) bimodality.Rd:98: Lost braces in \itemize; meant \describe ?
checkRd: (-1) bimodality.Rd:99: Lost braces in \itemize; meant \describe ?
checkRd: (-1) bimodality_sarle.Rd:45: Lost braces in \itemize; meant \describe ?
checkRd: (-1) bimodality_sarle.Rd:46: Lost braces in \itemize; meant \describe ?
checkRd: (-1) bimodality_sarle.Rd:47: Lost braces in \itemize; meant \describe ?
checkRd: (-1) bimodality_sarle.Rd:48: Lost braces in \itemize; meant \describe ?
checkRd: (-1) diversity.Rd:28-29: Lost braces in \itemize; meant \describe ?
checkRd: (-1) diversity.Rd:30-32: Lost braces in \itemize; meant \describe ?
checkRd: (-1) diversity.Rd:33: Lost braces in \itemize; meant \describe ?
checkRd: (-1) diversity.Rd:34: Lost braces in \itemize; meant \describe ?
checkRd: (-1) diversity.Rd:35-36: Lost braces in \itemize; meant \describe ?
checkRd: (-1) dominance.Rd:39-43: Lost braces in \itemize; meant \describe ?
checkRd: (-1) dominance.Rd:44-45: Lost braces in \itemize; meant \describe ?
checkRd: (-1) dominance.Rd:46-48: Lost braces in \itemize; meant \describe ?
checkRd: (-1) dominance.Rd:49-51: Lost braces in \itemize; meant \describe ?
checkRd: (-1) dominance.Rd:52-58: Lost braces in \itemize; meant \describe ?
checkRd: (-1) dominance.Rd:59-60: Lost braces in \itemize; meant \describe ?
checkRd: (-1) dominance.Rd:61-62: Lost braces in \itemize; meant \describe ?
checkRd: (-1) multimodality.Rd:33-34: Lost braces in \itemize; \value handles \item{}{} directly
checkRd: (-1) multimodality.Rd:35-36: Lost braces in \itemize; \value handles \item{}{} directly
checkRd: (-1) multimodality.Rd:37-38: Lost braces in \itemize; \value handles \item{}{} directly
checkRd: (-1) multimodality.Rd:55-57: Lost braces in \itemize; meant \describe ?
checkRd: (-1) multimodality.Rd:58-59: Lost braces in \itemize; meant \describe ?
checkRd: (-1) potential_analysis.Rd:30-31: Lost braces in \itemize; \value handles \item{}{} directly
checkRd: (-1) potential_analysis.Rd:32-33: Lost braces in \itemize; \value handles \item{}{} directly
checkRd: (-1) potential_analysis.Rd:34-35: Lost braces in \itemize; \value handles \item{}{} directly
checkRd: (-1) potential_analysis.Rd:36-37: Lost braces in \itemize; \value handles \item{}{} directly
checkRd: (-1) potential_analysis.Rd:38: Lost braces in \itemize; \value handles \item{}{} directly
checkRd: (-1) potential_analysis.Rd:61-63: Lost braces in \itemize; meant \describe ?
checkRd: (-1) potential_analysis.Rd:64-65: Lost braces in \itemize; meant \describe ?
checkRd: (-1) potential_univariate.Rd:50: Lost braces in \itemize; \value handles \item{}{} directly
checkRd: (-1) potential_univariate.Rd:51-52: Lost braces in \itemize; \value handles \item{}{} directly
checkRd: (-1) potential_univariate.Rd:53: Lost braces in \itemize; \value handles \item{}{} directly
checkRd: (-1) potential_univariate.Rd:54-55: Lost braces in \itemize; \value handles \item{}{} directly
checkRd: (-1) potential_univariate.Rd:56-57: Lost braces in \itemize; \value handles \item{}{} directly
checkRd: (-1) potential_univariate.Rd:58: Lost braces in \itemize; \value handles \item{}{} directly
checkRd: (-1) potential_univariate.Rd:59-60: Lost braces in \itemize; \value handles \item{}{} directly
checkRd: (-1) potential_univariate.Rd:61-62: Lost braces in \itemize; \value handles \item{}{} directly
checkRd: (-1) potential_univariate.Rd:73-75: Lost braces in \itemize; meant \describe ?
checkRd: (-1) potential_univariate.Rd:76-78: Lost braces in \itemize; meant \describe ?
checkRd: (-1) rarity.Rd:35-41: Lost braces in \itemize; meant \describe ?
checkRd: (-1) rarity.Rd:42-44: Lost braces in \itemize; meant \describe ?
checkRd: (-1) rarity.Rd:45-48: Lost braces in \itemize; meant \describe ?
* checking Rd metadata ... OK
* checking Rd cross-references ... OK
* checking for missing documentation entries ... OK
* checking for code/documentation mismatches ... OK
* checking Rd \usage sections ... OK
* checking Rd contents ... OK
* checking for unstated dependencies in examples ... OK
* checking contents of ‘data’ directory ... OK
* checking data for non-ASCII characters ... OK
* checking data for ASCII and uncompressed saves ... OK
* checking files in ‘vignettes’ ... OK
* checking examples ... OK
Examples with CPU (user + system) or elapsed time > 5s
user system elapsed
overlap 20.866 2.809 23.676
TibbleUtilites 0.556 0.009 7.588
transform 0.327 0.029 89.577
* checking for unstated dependencies in ‘tests’ ... OK
* checking tests ...
Running ‘testthat.R’
OK
* checking for unstated dependencies in vignettes ... OK
* checking package vignettes ... OK
* checking running R code from vignettes ... SKIPPED
* checking re-building of vignette outputs ... SKIPPED
* checking PDF version of manual ... OK
* DONE
Status: 2 NOTEs
See
‘/Users/biocbuild/bbs-3.19-bioc/meat/microbiome.Rcheck/00check.log’
for details.
microbiome.Rcheck/00install.out
############################################################################## ############################################################################## ### ### Running command: ### ### /Library/Frameworks/R.framework/Resources/bin/R CMD INSTALL microbiome ### ############################################################################## ############################################################################## * installing to library ‘/Library/Frameworks/R.framework/Versions/4.4-x86_64/Resources/library’ * installing *source* package ‘microbiome’ ... ** using staged installation ** R ** data ** inst ** byte-compile and prepare package for lazy loading ** help *** installing help indices ** building package indices ** installing vignettes ** testing if installed package can be loaded from temporary location ** testing if installed package can be loaded from final location ** testing if installed package keeps a record of temporary installation path * DONE (microbiome)
microbiome.Rcheck/tests/testthat.Rout
R version 4.4.1 (2024-06-14) -- "Race for Your Life"
Copyright (C) 2024 The R Foundation for Statistical Computing
Platform: x86_64-apple-darwin20
R is free software and comes with ABSOLUTELY NO WARRANTY.
You are welcome to redistribute it under certain conditions.
Type 'license()' or 'licence()' for distribution details.
R is a collaborative project with many contributors.
Type 'contributors()' for more information and
'citation()' on how to cite R or R packages in publications.
Type 'demo()' for some demos, 'help()' for on-line help, or
'help.start()' for an HTML browser interface to help.
Type 'q()' to quit R.
> library(testthat)
> test_check("microbiome")
Loading required package: microbiome
Loading required package: phyloseq
Loading required package: ggplot2
microbiome R package (microbiome.github.com)
Copyright (C) 2011-2022 Leo Lahti,
Sudarshan Shetty et al. <microbiome.github.io>
Attaching package: 'microbiome'
The following object is masked from 'package:ggplot2':
alpha
The following object is masked from 'package:base':
transform
[ FAIL 0 | WARN 3 | SKIP 1 | PASS 83 ]
══ Skipped tests (1) ═══════════════════════════════════════════════════════════
• On Bioconductor (1): 'test_divergence.R:5:3'
[ FAIL 0 | WARN 3 | SKIP 1 | PASS 83 ]
>
> proc.time()
user system elapsed
15.207 0.774 96.712
microbiome.Rcheck/microbiome-Ex.timings
| name | user | system | elapsed | |
| TibbleUtilites | 0.556 | 0.009 | 7.588 | |
| abundances | 0.006 | 0.001 | 0.008 | |
| add_besthit | 0.001 | 0.000 | 0.000 | |
| add_refseq | 0 | 0 | 0 | |
| aggregate_rare | 0.240 | 0.011 | 0.251 | |
| aggregate_taxa | 0.115 | 0.014 | 0.129 | |
| alpha | 0.014 | 0.001 | 0.014 | |
| associate | 0.046 | 0.005 | 0.051 | |
| baseline | 0.037 | 0.004 | 0.042 | |
| bimodality | 0.001 | 0.000 | 0.002 | |
| bimodality_sarle | 0 | 0 | 0 | |
| boxplot_abundance | 0.100 | 0.011 | 0.110 | |
| boxplot_alpha | 0.373 | 0.011 | 0.383 | |
| chunk_reorder | 0 | 0 | 0 | |
| cmat2table | 0.088 | 0.002 | 0.090 | |
| collapse_replicates | 0.049 | 0.003 | 0.051 | |
| core | 0.036 | 0.005 | 0.040 | |
| core_abundance | 0.035 | 0.001 | 0.036 | |
| core_matrix | 0.000 | 0.000 | 0.001 | |
| core_members | 0.008 | 0.001 | 0.009 | |
| coverage | 0.054 | 0.007 | 0.062 | |
| default_colors | 0.000 | 0.001 | 0.000 | |
| densityplot | 0 | 0 | 0 | |
| divergence | 0.528 | 0.002 | 0.530 | |
| diversity | 0.014 | 0.002 | 0.016 | |
| dominance | 0.010 | 0.002 | 0.011 | |
| dominant | 0.009 | 0.001 | 0.012 | |
| estimate_stability | 0 | 0 | 0 | |
| evenness | 0.007 | 0.001 | 0.009 | |
| find_optima | 0 | 0 | 0 | |
| gktau | 0.012 | 0.002 | 0.014 | |
| group_age | 0.021 | 0.001 | 0.023 | |
| group_bmi | 0.001 | 0.000 | 0.001 | |
| heat | 0.112 | 0.015 | 0.131 | |
| hotplot | 0.277 | 0.016 | 0.293 | |
| inequality | 0.027 | 0.002 | 0.029 | |
| intermediate_stability | 0.519 | 0.005 | 0.525 | |
| is_compositional | 0.071 | 0.002 | 0.073 | |
| log_modulo_skewness | 0.123 | 0.010 | 0.132 | |
| low_abundance | 0.014 | 0.003 | 0.016 | |
| map_levels | 0.041 | 0.002 | 0.043 | |
| merge_taxa2 | 0.026 | 0.002 | 0.027 | |
| meta | 0.006 | 0.001 | 0.007 | |
| microbiome-package | 0.010 | 0.001 | 1.699 | |
| multimodality | 0.000 | 0.001 | 0.000 | |
| neat | 0.075 | 0.002 | 0.077 | |
| neatsort | 0.144 | 0.005 | 0.148 | |
| overlap | 20.866 | 2.809 | 23.676 | |
| plot_atlas | 0.049 | 0.002 | 0.051 | |
| plot_composition | 0.219 | 0.003 | 1.985 | |
| plot_core | 0.071 | 0.005 | 0.076 | |
| plot_density | 0.042 | 0.002 | 0.043 | |
| plot_frequencies | 0.024 | 0.002 | 0.024 | |
| plot_landscape | 0.819 | 0.034 | 0.852 | |
| plot_regression | 0.157 | 0.002 | 0.160 | |
| plot_taxa_prevalence | 0.512 | 0.030 | 2.349 | |
| plot_tipping | 0.118 | 0.011 | 0.129 | |
| potential_analysis | 0.401 | 0.010 | 0.411 | |
| potential_univariate | 0.000 | 0.001 | 0.001 | |
| prevalence | 0.011 | 0.001 | 0.013 | |
| psmelt2 | 0.084 | 0.001 | 0.086 | |
| quiet | 0.000 | 0.000 | 0.001 | |
| rare | 0.019 | 0.001 | 0.020 | |
| rare_abundance | 0.034 | 0.001 | 0.035 | |
| rare_members | 0.009 | 0.002 | 0.010 | |
| rarity | 0.091 | 0.005 | 0.095 | |
| read_biom2phyloseq | 0.001 | 0.000 | 0.001 | |
| read_csv2phyloseq | 0.001 | 0.000 | 0.001 | |
| read_mothur2phyloseq | 0 | 0 | 0 | |
| read_phyloseq | 0 | 0 | 0 | |
| readcount | 0.006 | 0.001 | 0.007 | |
| remove_samples | 0.014 | 0.001 | 0.015 | |
| remove_taxa | 0.016 | 0.001 | 0.018 | |
| richness | 0.010 | 0.002 | 0.012 | |
| spreadplot | 0.067 | 0.003 | 0.070 | |
| summarize_phyloseq | 0.016 | 0.002 | 0.018 | |
| taxa | 0.006 | 0.001 | 0.007 | |
| time_normalize | 0.034 | 0.001 | 0.035 | |
| time_sort | 0.170 | 0.001 | 0.171 | |
| timesplit | 0.116 | 0.001 | 0.117 | |
| top | 0.007 | 0.002 | 0.008 | |
| top_taxa | 0.006 | 0.002 | 0.008 | |
| transform | 0.327 | 0.029 | 89.577 | |
| ztransform | 0 | 0 | 0 | |