| Back to Multiple platform build/check report for BioC 3.19: simplified long |
|
This page was generated on 2024-06-28 17:41 -0400 (Fri, 28 Jun 2024).
| Hostname | OS | Arch (*) | R version | Installed pkgs |
|---|---|---|---|---|
| nebbiolo1 | Linux (Ubuntu 22.04.3 LTS) | x86_64 | 4.4.0 (2024-04-24) -- "Puppy Cup" | 4760 |
| palomino3 | Windows Server 2022 Datacenter | x64 | 4.4.0 (2024-04-24 ucrt) -- "Puppy Cup" | 4494 |
| merida1 | macOS 12.7.4 Monterey | x86_64 | 4.4.0 (2024-04-24) -- "Puppy Cup" | 4508 |
| kjohnson1 | macOS 13.6.6 Ventura | arm64 | 4.4.0 (2024-04-24) -- "Puppy Cup" | 4466 |
| palomino7 | Windows Server 2022 Datacenter | x64 | 4.4.1 (2024-06-14 ucrt) -- "Race for Your Life" | 4362 |
| Click on any hostname to see more info about the system (e.g. compilers) (*) as reported by 'uname -p', except on Windows and Mac OS X | ||||
| Package 1292/2300 | Hostname | OS / Arch | INSTALL | BUILD | CHECK | BUILD BIN | ||||||||
| miRspongeR 2.8.0 (landing page) Junpeng Zhang
| nebbiolo1 | Linux (Ubuntu 22.04.3 LTS) / x86_64 | OK | OK | OK | |||||||||
| palomino3 | Windows Server 2022 Datacenter / x64 | OK | OK | OK | OK | |||||||||
| merida1 | macOS 12.7.4 Monterey / x86_64 | OK | OK | OK | OK | |||||||||
| kjohnson1 | macOS 13.6.6 Ventura / arm64 | OK | OK | OK | OK | |||||||||
| palomino7 | Windows Server 2022 Datacenter / x64 | OK | OK | OK | OK | |||||||||
|
To the developers/maintainers of the miRspongeR package: - Allow up to 24 hours (and sometimes 48 hours) for your latest push to git@git.bioconductor.org:packages/miRspongeR.git to reflect on this report. See Troubleshooting Build Report for more information. - Use the following Renviron settings to reproduce errors and warnings. - If 'R CMD check' started to fail recently on the Linux builder(s) over a missing dependency, add the missing dependency to 'Suggests:' in your DESCRIPTION file. See Renviron.bioc for more information. |
| Package: miRspongeR |
| Version: 2.8.0 |
| Command: F:\biocbuild\bbs-3.19-bioc\R\bin\R.exe CMD check --no-multiarch --install=check:miRspongeR.install-out.txt --library=F:\biocbuild\bbs-3.19-bioc\R\library --no-vignettes --timings miRspongeR_2.8.0.tar.gz |
| StartedAt: 2024-06-27 03:42:44 -0400 (Thu, 27 Jun 2024) |
| EndedAt: 2024-06-27 03:48:39 -0400 (Thu, 27 Jun 2024) |
| EllapsedTime: 354.4 seconds |
| RetCode: 0 |
| Status: OK |
| CheckDir: miRspongeR.Rcheck |
| Warnings: 0 |
##############################################################################
##############################################################################
###
### Running command:
###
### F:\biocbuild\bbs-3.19-bioc\R\bin\R.exe CMD check --no-multiarch --install=check:miRspongeR.install-out.txt --library=F:\biocbuild\bbs-3.19-bioc\R\library --no-vignettes --timings miRspongeR_2.8.0.tar.gz
###
##############################################################################
##############################################################################
* using log directory 'F:/biocbuild/bbs-3.19-bioc/meat/miRspongeR.Rcheck'
* using R version 4.4.0 (2024-04-24 ucrt)
* using platform: x86_64-w64-mingw32
* R was compiled by
gcc.exe (GCC) 13.2.0
GNU Fortran (GCC) 13.2.0
* running under: Windows Server 2022 x64 (build 20348)
* using session charset: UTF-8
* using option '--no-vignettes'
* checking for file 'miRspongeR/DESCRIPTION' ... OK
* checking extension type ... Package
* this is package 'miRspongeR' version '2.8.0'
* package encoding: UTF-8
* checking package namespace information ... OK
* checking package dependencies ... OK
* checking if this is a source package ... OK
* checking if there is a namespace ... OK
* checking for hidden files and directories ... OK
* checking for portable file names ... OK
* checking whether package 'miRspongeR' can be installed ... OK
* used C compiler: 'gcc.exe (GCC) 13.2.0'
* checking installed package size ... OK
* checking package directory ... OK
* checking 'build' directory ... OK
* checking DESCRIPTION meta-information ... OK
* checking top-level files ... OK
* checking for left-over files ... OK
* checking index information ... OK
* checking package subdirectories ... OK
* checking code files for non-ASCII characters ... OK
* checking R files for syntax errors ... OK
* checking whether the package can be loaded ... OK
* checking whether the package can be loaded with stated dependencies ... OK
* checking whether the package can be unloaded cleanly ... OK
* checking whether the namespace can be loaded with stated dependencies ... OK
* checking whether the namespace can be unloaded cleanly ... OK
* checking dependencies in R code ... OK
* checking S3 generic/method consistency ... OK
* checking replacement functions ... OK
* checking foreign function calls ... OK
* checking R code for possible problems ... NOTE
cernia_parallel: no visible binding for global variable 'i'
hermes_parallel: no visible binding for global variable 'i'
miRHomology_parallel: no visible binding for global variable 'i'
muTaME_parallel: no visible binding for global variable 'i'
pc_parallel: no visible binding for global variable 'i'
ppc_parallel: no visible binding for global variable 'i'
sample_cor_network: no visible binding for global variable 'i'
sponge_parallel: no visible binding for global variable 'i'
sponge_sample_specific: no visible binding for global variable 'i'
sppc_parallel: no visible binding for global variable 'i'
Undefined global functions or variables:
i
* checking Rd files ... OK
* checking Rd metadata ... OK
* checking Rd cross-references ... OK
* checking for missing documentation entries ... OK
* checking for code/documentation mismatches ... OK
* checking Rd \usage sections ... OK
* checking Rd contents ... OK
* checking for unstated dependencies in examples ... OK
* checking line endings in C/C++/Fortran sources/headers ... OK
* checking line endings in Makefiles ... OK
* checking compilation flags in Makevars ... OK
* checking for GNU extensions in Makefiles ... OK
* checking for portable use of $(BLAS_LIBS) and $(LAPACK_LIBS) ... OK
* checking use of PKG_*FLAGS in Makefiles ... OK
* checking compiled code ... NOTE
Note: information on .o files for x64 is not available
File 'F:/biocbuild/bbs-3.19-bioc/R/library/miRspongeR/libs/x64/miRspongeR.dll':
Found '_exit', possibly from '_exit' (C)
Found 'abort', possibly from 'abort' (C), 'runtime' (Fortran)
Compiled code should not call entry points which might terminate R nor
write to stdout/stderr instead of to the console, nor use Fortran I/O
nor system RNGs nor [v]sprintf. The detected symbols are linked into
the code but might come from libraries and not actually be called.
See 'Writing portable packages' in the 'Writing R Extensions' manual.
* checking files in 'vignettes' ... OK
* checking examples ... OK
Examples with CPU (user + system) or elapsed time > 5s
user system elapsed
moduleDEA 8.08 0.73 9.00
sample_cor_network 5.33 0.97 63.80
sponge_sample_specific 1.11 0.13 26.61
* checking for unstated dependencies in 'tests' ... OK
* checking tests ...
Running 'test_miRspongeR.R'
OK
* checking for unstated dependencies in vignettes ... OK
* checking package vignettes ... OK
* checking running R code from vignettes ... SKIPPED
* checking re-building of vignette outputs ... SKIPPED
* checking PDF version of manual ... OK
* DONE
Status: 2 NOTEs
See
'F:/biocbuild/bbs-3.19-bioc/meat/miRspongeR.Rcheck/00check.log'
for details.
miRspongeR.Rcheck/00install.out
############################################################################## ############################################################################## ### ### Running command: ### ### F:\biocbuild\bbs-3.19-bioc\R\bin\R.exe CMD INSTALL miRspongeR ### ############################################################################## ############################################################################## * installing to library 'F:/biocbuild/bbs-3.19-bioc/R/library' * installing *source* package 'miRspongeR' ... ** using staged installation ** libs using C compiler: 'gcc.exe (GCC) 13.2.0' gcc -I"F:/biocbuild/bbs-3.19-bioc/R/library/zlibbioc/include" -I"F:/biocbuild/bbs-3.19-bioc/R/include" -DNDEBUG -DHAVE_ZLIB -I"C:/rtools44/x86_64-w64-mingw32.static.posix/include" -O2 -Wall -mfpmath=sse -msse2 -mstackrealign -c complex.c -o complex.o gcc -I"F:/biocbuild/bbs-3.19-bioc/R/library/zlibbioc/include" -I"F:/biocbuild/bbs-3.19-bioc/R/include" -DNDEBUG -DHAVE_ZLIB -I"C:/rtools44/x86_64-w64-mingw32.static.posix/include" -O2 -Wall -mfpmath=sse -msse2 -mstackrealign -c registerDynamicSymbol.c -o registerDynamicSymbol.o /bin/sh: -c: line 1: unexpected EOF while looking for matching `"' /bin/sh: -c: line 1: unexpected EOF while looking for matching `"' /bin/sh: -c: line 1: unexpected EOF while looking for matching `"' /bin/sh: -c: line 1: unexpected EOF while looking for matching `"' gcc -shared -s -static-libgcc -o miRspongeR.dll tmp.def complex.o registerDynamicSymbol.o -LC:/rtools44/x86_64-w64-mingw32.static.posix/lib/x64 -LC:/rtools44/x86_64-w64-mingw32.static.posix/lib -LF:/biocbuild/bbs-3.19-bioc/R/bin/x64 -lR installing to F:/biocbuild/bbs-3.19-bioc/R/library/00LOCK-miRspongeR/00new/miRspongeR/libs/x64 ** R ** inst ** byte-compile and prepare package for lazy loading Warning: replacing previous import 'biomaRt::select' by 'dplyr::select' when loading 'SPONGE' Warning: replacing previous import 'Biobase::combine' by 'dplyr::combine' when loading 'SPONGE' Warning: replacing previous import 'cvms::font' by 'ggpubr::font' when loading 'SPONGE' Warning: replacing previous import 'ggplot2::margin' by 'randomForest::margin' when loading 'SPONGE' Warning: replacing previous import 'dplyr::combine' by 'randomForest::combine' when loading 'SPONGE' Warning: replacing previous import 'Biobase::exprs' by 'rlang::exprs' when loading 'SPONGE' Warning: replacing previous import 'rlang::exprs' by 'Biobase::exprs' when loading 'SPONGE' ** help *** installing help indices ** building package indices ** installing vignettes ** testing if installed package can be loaded from temporary location Warning: replacing previous import 'biomaRt::select' by 'dplyr::select' when loading 'SPONGE' Warning: replacing previous import 'Biobase::combine' by 'dplyr::combine' when loading 'SPONGE' Warning: replacing previous import 'cvms::font' by 'ggpubr::font' when loading 'SPONGE' Warning: replacing previous import 'ggplot2::margin' by 'randomForest::margin' when loading 'SPONGE' Warning: replacing previous import 'dplyr::combine' by 'randomForest::combine' when loading 'SPONGE' Warning: replacing previous import 'Biobase::exprs' by 'rlang::exprs' when loading 'SPONGE' Warning: replacing previous import 'rlang::exprs' by 'Biobase::exprs' when loading 'SPONGE' ** testing if installed package can be loaded from final location Warning: replacing previous import 'biomaRt::select' by 'dplyr::select' when loading 'SPONGE' Warning: replacing previous import 'Biobase::combine' by 'dplyr::combine' when loading 'SPONGE' Warning: replacing previous import 'cvms::font' by 'ggpubr::font' when loading 'SPONGE' Warning: replacing previous import 'ggplot2::margin' by 'randomForest::margin' when loading 'SPONGE' Warning: replacing previous import 'dplyr::combine' by 'randomForest::combine' when loading 'SPONGE' Warning: replacing previous import 'Biobase::exprs' by 'rlang::exprs' when loading 'SPONGE' Warning: replacing previous import 'rlang::exprs' by 'Biobase::exprs' when loading 'SPONGE' ** testing if installed package keeps a record of temporary installation path * DONE (miRspongeR)
miRspongeR.Rcheck/tests/test_miRspongeR.Rout
R version 4.4.0 (2024-04-24 ucrt) -- "Puppy Cup"
Copyright (C) 2024 The R Foundation for Statistical Computing
Platform: x86_64-w64-mingw32/x64
R is free software and comes with ABSOLUTELY NO WARRANTY.
You are welcome to redistribute it under certain conditions.
Type 'license()' or 'licence()' for distribution details.
R is a collaborative project with many contributors.
Type 'contributors()' for more information and
'citation()' on how to cite R or R packages in publications.
Type 'demo()' for some demos, 'help()' for on-line help, or
'help.start()' for an HTML browser interface to help.
Type 'q()' to quit R.
> library(testthat)
> library(miRspongeR)
Warning messages:
1: replacing previous import 'biomaRt::select' by 'dplyr::select' when loading 'SPONGE'
2: replacing previous import 'Biobase::combine' by 'dplyr::combine' when loading 'SPONGE'
3: replacing previous import 'cvms::font' by 'ggpubr::font' when loading 'SPONGE'
4: replacing previous import 'ggplot2::margin' by 'randomForest::margin' when loading 'SPONGE'
5: replacing previous import 'dplyr::combine' by 'randomForest::combine' when loading 'SPONGE'
6: replacing previous import 'Biobase::exprs' by 'rlang::exprs' when loading 'SPONGE'
7: replacing previous import 'rlang::exprs' by 'Biobase::exprs' when loading 'SPONGE'
>
> miR2Target <- system.file("extdata", "miR2Target.csv", package="miRspongeR")
> miRTarget <- read.csv(miR2Target, header=TRUE, sep=",")
> ExpDatacsv <- system.file("extdata", "ExpData.csv", package="miRspongeR")
> ExpData <- read.csv(ExpDatacsv, header=TRUE, sep=",")
>
> # miRHomology method
> miRHomologyceRInt <- spongeMethod(miRTarget, method = "miRHomology")
>
> # pc method
> pcceRInt <- spongeMethod(miRTarget, ExpData, method = "pc")
>
> # sppc method
> sppcceRInt <- spongeMethod(miRTarget, ExpData, senscorcutoff = 0.1, method = "sppc")
>
>
> test_that("Test spongeMethod", {
+ expect_equal(spongeMethod(miRTarget, method = "miRHomology"), miRHomologyceRInt)
+ expect_equal(spongeMethod(miRTarget, ExpData, method = "pc"), pcceRInt)
+ expect_equal(spongeMethod(miRTarget, ExpData, senscorcutoff = 0.1, method = "sppc"), sppcceRInt)
+ })
Test passed 🎉
>
> proc.time()
user system elapsed
12.57 1.21 13.75
miRspongeR.Rcheck/miRspongeR-Ex.timings
| name | user | system | elapsed | |
| integrateMethod | 1.15 | 0.03 | 2.12 | |
| moduleDEA | 8.08 | 0.73 | 9.00 | |
| moduleFEA | 0 | 0 | 0 | |
| moduleSurvival | 0.24 | 0.02 | 0.27 | |
| netModule | 0.03 | 0.00 | 0.03 | |
| querymiRTargetbinding | 0.09 | 0.00 | 0.09 | |
| sample_cor_network | 5.33 | 0.97 | 63.80 | |
| spongeMethod | 0.28 | 0.05 | 0.33 | |
| spongeValidate | 0.02 | 0.01 | 0.03 | |
| sponge_sample_specific | 1.11 | 0.13 | 26.61 | |