| Back to Multiple platform build/check report for BioC 3.19: simplified long |
|
This page was generated on 2024-06-28 17:41 -0400 (Fri, 28 Jun 2024).
| Hostname | OS | Arch (*) | R version | Installed pkgs |
|---|---|---|---|---|
| nebbiolo1 | Linux (Ubuntu 22.04.3 LTS) | x86_64 | 4.4.0 (2024-04-24) -- "Puppy Cup" | 4760 |
| palomino3 | Windows Server 2022 Datacenter | x64 | 4.4.0 (2024-04-24 ucrt) -- "Puppy Cup" | 4494 |
| merida1 | macOS 12.7.4 Monterey | x86_64 | 4.4.0 (2024-04-24) -- "Puppy Cup" | 4508 |
| kjohnson1 | macOS 13.6.6 Ventura | arm64 | 4.4.0 (2024-04-24) -- "Puppy Cup" | 4466 |
| palomino7 | Windows Server 2022 Datacenter | x64 | 4.4.1 (2024-06-14 ucrt) -- "Race for Your Life" | 4362 |
| Click on any hostname to see more info about the system (e.g. compilers) (*) as reported by 'uname -p', except on Windows and Mac OS X | ||||
| Package 1217/2300 | Hostname | OS / Arch | INSTALL | BUILD | CHECK | BUILD BIN | ||||||||
| metagenomeSeq 1.46.0 (landing page) Joseph N. Paulson
| nebbiolo1 | Linux (Ubuntu 22.04.3 LTS) / x86_64 | OK | OK | OK | |||||||||
| palomino3 | Windows Server 2022 Datacenter / x64 | OK | OK | OK | OK | |||||||||
| merida1 | macOS 12.7.4 Monterey / x86_64 | OK | OK | OK | OK | |||||||||
| kjohnson1 | macOS 13.6.6 Ventura / arm64 | OK | OK | OK | OK | |||||||||
| palomino7 | Windows Server 2022 Datacenter / x64 | OK | OK | OK | OK | |||||||||
|
To the developers/maintainers of the metagenomeSeq package: - Allow up to 24 hours (and sometimes 48 hours) for your latest push to git@git.bioconductor.org:packages/metagenomeSeq.git to reflect on this report. See Troubleshooting Build Report for more information. - Use the following Renviron settings to reproduce errors and warnings. - If 'R CMD check' started to fail recently on the Linux builder(s) over a missing dependency, add the missing dependency to 'Suggests:' in your DESCRIPTION file. See Renviron.bioc for more information. |
| Package: metagenomeSeq |
| Version: 1.46.0 |
| Command: F:\biocbuild\bbs-3.19-bioc\R\bin\R.exe CMD check --no-multiarch --install=check:metagenomeSeq.install-out.txt --library=F:\biocbuild\bbs-3.19-bioc\R\library --no-vignettes --timings metagenomeSeq_1.46.0.tar.gz |
| StartedAt: 2024-06-27 03:23:59 -0400 (Thu, 27 Jun 2024) |
| EndedAt: 2024-06-27 03:28:49 -0400 (Thu, 27 Jun 2024) |
| EllapsedTime: 290.7 seconds |
| RetCode: 0 |
| Status: OK |
| CheckDir: metagenomeSeq.Rcheck |
| Warnings: 0 |
##############################################################################
##############################################################################
###
### Running command:
###
### F:\biocbuild\bbs-3.19-bioc\R\bin\R.exe CMD check --no-multiarch --install=check:metagenomeSeq.install-out.txt --library=F:\biocbuild\bbs-3.19-bioc\R\library --no-vignettes --timings metagenomeSeq_1.46.0.tar.gz
###
##############################################################################
##############################################################################
* using log directory 'F:/biocbuild/bbs-3.19-bioc/meat/metagenomeSeq.Rcheck'
* using R version 4.4.0 (2024-04-24 ucrt)
* using platform: x86_64-w64-mingw32
* R was compiled by
gcc.exe (GCC) 13.2.0
GNU Fortran (GCC) 13.2.0
* running under: Windows Server 2022 x64 (build 20348)
* using session charset: UTF-8
* using option '--no-vignettes'
* checking for file 'metagenomeSeq/DESCRIPTION' ... OK
* this is package 'metagenomeSeq' version '1.46.0'
* checking package namespace information ... OK
* checking package dependencies ... OK
* checking if this is a source package ... OK
* checking if there is a namespace ... OK
* checking for hidden files and directories ... OK
* checking for portable file names ... OK
* checking whether package 'metagenomeSeq' can be installed ... OK
* checking installed package size ... OK
* checking package directory ... OK
* checking 'build' directory ... OK
* checking DESCRIPTION meta-information ... OK
* checking top-level files ... OK
* checking for left-over files ... OK
* checking index information ... OK
* checking package subdirectories ... OK
* checking code files for non-ASCII characters ... OK
* checking R files for syntax errors ... OK
* checking whether the package can be loaded ... OK
* checking whether the package can be loaded with stated dependencies ... OK
* checking whether the package can be unloaded cleanly ... OK
* checking whether the namespace can be loaded with stated dependencies ... OK
* checking whether the namespace can be unloaded cleanly ... OK
* checking dependencies in R code ... OK
* checking S3 generic/method consistency ... OK
* checking replacement functions ... OK
* checking foreign function calls ... OK
* checking R code for possible problems ... OK
* checking Rd files ... OK
* checking Rd metadata ... OK
* checking Rd cross-references ... OK
* checking for missing documentation entries ... OK
* checking for code/documentation mismatches ... OK
* checking Rd \usage sections ... OK
* checking Rd contents ... OK
* checking for unstated dependencies in examples ... OK
* checking contents of 'data' directory ... OK
* checking data for non-ASCII characters ... OK
* checking data for ASCII and uncompressed saves ... OK
* checking sizes of PDF files under 'inst/doc' ... OK
* checking files in 'vignettes' ... OK
* checking examples ... OK
Examples with CPU (user + system) or elapsed time > 5s
user system elapsed
wrenchNorm 17.25 0.86 18.14
MRfulltable 1.11 0.16 5.95
* checking for unstated dependencies in 'tests' ... OK
* checking tests ...
Running 'testthat.R'
OK
* checking for unstated dependencies in vignettes ... OK
* checking package vignettes ... OK
* checking running R code from vignettes ... SKIPPED
* checking re-building of vignette outputs ... SKIPPED
* checking PDF version of manual ... OK
* DONE
Status: OK
metagenomeSeq.Rcheck/00install.out
############################################################################## ############################################################################## ### ### Running command: ### ### F:\biocbuild\bbs-3.19-bioc\R\bin\R.exe CMD INSTALL metagenomeSeq ### ############################################################################## ############################################################################## * installing to library 'F:/biocbuild/bbs-3.19-bioc/R/library' * installing *source* package 'metagenomeSeq' ... ** using staged installation ** R ** data ** inst ** byte-compile and prepare package for lazy loading in method for 'MRihw' with signature '"fitFeatureModelResults"': no definition for class "fitFeatureModelResults" in method for 'MRihw' with signature '"fitZigResults"': no definition for class "fitZigResults" ** help *** installing help indices ** building package indices ** installing vignettes ** testing if installed package can be loaded from temporary location ** testing if installed package can be loaded from final location ** testing if installed package keeps a record of temporary installation path * DONE (metagenomeSeq)
metagenomeSeq.Rcheck/tests/testthat.Rout
R version 4.4.0 (2024-04-24 ucrt) -- "Puppy Cup"
Copyright (C) 2024 The R Foundation for Statistical Computing
Platform: x86_64-w64-mingw32/x64
R is free software and comes with ABSOLUTELY NO WARRANTY.
You are welcome to redistribute it under certain conditions.
Type 'license()' or 'licence()' for distribution details.
R is a collaborative project with many contributors.
Type 'contributors()' for more information and
'citation()' on how to cite R or R packages in publications.
Type 'demo()' for some demos, 'help()' for on-line help, or
'help.start()' for an HTML browser interface to help.
Type 'q()' to quit R.
> library("testthat")
> packageVersion("metagenomeSeq")
[1] '1.46.0'
> # As suggested for opt-out option on testing by users,
> # recommended by CRAN: http://adv-r.had.co.nz/Testing.html
> # Previously, best practice was to put all test files in inst/tests
> # and ensure that R CMD check ran them by putting the following code in tests/test-all.R:
> # >library(testthat)
> # >library(yourpackage)
> # >test_package("yourpackage")
> # Now, recommended practice is to put your tests in tests/testthat,
> # and ensure R CMD check runs them by putting the following code in tests/test-all.R:
> # >library(testthat)
> # >test_check("yourpackage")
> # The advantage of this new structure is that the user has control over whether or not tests are installed using the –install-tests parameter to
> # R CMD install, or INSTALL_opts = c(“–install-tests”) argument to install.packages(). I’m not sure why you wouldn’t want to install the tests,
> # but now you have the flexibility as requested by CRAN maintainers.
> test_check("metagenomeSeq")
Loading required package: metagenomeSeq
Loading required package: Biobase
Loading required package: BiocGenerics
Attaching package: 'BiocGenerics'
The following objects are masked from 'package:stats':
IQR, mad, sd, var, xtabs
The following objects are masked from 'package:base':
Filter, Find, Map, Position, Reduce, anyDuplicated, aperm, append,
as.data.frame, basename, cbind, colnames, dirname, do.call,
duplicated, eval, evalq, get, grep, grepl, intersect, is.unsorted,
lapply, mapply, match, mget, order, paste, pmax, pmax.int, pmin,
pmin.int, rank, rbind, rownames, sapply, setdiff, table, tapply,
union, unique, unsplit, which.max, which.min
Welcome to Bioconductor
Vignettes contain introductory material; view with
'browseVignettes()'. To cite Bioconductor, see
'citation("Biobase")', and for packages 'citation("pkgname")'.
Loading required package: limma
Attaching package: 'limma'
The following object is masked from 'package:BiocGenerics':
plotMA
Loading required package: glmnet
Loading required package: Matrix
Loaded glmnet 4.1-8
Loading required package: RColorBrewer
[ FAIL 0 | WARN 6 | SKIP 0 | PASS 15 ]
[ FAIL 0 | WARN 6 | SKIP 0 | PASS 15 ]
>
> proc.time()
user system elapsed
108.71 7.15 115.76
metagenomeSeq.Rcheck/metagenomeSeq-Ex.timings
| name | user | system | elapsed | |
| MRcoefs | 1.40 | 0.14 | 1.56 | |
| MRcounts | 0.54 | 0.12 | 0.67 | |
| MRexperiment-class | 0 | 0 | 0 | |
| MRfulltable | 1.11 | 0.16 | 5.95 | |
| MRtable | 1.11 | 0.11 | 1.22 | |
| aggregateBySample | 0.23 | 0.02 | 0.25 | |
| aggregateByTaxonomy | 0.17 | 0.03 | 0.20 | |
| biom2MRexperiment | 0.21 | 0.02 | 0.28 | |
| calcNormFactors | 0.65 | 0.23 | 0.89 | |
| correctIndices | 0.13 | 0.00 | 0.13 | |
| correlationTest | 0.25 | 0.05 | 0.29 | |
| cumNorm | 0.56 | 0.17 | 0.74 | |
| cumNormMat | 0.67 | 0.11 | 0.78 | |
| cumNormStat | 0.63 | 0.09 | 0.72 | |
| cumNormStatFast | 0.42 | 0.05 | 0.47 | |
| expSummary | 0.16 | 0.01 | 0.17 | |
| exportMat | 2.09 | 2.32 | 4.42 | |
| exportStats | 0.50 | 0.12 | 0.62 | |
| extractMR | 1.91 | 0.75 | 2.66 | |
| filterData | 0.23 | 0.02 | 0.25 | |
| fitDO | 0.48 | 0.12 | 3.09 | |
| fitFeatureModel | 1.08 | 0.28 | 1.36 | |
| fitLogNormal | 2.27 | 0.46 | 2.72 | |
| fitMultipleTimeSeries | 1.96 | 0.57 | 2.64 | |
| fitPA | 0.48 | 0.16 | 3.34 | |
| fitSSTimeSeries | 0.52 | 0.09 | 0.61 | |
| fitTimeSeries | 0.58 | 0.10 | 0.67 | |
| fitZig | 2.18 | 0.37 | 2.57 | |
| libSize-set | 0.35 | 0.16 | 0.50 | |
| libSize | 0.37 | 0.11 | 0.48 | |
| loadBiom | 0.06 | 0.00 | 0.06 | |
| loadMeta | 0.04 | 0.00 | 0.08 | |
| loadMetaQ | 0 | 0 | 0 | |
| loadPhenoData | 0.01 | 0.00 | 0.03 | |
| makeLabels | 0 | 0 | 0 | |
| mergeMRexperiments | 1.88 | 0.58 | 2.46 | |
| newMRexperiment | 0.04 | 0.00 | 0.04 | |
| normFactors-set | 0.42 | 0.15 | 0.58 | |
| normFactors | 0.40 | 0.10 | 0.49 | |
| plotBubble | 0.29 | 0.08 | 2.81 | |
| plotClassTimeSeries | 1.14 | 0.17 | 1.31 | |
| plotCorr | 0.64 | 0.04 | 0.71 | |
| plotFeature | 0.17 | 0.03 | 0.20 | |
| plotGenus | 0.22 | 0.02 | 0.24 | |
| plotMRheatmap | 1.83 | 0.22 | 2.04 | |
| plotOTU | 0.14 | 0.06 | 0.21 | |
| plotOrd | 0.31 | 0.04 | 0.36 | |
| plotRare | 0.14 | 0.02 | 0.16 | |
| plotTimeSeries | 1.24 | 0.23 | 1.47 | |
| posteriorProbs | 2.43 | 0.48 | 2.92 | |
| returnAppropriateObj | 0.35 | 0.21 | 0.55 | |
| ssFit | 0 | 0 | 0 | |
| ssIntervalCandidate | 0 | 0 | 0 | |
| ssPerm | 0 | 0 | 0 | |
| ssPermAnalysis | 0 | 0 | 0 | |
| trapz | 0 | 0 | 0 | |
| ts2MRexperiment | 1.83 | 0.30 | 2.13 | |
| uniqueFeatures | 0.10 | 0.02 | 0.12 | |
| wrenchNorm | 17.25 | 0.86 | 18.14 | |
| zigControl | 0 | 0 | 0 | |