| Back to Multiple platform build/check report for BioC 3.19: simplified long |
|
This page was generated on 2024-06-11 14:43 -0400 (Tue, 11 Jun 2024).
| Hostname | OS | Arch (*) | R version | Installed pkgs |
|---|---|---|---|---|
| nebbiolo1 | Linux (Ubuntu 22.04.3 LTS) | x86_64 | 4.4.0 (2024-04-24) -- "Puppy Cup" | 4757 |
| palomino3 | Windows Server 2022 Datacenter | x64 | 4.4.0 (2024-04-24 ucrt) -- "Puppy Cup" | 4491 |
| lconway | macOS 12.7.1 Monterey | x86_64 | 4.4.0 (2024-04-24) -- "Puppy Cup" | 4522 |
| kjohnson3 | macOS 13.6.5 Ventura | arm64 | 4.4.0 (2024-04-24) -- "Puppy Cup" | 4468 |
| Click on any hostname to see more info about the system (e.g. compilers) (*) as reported by 'uname -p', except on Windows and Mac OS X | ||||
| Package 717/2300 | Hostname | OS / Arch | INSTALL | BUILD | CHECK | BUILD BIN | ||||||||
| ffpe 1.48.0 (landing page) Levi Waldron
| nebbiolo1 | Linux (Ubuntu 22.04.3 LTS) / x86_64 | OK | OK | OK | |||||||||
| palomino3 | Windows Server 2022 Datacenter / x64 | OK | OK | OK | OK | |||||||||
| lconway | macOS 12.7.1 Monterey / x86_64 | OK | OK | OK | OK | |||||||||
| kjohnson3 | macOS 13.6.5 Ventura / arm64 | OK | OK | OK | OK | |||||||||
|
To the developers/maintainers of the ffpe package: - Allow up to 24 hours (and sometimes 48 hours) for your latest push to git@git.bioconductor.org:packages/ffpe.git to reflect on this report. See Troubleshooting Build Report for more information. - Use the following Renviron settings to reproduce errors and warnings. - If 'R CMD check' started to fail recently on the Linux builder(s) over a missing dependency, add the missing dependency to 'Suggests:' in your DESCRIPTION file. See Renviron.bioc for more information. |
| Package: ffpe |
| Version: 1.48.0 |
| Command: /Library/Frameworks/R.framework/Resources/bin/R CMD check --install=check:ffpe.install-out.txt --library=/Library/Frameworks/R.framework/Resources/library --no-vignettes --timings ffpe_1.48.0.tar.gz |
| StartedAt: 2024-06-10 15:44:30 -0400 (Mon, 10 Jun 2024) |
| EndedAt: 2024-06-10 15:54:59 -0400 (Mon, 10 Jun 2024) |
| EllapsedTime: 628.9 seconds |
| RetCode: 0 |
| Status: OK |
| CheckDir: ffpe.Rcheck |
| Warnings: 0 |
##############################################################################
##############################################################################
###
### Running command:
###
### /Library/Frameworks/R.framework/Resources/bin/R CMD check --install=check:ffpe.install-out.txt --library=/Library/Frameworks/R.framework/Resources/library --no-vignettes --timings ffpe_1.48.0.tar.gz
###
##############################################################################
##############################################################################
* using log directory ‘/Users/biocbuild/bbs-3.19-bioc/meat/ffpe.Rcheck’
* using R version 4.4.0 (2024-04-24)
* using platform: aarch64-apple-darwin20
* R was compiled by
Apple clang version 14.0.0 (clang-1400.0.29.202)
GNU Fortran (GCC) 12.2.0
* running under: macOS Ventura 13.6.5
* using session charset: UTF-8
* using option ‘--no-vignettes’
* checking for file ‘ffpe/DESCRIPTION’ ... OK
* checking extension type ... Package
* this is package ‘ffpe’ version ‘1.48.0’
* checking package namespace information ... OK
* checking package dependencies ... OK
* checking if this is a source package ... OK
* checking if there is a namespace ... OK
* checking for hidden files and directories ... OK
* checking for portable file names ... OK
* checking for sufficient/correct file permissions ... OK
* checking whether package ‘ffpe’ can be installed ... OK
* checking installed package size ... OK
* checking package directory ... OK
* checking ‘build’ directory ... OK
* checking DESCRIPTION meta-information ... OK
* checking top-level files ... OK
* checking for left-over files ... OK
* checking index information ... OK
* checking package subdirectories ... OK
* checking code files for non-ASCII characters ... OK
* checking R files for syntax errors ... OK
* checking whether the package can be loaded ... OK
* checking whether the package can be loaded with stated dependencies ... OK
* checking whether the package can be unloaded cleanly ... OK
* checking whether the namespace can be loaded with stated dependencies ... OK
* checking whether the namespace can be unloaded cleanly ... OK
* checking dependencies in R code ... OK
* checking S3 generic/method consistency ... OK
* checking replacement functions ... OK
* checking foreign function calls ... OK
* checking R code for possible problems ... NOTE
CATplot: no visible global function definition for ‘abline’
sampleQC,matrix : makeplots: no visible global function definition for
‘cor’
sampleQC,matrix : makeplots: no visible global function definition for
‘median’
sampleQC,matrix : makeplots: no visible binding for global variable
‘median’
sampleQC,matrix : makeplots: no visible global function definition for
‘na.omit’
sampleQC,matrix : makeplots: no visible global function definition for
‘loess’
sampleQC,matrix : makeplots: no visible global function definition for
‘predict’
sampleQC,matrix : makeplots: no visible global function definition for
‘IQR’
sampleQC,matrix : makeplots: no visible global function definition for
‘abline’
sampleQC,matrix : makeplots: no visible global function definition for
‘legend’
sampleQC,matrix : makeplots: no visible global function definition for
‘lines’
sampleQC,matrix: no visible binding for global variable ‘IQR’
sampleQC,matrix: no visible global function definition for ‘na.omit’
sortedIqrPlot,matrix: no visible binding for global variable ‘quantile’
sortedIqrPlot,matrix: no visible global function definition for
‘segments’
sortedIqrPlot,matrix: no visible binding for global variable ‘IQR’
Undefined global functions or variables:
IQR abline cor legend lines loess median na.omit predict quantile
segments
Consider adding
importFrom("graphics", "abline", "legend", "lines", "segments")
importFrom("stats", "IQR", "cor", "loess", "median", "na.omit",
"predict", "quantile")
to your NAMESPACE file.
* checking Rd files ... OK
* checking Rd metadata ... OK
* checking Rd cross-references ... OK
* checking for missing documentation entries ... OK
* checking for code/documentation mismatches ... OK
* checking Rd \usage sections ... OK
* checking Rd contents ... OK
* checking for unstated dependencies in examples ... OK
* checking sizes of PDF files under ‘inst/doc’ ... OK
* checking files in ‘vignettes’ ... OK
* checking examples ... OK
Examples with CPU (user + system) or elapsed time > 5s
user system elapsed
CATplot 7.724 0.190 11.746
ffpe-package 4.437 0.155 7.028
sampleQC 4.417 0.122 6.835
* checking for unstated dependencies in vignettes ... OK
* checking package vignettes ... OK
* checking running R code from vignettes ... SKIPPED
* checking re-building of vignette outputs ... SKIPPED
* checking PDF version of manual ... OK
* DONE
Status: 1 NOTE
See
‘/Users/biocbuild/bbs-3.19-bioc/meat/ffpe.Rcheck/00check.log’
for details.
ffpe.Rcheck/00install.out
############################################################################## ############################################################################## ### ### Running command: ### ### /Library/Frameworks/R.framework/Resources/bin/R CMD INSTALL ffpe ### ############################################################################## ############################################################################## * installing to library ‘/Library/Frameworks/R.framework/Versions/4.4-arm64/Resources/library’ * installing *source* package ‘ffpe’ ... ** using staged installation ** R ** inst ** byte-compile and prepare package for lazy loading No methods found in package ‘RSQLite’ for request: ‘dbListFields’ when loading ‘lumi’ ** help *** installing help indices ** building package indices ** installing vignettes ** testing if installed package can be loaded from temporary location No methods found in package ‘RSQLite’ for request: ‘dbListFields’ when loading ‘lumi’ ** testing if installed package can be loaded from final location No methods found in package ‘RSQLite’ for request: ‘dbListFields’ when loading ‘lumi’ ** testing if installed package keeps a record of temporary installation path * DONE (ffpe)
ffpe.Rcheck/ffpe-Ex.timings
| name | user | system | elapsed | |
| CATplot | 7.724 | 0.190 | 11.746 | |
| ffpe-package | 4.437 | 0.155 | 7.028 | |
| sampleQC | 4.417 | 0.122 | 6.835 | |
| sortedIqrPlot | 1.088 | 0.050 | 1.750 | |