| Back to Multiple platform build/check report for BioC 3.19: simplified long |
|
This page was generated on 2024-10-18 20:40 -0400 (Fri, 18 Oct 2024).
| Hostname | OS | Arch (*) | R version | Installed pkgs |
|---|---|---|---|---|
| nebbiolo1 | Linux (Ubuntu 22.04.3 LTS) | x86_64 | 4.4.1 (2024-06-14) -- "Race for Your Life" | 4763 |
| palomino7 | Windows Server 2022 Datacenter | x64 | 4.4.1 (2024-06-14 ucrt) -- "Race for Your Life" | 4500 |
| merida1 | macOS 12.7.5 Monterey | x86_64 | 4.4.1 (2024-06-14) -- "Race for Your Life" | 4530 |
| kjohnson1 | macOS 13.6.6 Ventura | arm64 | 4.4.1 (2024-06-14) -- "Race for Your Life" | 4480 |
| Click on any hostname to see more info about the system (e.g. compilers) (*) as reported by 'uname -p', except on Windows and Mac OS X | ||||
| Package 510/2300 | Hostname | OS / Arch | INSTALL | BUILD | CHECK | BUILD BIN | ||||||||
| dar 1.0.0 (landing page) Francesc Catala-Moll
| nebbiolo1 | Linux (Ubuntu 22.04.3 LTS) / x86_64 | OK | OK | OK | |||||||||
| palomino7 | Windows Server 2022 Datacenter / x64 | OK | OK | OK | OK | |||||||||
| merida1 | macOS 12.7.5 Monterey / x86_64 | OK | OK | OK | OK | |||||||||
| kjohnson1 | macOS 13.6.6 Ventura / arm64 | OK | OK | OK | OK | |||||||||
|
To the developers/maintainers of the dar package: - Allow up to 24 hours (and sometimes 48 hours) for your latest push to git@git.bioconductor.org:packages/dar.git to reflect on this report. See Troubleshooting Build Report for more information. - Use the following Renviron settings to reproduce errors and warnings. - If 'R CMD check' started to fail recently on the Linux builder(s) over a missing dependency, add the missing dependency to 'Suggests:' in your DESCRIPTION file. See Renviron.bioc for more information. |
| Package: dar |
| Version: 1.0.0 |
| Command: /Library/Frameworks/R.framework/Resources/bin/R CMD check --install=check:dar.install-out.txt --library=/Library/Frameworks/R.framework/Resources/library --no-vignettes --timings dar_1.0.0.tar.gz |
| StartedAt: 2024-10-17 03:51:14 -0400 (Thu, 17 Oct 2024) |
| EndedAt: 2024-10-17 04:20:23 -0400 (Thu, 17 Oct 2024) |
| EllapsedTime: 1749.9 seconds |
| RetCode: 0 |
| Status: OK |
| CheckDir: dar.Rcheck |
| Warnings: 0 |
##############################################################################
##############################################################################
###
### Running command:
###
### /Library/Frameworks/R.framework/Resources/bin/R CMD check --install=check:dar.install-out.txt --library=/Library/Frameworks/R.framework/Resources/library --no-vignettes --timings dar_1.0.0.tar.gz
###
##############################################################################
##############################################################################
* using log directory ‘/Users/biocbuild/bbs-3.19-bioc/meat/dar.Rcheck’
* using R version 4.4.1 (2024-06-14)
* using platform: x86_64-apple-darwin20
* R was compiled by
Apple clang version 14.0.0 (clang-1400.0.29.202)
GNU Fortran (GCC) 12.2.0
* running under: macOS Monterey 12.7.6
* using session charset: UTF-8
* using option ‘--no-vignettes’
* checking for file ‘dar/DESCRIPTION’ ... OK
* this is package ‘dar’ version ‘1.0.0’
* package encoding: UTF-8
* checking package namespace information ... OK
* checking package dependencies ... OK
* checking if this is a source package ... OK
* checking if there is a namespace ... OK
* checking for hidden files and directories ... OK
* checking for portable file names ... OK
* checking for sufficient/correct file permissions ... OK
* checking whether package ‘dar’ can be installed ... OK
* checking installed package size ... OK
* checking package directory ... OK
* checking ‘build’ directory ... OK
* checking DESCRIPTION meta-information ... OK
* checking top-level files ... OK
* checking for left-over files ... OK
* checking index information ... OK
* checking package subdirectories ... OK
* checking code files for non-ASCII characters ... OK
* checking R files for syntax errors ... OK
* checking whether the package can be loaded ... OK
* checking whether the package can be loaded with stated dependencies ... OK
* checking whether the package can be unloaded cleanly ... OK
* checking whether the namespace can be loaded with stated dependencies ... OK
* checking whether the namespace can be unloaded cleanly ... OK
* checking dependencies in R code ... OK
* checking S3 generic/method consistency ... OK
* checking replacement functions ... OK
* checking foreign function calls ... OK
* checking R code for possible problems ... OK
* checking Rd files ... OK
* checking Rd metadata ... OK
* checking Rd cross-references ... OK
* checking for missing documentation entries ... OK
* checking for code/documentation mismatches ... OK
* checking Rd \usage sections ... OK
* checking Rd contents ... OK
* checking for unstated dependencies in examples ... OK
* checking contents of ‘data’ directory ... OK
* checking data for non-ASCII characters ... OK
* checking data for ASCII and uncompressed saves ... OK
* checking R/sysdata.rda ... OK
* checking files in ‘vignettes’ ... OK
* checking examples ... OK
Examples with CPU (user + system) or elapsed time > 5s
user system elapsed
step_ancom 39.715 1.802 54.257
step_aldex 36.246 4.495 53.784
step_deseq 16.053 0.294 20.762
step_metagenomeseq 8.950 0.133 28.212
step_maaslin 7.890 0.296 10.623
prep 6.717 0.179 105.584
step_corncob 6.211 0.344 8.560
abundance_plt 6.260 0.258 8.344
corr_heatmap 5.806 0.230 7.655
import_steps 4.701 0.171 96.271
mutual_plt 4.687 0.066 6.164
step_wilcox 4.258 0.072 5.442
read_data 3.696 0.427 5.056
intersection_plt 3.952 0.049 5.236
export_steps 3.245 0.303 34.766
recipe 2.267 0.058 48.926
* checking for unstated dependencies in ‘tests’ ... OK
* checking tests ...
Running ‘testthat.R’
OK
* checking for unstated dependencies in vignettes ... OK
* checking package vignettes ... OK
* checking running R code from vignettes ... SKIPPED
* checking re-building of vignette outputs ... SKIPPED
* checking PDF version of manual ... OK
* DONE
Status: OK
dar.Rcheck/00install.out
############################################################################## ############################################################################## ### ### Running command: ### ### /Library/Frameworks/R.framework/Resources/bin/R CMD INSTALL dar ### ############################################################################## ############################################################################## * installing to library ‘/Library/Frameworks/R.framework/Versions/4.4-x86_64/Resources/library’ * installing *source* package ‘dar’ ... ** using staged installation ** R ** data ** inst ** byte-compile and prepare package for lazy loading ** help *** installing help indices *** copying figures ** building package indices ** installing vignettes ** testing if installed package can be loaded from temporary location ** testing if installed package can be loaded from final location ** testing if installed package keeps a record of temporary installation path * DONE (dar)
dar.Rcheck/tests/testthat.Rout
R version 4.4.1 (2024-06-14) -- "Race for Your Life"
Copyright (C) 2024 The R Foundation for Statistical Computing
Platform: x86_64-apple-darwin20
R is free software and comes with ABSOLUTELY NO WARRANTY.
You are welcome to redistribute it under certain conditions.
Type 'license()' or 'licence()' for distribution details.
R is a collaborative project with many contributors.
Type 'contributors()' for more information and
'citation()' on how to cite R or R packages in publications.
Type 'demo()' for some demos, 'help()' for on-line help, or
'help.start()' for an HTML browser interface to help.
Type 'q()' to quit R.
> library(testthat)
> library(dar)
>
> test_check("dar")
Starting 2 test processes
[ FAIL 0 | WARN 0 | SKIP 10 | PASS 82 ]
══ Skipped tests (10) ══════════════════════════════════════════════════════════
• On CRAN (10): 'test-roxytest-tests-bake.R:18:3',
'test-roxytest-tests-ancom.R:14:3', 'test-roxytest-tests-lefse.R:15:3',
'test-roxytest-tests-misc.R:73:3', 'test-roxytest-tests-misc.R:101:3',
'test-roxytest-tests-misc.R:108:3', 'test-roxytest-tests-pkg_check.R:6:3',
'test-roxytest-tests-maaslin2.R:16:3',
'test-roxytest-tests-read_data.R:24:3',
'test-roxytest-tests-steps_and_checks.R:7:3'
[ FAIL 0 | WARN 0 | SKIP 10 | PASS 82 ]
>
> proc.time()
user system elapsed
438.994 18.499 814.666
dar.Rcheck/dar-Ex.timings
| name | user | system | elapsed | |
| abundance_plt | 6.260 | 0.258 | 8.344 | |
| add_tax | 0.388 | 0.012 | 0.527 | |
| add_var | 0.370 | 0.014 | 0.517 | |
| bake | 1.082 | 0.021 | 1.505 | |
| contains_rarefaction | 0.475 | 0.025 | 0.655 | |
| cool | 0.694 | 0.015 | 0.906 | |
| corr_heatmap | 5.806 | 0.230 | 7.655 | |
| exclusion_plt | 2.187 | 0.029 | 2.844 | |
| export_steps | 3.245 | 0.303 | 34.766 | |
| find_intersections | 0.404 | 0.009 | 0.459 | |
| get_comparisons | 0.050 | 0.005 | 0.070 | |
| get_phy | 0.039 | 0.004 | 0.053 | |
| get_tax | 0.048 | 0.004 | 0.072 | |
| get_var | 0.049 | 0.004 | 0.069 | |
| import_steps | 4.701 | 0.171 | 96.271 | |
| intersection_df | 0.411 | 0.014 | 0.575 | |
| intersection_plt | 3.952 | 0.049 | 5.236 | |
| mutual_plt | 4.687 | 0.066 | 6.164 | |
| otu_table | 1.069 | 0.019 | 1.378 | |
| overlap_df | 0.660 | 0.016 | 0.905 | |
| phy_qc | 2.959 | 0.045 | 3.888 | |
| prep | 6.717 | 0.179 | 105.584 | |
| rand_id | 0.001 | 0.000 | 0.001 | |
| read_data | 3.696 | 0.427 | 5.056 | |
| recipe | 2.267 | 0.058 | 48.926 | |
| required_deps | 0.100 | 0.012 | 0.132 | |
| sample_data | 0.065 | 0.004 | 0.080 | |
| step_aldex | 36.246 | 4.495 | 53.784 | |
| step_ancom | 39.715 | 1.802 | 54.257 | |
| step_corncob | 6.211 | 0.344 | 8.560 | |
| step_deseq | 16.053 | 0.294 | 20.762 | |
| step_filter_by_abundance | 0.081 | 0.010 | 0.114 | |
| step_filter_by_prevalence | 0.082 | 0.009 | 0.112 | |
| step_filter_by_rarity | 0.078 | 0.010 | 0.107 | |
| step_filter_by_variance | 0.080 | 0.009 | 0.108 | |
| step_filter_taxa | 0.080 | 0.010 | 0.114 | |
| step_lefse | 0.138 | 0.010 | 0.190 | |
| step_maaslin | 7.890 | 0.296 | 10.623 | |
| step_metagenomeseq | 8.950 | 0.133 | 28.212 | |
| step_rarefaction | 0.101 | 0.010 | 0.128 | |
| step_subset_taxa | 0.079 | 0.010 | 0.118 | |
| step_wilcox | 4.258 | 0.072 | 5.442 | |
| steps_ids | 0.030 | 0.009 | 0.050 | |
| tax_table | 0.108 | 0.011 | 0.148 | |
| tidyeval | 0.040 | 0.004 | 0.056 | |
| to_tibble | 1.121 | 0.014 | 1.396 | |
| use_rarefy | 0.027 | 0.007 | 0.042 | |
| zero_otu | 1.095 | 0.014 | 1.374 | |