| Back to Multiple platform build/check report for BioC 3.19: simplified long |
|
This page was generated on 2024-06-28 17:41 -0400 (Fri, 28 Jun 2024).
| Hostname | OS | Arch (*) | R version | Installed pkgs |
|---|---|---|---|---|
| nebbiolo1 | Linux (Ubuntu 22.04.3 LTS) | x86_64 | 4.4.0 (2024-04-24) -- "Puppy Cup" | 4760 |
| palomino3 | Windows Server 2022 Datacenter | x64 | 4.4.0 (2024-04-24 ucrt) -- "Puppy Cup" | 4494 |
| merida1 | macOS 12.7.4 Monterey | x86_64 | 4.4.0 (2024-04-24) -- "Puppy Cup" | 4508 |
| kjohnson1 | macOS 13.6.6 Ventura | arm64 | 4.4.0 (2024-04-24) -- "Puppy Cup" | 4466 |
| palomino7 | Windows Server 2022 Datacenter | x64 | 4.4.1 (2024-06-14 ucrt) -- "Race for Your Life" | 4362 |
| Click on any hostname to see more info about the system (e.g. compilers) (*) as reported by 'uname -p', except on Windows and Mac OS X | ||||
| Package 332/2300 | Hostname | OS / Arch | INSTALL | BUILD | CHECK | BUILD BIN | ||||||||
| chimeraviz 1.30.0 (landing page) Stian Lågstad
| nebbiolo1 | Linux (Ubuntu 22.04.3 LTS) / x86_64 | OK | OK | OK | |||||||||
| palomino3 | Windows Server 2022 Datacenter / x64 | OK | OK | OK | OK | |||||||||
| merida1 | macOS 12.7.4 Monterey / x86_64 | OK | OK | OK | OK | |||||||||
| kjohnson1 | macOS 13.6.6 Ventura / arm64 | OK | OK | OK | OK | |||||||||
| palomino7 | Windows Server 2022 Datacenter / x64 | ERROR | ERROR | skipped | skipped | |||||||||
|
To the developers/maintainers of the chimeraviz package: - Allow up to 24 hours (and sometimes 48 hours) for your latest push to git@git.bioconductor.org:packages/chimeraviz.git to reflect on this report. See Troubleshooting Build Report for more information. - Use the following Renviron settings to reproduce errors and warnings. - If 'R CMD check' started to fail recently on the Linux builder(s) over a missing dependency, add the missing dependency to 'Suggests:' in your DESCRIPTION file. See Renviron.bioc for more information. |
| Package: chimeraviz |
| Version: 1.30.0 |
| Command: F:\biocbuild\bbs-3.19-bioc\R\bin\R.exe CMD check --no-multiarch --install=check:chimeraviz.install-out.txt --library=F:\biocbuild\bbs-3.19-bioc\R\library --no-vignettes --timings chimeraviz_1.30.0.tar.gz |
| StartedAt: 2024-06-27 00:00:17 -0400 (Thu, 27 Jun 2024) |
| EndedAt: 2024-06-27 00:13:13 -0400 (Thu, 27 Jun 2024) |
| EllapsedTime: 776.6 seconds |
| RetCode: 0 |
| Status: OK |
| CheckDir: chimeraviz.Rcheck |
| Warnings: 0 |
##############################################################################
##############################################################################
###
### Running command:
###
### F:\biocbuild\bbs-3.19-bioc\R\bin\R.exe CMD check --no-multiarch --install=check:chimeraviz.install-out.txt --library=F:\biocbuild\bbs-3.19-bioc\R\library --no-vignettes --timings chimeraviz_1.30.0.tar.gz
###
##############################################################################
##############################################################################
* using log directory 'F:/biocbuild/bbs-3.19-bioc/meat/chimeraviz.Rcheck'
* using R version 4.4.0 (2024-04-24 ucrt)
* using platform: x86_64-w64-mingw32
* R was compiled by
gcc.exe (GCC) 13.2.0
GNU Fortran (GCC) 13.2.0
* running under: Windows Server 2022 x64 (build 20348)
* using session charset: UTF-8
* using option '--no-vignettes'
* checking for file 'chimeraviz/DESCRIPTION' ... OK
* checking extension type ... Package
* this is package 'chimeraviz' version '1.30.0'
* package encoding: UTF-8
* checking package namespace information ... OK
* checking package dependencies ... NOTE
Depends: includes the non-default packages:
'Biostrings', 'GenomicRanges', 'IRanges', 'Gviz', 'S4Vectors',
'ensembldb', 'AnnotationFilter', 'data.table'
Adding so many packages to the search path is excessive and importing
selectively is preferable.
* checking if this is a source package ... OK
* checking if there is a namespace ... OK
* checking for hidden files and directories ... OK
* checking for portable file names ... OK
* checking whether package 'chimeraviz' can be installed ... OK
* checking installed package size ... OK
* checking package directory ... OK
* checking 'build' directory ... OK
* checking DESCRIPTION meta-information ... OK
* checking top-level files ... OK
* checking for left-over files ... OK
* checking index information ... OK
* checking package subdirectories ... OK
* checking code files for non-ASCII characters ... OK
* checking R files for syntax errors ... OK
* checking whether the package can be loaded ... OK
* checking whether the package can be loaded with stated dependencies ... OK
* checking whether the package can be unloaded cleanly ... OK
* checking whether the namespace can be loaded with stated dependencies ... OK
* checking whether the namespace can be unloaded cleanly ... OK
* checking dependencies in R code ... NOTE
Namespace in Imports field not imported from: 'magick'
All declared Imports should be used.
* checking S3 generic/method consistency ... OK
* checking replacement functions ... OK
* checking foreign function calls ... OK
* checking R code for possible problems ... NOTE
plot_fusion_transcript_with_protein_domain: no visible binding for
global variable 'protein_domain_location'
Undefined global functions or variables:
protein_domain_location
* checking Rd files ... OK
* checking Rd metadata ... OK
* checking Rd cross-references ... OK
* checking for missing documentation entries ... OK
* checking for code/documentation mismatches ... OK
* checking Rd \usage sections ... OK
* checking Rd contents ... OK
* checking for unstated dependencies in examples ... OK
* checking files in 'vignettes' ... OK
* checking examples ... OK
Examples with CPU (user + system) or elapsed time > 5s
user system elapsed
plot_fusion 39.94 1.57 42.14
plot_transcripts 20.57 0.81 24.29
plot_fusion_transcript 19.70 0.20 19.96
plot_fusion_transcripts_graph 12.48 0.16 12.69
plot_fusion_transcript_with_protein_domain 12.13 0.19 12.33
get_transcripts_ensembl_db 7.61 0.17 7.78
select_transcript 7.31 0.19 7.52
create_fusion_report 2.80 1.06 5.86
get_ensembl_ids 1.00 0.17 8.17
* checking for unstated dependencies in 'tests' ... OK
* checking tests ...
Running 'testthat.R'
OK
* checking for unstated dependencies in vignettes ... OK
* checking package vignettes ... OK
* checking running R code from vignettes ... SKIPPED
* checking re-building of vignette outputs ... SKIPPED
* checking PDF version of manual ... OK
* DONE
Status: 3 NOTEs
See
'F:/biocbuild/bbs-3.19-bioc/meat/chimeraviz.Rcheck/00check.log'
for details.
chimeraviz.Rcheck/00install.out
############################################################################## ############################################################################## ### ### Running command: ### ### F:\biocbuild\bbs-3.19-bioc\R\bin\R.exe CMD INSTALL chimeraviz ### ############################################################################## ############################################################################## * installing to library 'F:/biocbuild/bbs-3.19-bioc/R/library' * installing *source* package 'chimeraviz' ... ** using staged installation ** R ** inst ** byte-compile and prepare package for lazy loading ** help *** installing help indices ** building package indices ** installing vignettes ** testing if installed package can be loaded from temporary location ** testing if installed package can be loaded from final location ** testing if installed package keeps a record of temporary installation path * DONE (chimeraviz)
chimeraviz.Rcheck/tests/testthat.Rout
R version 4.4.0 (2024-04-24 ucrt) -- "Puppy Cup"
Copyright (C) 2024 The R Foundation for Statistical Computing
Platform: x86_64-w64-mingw32/x64
R is free software and comes with ABSOLUTELY NO WARRANTY.
You are welcome to redistribute it under certain conditions.
Type 'license()' or 'licence()' for distribution details.
R is a collaborative project with many contributors.
Type 'contributors()' for more information and
'citation()' on how to cite R or R packages in publications.
Type 'demo()' for some demos, 'help()' for on-line help, or
'help.start()' for an HTML browser interface to help.
Type 'q()' to quit R.
> library(testthat)
> library(chimeraviz)
Loading required package: Biostrings
Loading required package: BiocGenerics
Attaching package: 'BiocGenerics'
The following objects are masked from 'package:stats':
IQR, mad, sd, var, xtabs
The following objects are masked from 'package:base':
Filter, Find, Map, Position, Reduce, anyDuplicated, aperm, append,
as.data.frame, basename, cbind, colnames, dirname, do.call,
duplicated, eval, evalq, get, grep, grepl, intersect, is.unsorted,
lapply, mapply, match, mget, order, paste, pmax, pmax.int, pmin,
pmin.int, rank, rbind, rownames, sapply, setdiff, table, tapply,
union, unique, unsplit, which.max, which.min
Loading required package: S4Vectors
Loading required package: stats4
Attaching package: 'S4Vectors'
The following object is masked from 'package:utils':
findMatches
The following objects are masked from 'package:base':
I, expand.grid, unname
Loading required package: IRanges
Attaching package: 'IRanges'
The following object is masked from 'package:grDevices':
windows
Loading required package: XVector
Loading required package: GenomeInfoDb
Attaching package: 'Biostrings'
The following object is masked from 'package:base':
strsplit
Loading required package: GenomicRanges
Loading required package: Gviz
Loading required package: grid
Attaching package: 'grid'
The following object is masked from 'package:Biostrings':
pattern
Loading required package: ensembldb
Loading required package: GenomicFeatures
Loading required package: AnnotationDbi
Loading required package: Biobase
Welcome to Bioconductor
Vignettes contain introductory material; view with
'browseVignettes()'. To cite Bioconductor, see
'citation("Biobase")', and for packages 'citation("pkgname")'.
Loading required package: AnnotationFilter
Attaching package: 'AnnotationFilter'
The following object is masked from 'package:Gviz':
feature
The following object is masked from 'package:testthat':
not
Attaching package: 'ensembldb'
The following object is masked from 'package:stats':
filter
Loading required package: data.table
Attaching package: 'data.table'
The following object is masked from 'package:GenomicRanges':
shift
The following object is masked from 'package:IRanges':
shift
The following objects are masked from 'package:S4Vectors':
first, second
>
> test_check("chimeraviz")
[ FAIL 0 | WARN 0 | SKIP 2 | PASS 219 ]
══ Skipped tests (2) ═══════════════════════════════════════════════════════════
• On Windows (2): 'test_utilities.R:50:3', 'test_utilities.R:73:3'
[ FAIL 0 | WARN 0 | SKIP 2 | PASS 219 ]
Warning message:
call dbDisconnect() when finished working with a connection
>
> proc.time()
user system elapsed
203.89 8.14 216.84
chimeraviz.Rcheck/chimeraviz-Ex.timings
| name | user | system | elapsed | |
| add_fusion_reads_alignment | 0.86 | 0.06 | 0.93 | |
| create_fusion_report | 2.80 | 1.06 | 5.86 | |
| decide_transcript_category | 0.25 | 0.00 | 0.25 | |
| down_shift | 0.08 | 0.00 | 0.07 | |
| downstream_partner_gene | 0.07 | 0.03 | 0.13 | |
| fetch_reads_from_fastq | 0 | 0 | 0 | |
| fusion_spanning_reads_count | 0.05 | 0.02 | 0.06 | |
| fusion_split_reads_count | 0.05 | 0.01 | 0.06 | |
| fusion_to_data_frame | 0.05 | 0.02 | 0.07 | |
| get_ensembl_ids | 1.00 | 0.17 | 8.17 | |
| get_fusion_by_chromosome | 0.06 | 0.00 | 0.06 | |
| get_fusion_by_gene_name | 0.06 | 0.00 | 0.06 | |
| get_fusion_by_id | 0.05 | 0.00 | 0.05 | |
| get_transcripts_ensembl_db | 7.61 | 0.17 | 7.78 | |
| import_aeron | 0.65 | 0.02 | 0.78 | |
| import_chimpipe | 0.12 | 0.00 | 0.12 | |
| import_defuse | 0.11 | 0.00 | 0.11 | |
| import_ericscript | 0.11 | 0.00 | 0.11 | |
| import_fusioncatcher | 0.11 | 0.00 | 0.11 | |
| import_fusionmap | 0.08 | 0.00 | 0.09 | |
| import_infusion | 0.08 | 0.00 | 0.10 | |
| import_jaffa | 0.09 | 0.00 | 0.09 | |
| import_oncofuse | 0.11 | 0.00 | 0.11 | |
| import_prada | 0.14 | 0.00 | 0.16 | |
| import_soapfuse | 0.14 | 0.00 | 0.14 | |
| import_squid | 0.13 | 0.02 | 0.14 | |
| import_starfusion | 0.33 | 0.01 | 0.34 | |
| partner_gene_ensembl_id | 0.10 | 0.02 | 0.13 | |
| partner_gene_junction_sequence | 0.07 | 0.00 | 0.06 | |
| plot_circle | 0.72 | 0.36 | 1.13 | |
| plot_fusion | 39.94 | 1.57 | 42.14 | |
| plot_fusion_reads | 2.29 | 0.13 | 2.40 | |
| plot_fusion_transcript | 19.70 | 0.20 | 19.96 | |
| plot_fusion_transcript_with_protein_domain | 12.13 | 0.19 | 12.33 | |
| plot_fusion_transcripts_graph | 12.48 | 0.16 | 12.69 | |
| plot_transcripts | 20.57 | 0.81 | 24.29 | |
| select_transcript | 7.31 | 0.19 | 7.52 | |
| split_on_utr_and_add_feature | 0.37 | 0.00 | 0.38 | |
| upstream_partner_gene | 0.10 | 0.01 | 0.10 | |
| write_fusion_reference | 0.06 | 0.00 | 0.08 | |