| Back to Multiple platform build/check report for BioC 3.19: simplified long |
|
This page was generated on 2024-10-18 20:39 -0400 (Fri, 18 Oct 2024).
| Hostname | OS | Arch (*) | R version | Installed pkgs |
|---|---|---|---|---|
| nebbiolo1 | Linux (Ubuntu 22.04.3 LTS) | x86_64 | 4.4.1 (2024-06-14) -- "Race for Your Life" | 4763 |
| palomino7 | Windows Server 2022 Datacenter | x64 | 4.4.1 (2024-06-14 ucrt) -- "Race for Your Life" | 4500 |
| merida1 | macOS 12.7.5 Monterey | x86_64 | 4.4.1 (2024-06-14) -- "Race for Your Life" | 4530 |
| kjohnson1 | macOS 13.6.6 Ventura | arm64 | 4.4.1 (2024-06-14) -- "Race for Your Life" | 4480 |
| Click on any hostname to see more info about the system (e.g. compilers) (*) as reported by 'uname -p', except on Windows and Mac OS X | ||||
| Package 230/2300 | Hostname | OS / Arch | INSTALL | BUILD | CHECK | BUILD BIN | ||||||||
| bluster 1.14.0 (landing page) Aaron Lun
| nebbiolo1 | Linux (Ubuntu 22.04.3 LTS) / x86_64 | OK | OK | OK | |||||||||
| palomino7 | Windows Server 2022 Datacenter / x64 | OK | OK | OK | OK | |||||||||
| merida1 | macOS 12.7.5 Monterey / x86_64 | OK | OK | OK | OK | |||||||||
| kjohnson1 | macOS 13.6.6 Ventura / arm64 | OK | OK | OK | OK | |||||||||
|
To the developers/maintainers of the bluster package: - Allow up to 24 hours (and sometimes 48 hours) for your latest push to git@git.bioconductor.org:packages/bluster.git to reflect on this report. See Troubleshooting Build Report for more information. - Use the following Renviron settings to reproduce errors and warnings. - If 'R CMD check' started to fail recently on the Linux builder(s) over a missing dependency, add the missing dependency to 'Suggests:' in your DESCRIPTION file. See Renviron.bioc for more information. |
| Package: bluster |
| Version: 1.14.0 |
| Command: rm -rf bluster.buildbin-libdir && mkdir bluster.buildbin-libdir && E:\biocbuild\bbs-3.19-bioc\R\bin\R.exe CMD INSTALL --build --library=bluster.buildbin-libdir bluster_1.14.0.tar.gz |
| StartedAt: 2024-10-17 07:26:53 -0400 (Thu, 17 Oct 2024) |
| EndedAt: 2024-10-17 07:27:33 -0400 (Thu, 17 Oct 2024) |
| EllapsedTime: 40.8 seconds |
| RetCode: 0 |
| Status: OK |
| PackageFile: bluster_1.14.0.zip |
| PackageFileSize: 2.422 MiB |
############################################################################## ############################################################################## ### ### Running command: ### ### rm -rf bluster.buildbin-libdir && mkdir bluster.buildbin-libdir && E:\biocbuild\bbs-3.19-bioc\R\bin\R.exe CMD INSTALL --build --library=bluster.buildbin-libdir bluster_1.14.0.tar.gz ### ############################################################################## ############################################################################## * installing *source* package 'bluster' ... ** using staged installation ** libs using C++ compiler: 'G__~1.EXE (GCC) 13.2.0' using C++11 g++ -std=gnu++11 -I"E:/biocbuild/bbs-3.19-bioc/R/include" -DNDEBUG -I'E:/biocbuild/bbs-3.19-bioc/R/library/Rcpp/include' -I"C:/rtools44/x86_64-w64-mingw32.static.posix/include" -O2 -Wall -mfpmath=sse -msse2 -mstackrealign -c RcppExports.cpp -o RcppExports.o g++ -std=gnu++11 -I"E:/biocbuild/bbs-3.19-bioc/R/include" -DNDEBUG -I'E:/biocbuild/bbs-3.19-bioc/R/library/Rcpp/include' -I"C:/rtools44/x86_64-w64-mingw32.static.posix/include" -O2 -Wall -mfpmath=sse -msse2 -mstackrealign -c build_snn.cpp -o build_snn.o g++ -std=gnu++11 -I"E:/biocbuild/bbs-3.19-bioc/R/include" -DNDEBUG -I'E:/biocbuild/bbs-3.19-bioc/R/library/Rcpp/include' -I"C:/rtools44/x86_64-w64-mingw32.static.posix/include" -O2 -Wall -mfpmath=sse -msse2 -mstackrealign -c sum_neighbor_weights.cpp -o sum_neighbor_weights.o g++ -shared -s -static-libgcc -o bluster.dll tmp.def RcppExports.o build_snn.o sum_neighbor_weights.o -LC:/rtools44/x86_64-w64-mingw32.static.posix/lib/x64 -LC:/rtools44/x86_64-w64-mingw32.static.posix/lib -LE:/biocbuild/bbs-3.19-bioc/R/bin/x64 -lR installing to E:/biocbuild/bbs-3.19-bioc/meat/bluster.buildbin-libdir/00LOCK-bluster/00new/bluster/libs/x64 ** R ** inst ** byte-compile and prepare package for lazy loading ** help *** installing help indices ** building package indices ** installing vignettes ** testing if installed package can be loaded from temporary location ** testing if installed package can be loaded from final location ** testing if installed package keeps a record of temporary installation path * MD5 sums packaged installation of 'bluster' as bluster_1.14.0.zip * DONE (bluster)