| Back to Multiple platform build/check report for BioC 3.19: simplified long |
|
This page was generated on 2024-06-28 17:41 -0400 (Fri, 28 Jun 2024).
| Hostname | OS | Arch (*) | R version | Installed pkgs |
|---|---|---|---|---|
| nebbiolo1 | Linux (Ubuntu 22.04.3 LTS) | x86_64 | 4.4.0 (2024-04-24) -- "Puppy Cup" | 4760 |
| palomino3 | Windows Server 2022 Datacenter | x64 | 4.4.0 (2024-04-24 ucrt) -- "Puppy Cup" | 4494 |
| merida1 | macOS 12.7.4 Monterey | x86_64 | 4.4.0 (2024-04-24) -- "Puppy Cup" | 4508 |
| kjohnson1 | macOS 13.6.6 Ventura | arm64 | 4.4.0 (2024-04-24) -- "Puppy Cup" | 4466 |
| palomino7 | Windows Server 2022 Datacenter | x64 | 4.4.1 (2024-06-14 ucrt) -- "Race for Your Life" | 4362 |
| Click on any hostname to see more info about the system (e.g. compilers) (*) as reported by 'uname -p', except on Windows and Mac OS X | ||||
| Package 112/2300 | Hostname | OS / Arch | INSTALL | BUILD | CHECK | BUILD BIN | ||||||||
| autonomics 1.12.1 (landing page) Aditya Bhagwat
| nebbiolo1 | Linux (Ubuntu 22.04.3 LTS) / x86_64 | OK | OK | OK | |||||||||
| palomino3 | Windows Server 2022 Datacenter / x64 | OK | OK | OK | OK | |||||||||
| merida1 | macOS 12.7.4 Monterey / x86_64 | OK | OK | OK | OK | |||||||||
| kjohnson1 | macOS 13.6.6 Ventura / arm64 | OK | OK | ERROR | OK | |||||||||
| palomino7 | Windows Server 2022 Datacenter / x64 | OK | OK | OK | OK | |||||||||
|
To the developers/maintainers of the autonomics package: - Allow up to 24 hours (and sometimes 48 hours) for your latest push to git@git.bioconductor.org:packages/autonomics.git to reflect on this report. See Troubleshooting Build Report for more information. - Use the following Renviron settings to reproduce errors and warnings. - If 'R CMD check' started to fail recently on the Linux builder(s) over a missing dependency, add the missing dependency to 'Suggests:' in your DESCRIPTION file. See Renviron.bioc for more information. |
| Package: autonomics |
| Version: 1.12.1 |
| Command: F:\biocbuild\bbs-3.19-bioc\R\bin\R.exe CMD check --no-multiarch --install=check:autonomics.install-out.txt --library=F:\biocbuild\bbs-3.19-bioc\R\library --no-vignettes --timings autonomics_1.12.1.tar.gz |
| StartedAt: 2024-06-26 23:03:02 -0400 (Wed, 26 Jun 2024) |
| EndedAt: 2024-06-26 23:20:54 -0400 (Wed, 26 Jun 2024) |
| EllapsedTime: 1072.1 seconds |
| RetCode: 0 |
| Status: OK |
| CheckDir: autonomics.Rcheck |
| Warnings: 0 |
##############################################################################
##############################################################################
###
### Running command:
###
### F:\biocbuild\bbs-3.19-bioc\R\bin\R.exe CMD check --no-multiarch --install=check:autonomics.install-out.txt --library=F:\biocbuild\bbs-3.19-bioc\R\library --no-vignettes --timings autonomics_1.12.1.tar.gz
###
##############################################################################
##############################################################################
* using log directory 'F:/biocbuild/bbs-3.19-bioc/meat/autonomics.Rcheck'
* using R version 4.4.0 (2024-04-24 ucrt)
* using platform: x86_64-w64-mingw32
* R was compiled by
gcc.exe (GCC) 13.2.0
GNU Fortran (GCC) 13.2.0
* running under: Windows Server 2022 x64 (build 20348)
* using session charset: UTF-8
* using option '--no-vignettes'
* checking for file 'autonomics/DESCRIPTION' ... OK
* checking extension type ... Package
* this is package 'autonomics' version '1.12.1'
* package encoding: UTF-8
* checking package namespace information ... OK
* checking package dependencies ... OK
* checking if this is a source package ... OK
* checking if there is a namespace ... OK
* checking for hidden files and directories ... NOTE
Found the following hidden files and directories:
.BBSoptions
These were most likely included in error. See section 'Package
structure' in the 'Writing R Extensions' manual.
* checking for portable file names ... OK
* checking whether package 'autonomics' can be installed ... OK
* checking installed package size ... OK
* checking package directory ... OK
* checking 'build' directory ... OK
* checking DESCRIPTION meta-information ... OK
* checking top-level files ... OK
* checking for left-over files ... OK
* checking index information ... OK
* checking package subdirectories ... OK
* checking code files for non-ASCII characters ... OK
* checking R files for syntax errors ... OK
* checking whether the package can be loaded ... OK
* checking whether the package can be loaded with stated dependencies ... OK
* checking whether the package can be unloaded cleanly ... OK
* checking whether the namespace can be loaded with stated dependencies ... OK
* checking whether the namespace can be unloaded cleanly ... OK
* checking dependencies in R code ... OK
* checking S3 generic/method consistency ... OK
* checking replacement functions ... OK
* checking foreign function calls ... OK
* checking R code for possible problems ... OK
* checking Rd files ... NOTE
checkRd: (-1) dequantify.Rd:24: Lost braces; missing escapes or markup?
24 | Encode {channel} as suffix.
| ^
* checking Rd metadata ... OK
* checking Rd cross-references ... OK
* checking for missing documentation entries ... OK
* checking for code/documentation mismatches ... OK
* checking Rd \usage sections ... OK
* checking Rd contents ... OK
* checking for unstated dependencies in examples ... OK
* checking files in 'vignettes' ... OK
* checking examples ... OK
Examples with CPU (user + system) or elapsed time > 5s
user system elapsed
read_diann_proteingroups 147.13 5.70 150.34
read_rnaseq_counts 36.30 2.05 43.64
rm_diann_contaminants 27.65 1.16 28.55
plot_exprs 26.19 0.39 26.67
plot_exprs_per_coef 22.42 0.41 22.95
default_formula 18.60 0.72 19.36
read_metabolon 17.04 0.28 17.40
read_somascan 16.61 0.20 16.80
fit 15.47 0.36 16.00
plot_summary 14.25 0.25 14.57
analyze 13.80 0.34 14.33
plot_volcano 11.31 0.36 11.80
read_fragpipe 11.19 0.21 11.31
plot_densities 10.97 0.32 11.41
plot_sample_nas 6.64 0.10 6.76
extract_coef_features 5.83 0.11 5.99
dot-plot_survival 5.28 0.58 5.86
subtract_baseline 5.66 0.16 5.84
biplot_covariates 5.59 0.11 5.81
explore_transformations 5.34 0.22 5.58
plot_subgroup_points 5.31 0.14 5.58
fit_lmx 5.22 0.14 5.48
biplot 5.11 0.24 5.45
reset_fit 5.05 0.20 5.31
code 5.13 0.10 5.31
log2transform 4.99 0.12 5.16
plot_violins 4.56 0.27 5.03
* checking for unstated dependencies in 'tests' ... OK
* checking tests ...
Running 'testthat.R'
OK
* checking for unstated dependencies in vignettes ... OK
* checking package vignettes ... OK
* checking running R code from vignettes ... SKIPPED
* checking re-building of vignette outputs ... SKIPPED
* checking PDF version of manual ... OK
* DONE
Status: 2 NOTEs
See
'F:/biocbuild/bbs-3.19-bioc/meat/autonomics.Rcheck/00check.log'
for details.
autonomics.Rcheck/00install.out
############################################################################## ############################################################################## ### ### Running command: ### ### F:\biocbuild\bbs-3.19-bioc\R\bin\R.exe CMD INSTALL autonomics ### ############################################################################## ############################################################################## * installing to library 'F:/biocbuild/bbs-3.19-bioc/R/library' * installing *source* package 'autonomics' ... ** using staged installation ** R ** inst ** byte-compile and prepare package for lazy loading ** help *** installing help indices ** building package indices ** installing vignettes ** testing if installed package can be loaded from temporary location ** testing if installed package can be loaded from final location ** testing if installed package keeps a record of temporary installation path * DONE (autonomics)
autonomics.Rcheck/tests/testthat.Rout
R version 4.4.0 (2024-04-24 ucrt) -- "Puppy Cup"
Copyright (C) 2024 The R Foundation for Statistical Computing
Platform: x86_64-w64-mingw32/x64
R is free software and comes with ABSOLUTELY NO WARRANTY.
You are welcome to redistribute it under certain conditions.
Type 'license()' or 'licence()' for distribution details.
R is a collaborative project with many contributors.
Type 'contributors()' for more information and
'citation()' on how to cite R or R packages in publications.
Type 'demo()' for some demos, 'help()' for on-line help, or
'help.start()' for an HTML browser interface to help.
Type 'q()' to quit R.
> library(testthat)
> library(autonomics)
Attaching package: 'autonomics'
The following objects are masked from 'package:stats':
biplot, loadings
>
> test_check("autonomics")
[ FAIL 0 | WARN 0 | SKIP 0 | PASS 159 ]
>
> proc.time()
user system elapsed
174.04 14.98 198.31
autonomics.Rcheck/autonomics-Ex.timings
| name | user | system | elapsed | |
| AUTONOMICS_DATASETS | 0 | 0 | 0 | |
| CONTAMINANTSURL | 0 | 0 | 0 | |
| FITSEP | 0 | 0 | 0 | |
| LINMOD_ENGINES | 0 | 0 | 0 | |
| MAXQUANT_PATTERNS | 0 | 0 | 0 | |
| TAXON_TO_ORGNAME | 0 | 0 | 0 | |
| TESTS | 0 | 0 | 0 | |
| abstract_fit | 1.55 | 0.14 | 1.80 | |
| add_adjusted_pvalues | 0.91 | 0.03 | 0.95 | |
| add_assay_means | 1.21 | 0.03 | 1.28 | |
| add_facetvars | 1.85 | 0.10 | 2.13 | |
| add_opentargets_by_uniprot | 0.55 | 0.04 | 0.62 | |
| add_psp | 0.65 | 0.07 | 0.74 | |
| add_smiles | 0.47 | 0.07 | 0.62 | |
| analysis | 0.40 | 0.02 | 0.42 | |
| analyze | 13.80 | 0.34 | 14.33 | |
| annotate_maxquant | 1.01 | 0.10 | 1.12 | |
| annotate_uniprot_rest | 0.05 | 0.01 | 1.39 | |
| assert_is_valid_sumexp | 0.81 | 0.13 | 1.02 | |
| bin | 0.38 | 0.04 | 0.44 | |
| biplot | 5.11 | 0.24 | 5.45 | |
| biplot_corrections | 3.30 | 0.20 | 3.64 | |
| biplot_covariates | 5.59 | 0.11 | 5.81 | |
| block2lme | 0.01 | 0.00 | 0.02 | |
| center | 2.05 | 0.03 | 2.09 | |
| code | 5.13 | 0.10 | 5.31 | |
| coefs | 1.07 | 0.09 | 1.25 | |
| collapsed_entrezg_to_symbol | 0 | 0 | 0 | |
| contrast_subgroup_cols | 0.86 | 0.09 | 1.10 | |
| count_in | 0 | 0 | 0 | |
| counts | 0.55 | 0.00 | 0.67 | |
| counts2cpm | 0.58 | 0.02 | 0.67 | |
| counts2tpm | 0.48 | 0.00 | 0.50 | |
| cpm | 0.44 | 0.00 | 0.44 | |
| create_design | 0.76 | 0.09 | 0.90 | |
| default_formula | 18.60 | 0.72 | 19.36 | |
| default_geom | 0.86 | 0.05 | 1.02 | |
| default_sfile | 0 | 0 | 0 | |
| demultiplex | 0.01 | 0.00 | 0.01 | |
| dequantify | 0 | 0 | 0 | |
| dot-merge | 0.02 | 0.01 | 0.03 | |
| dot-plot_survival | 5.28 | 0.58 | 5.86 | |
| dot-read_maxquant_proteingroups | 0.15 | 0.00 | 0.19 | |
| download_contaminants | 0.04 | 0.00 | 0.95 | |
| download_data | 0 | 0 | 0 | |
| download_gtf | 0 | 0 | 0 | |
| download_mcclain21 | 0 | 0 | 0 | |
| dt2mat | 0 | 0 | 0 | |
| enrichment | 1.52 | 0.11 | 1.62 | |
| entrezg_to_symbol | 0 | 0 | 0 | |
| explore_transformations | 5.34 | 0.22 | 5.58 | |
| extract_coef_features | 5.83 | 0.11 | 5.99 | |
| extract_rectangle | 0.08 | 0.19 | 0.37 | |
| fdata | 0.78 | 0.03 | 0.83 | |
| fdr2p | 1.08 | 0.17 | 1.32 | |
| filter_exprs_replicated_in_some_subgroup | 1.06 | 0.09 | 1.27 | |
| filter_features | 0.64 | 0.08 | 0.81 | |
| filter_medoid | 1.19 | 0.05 | 1.24 | |
| filter_samples | 0.80 | 0.11 | 0.98 | |
| fit | 15.47 | 0.36 | 16.00 | |
| fit_lmx | 5.22 | 0.14 | 5.48 | |
| fitcoefs | 1.07 | 0.12 | 1.29 | |
| fits | 0.93 | 0.11 | 1.14 | |
| fitvars | 1.39 | 0.08 | 1.53 | |
| fix_xlgenes | 0.01 | 0.00 | 0.01 | |
| flevels | 0.63 | 0.02 | 0.66 | |
| fnames | 0.64 | 0.01 | 0.67 | |
| formula2str | 0 | 0 | 0 | |
| fvalues | 0.53 | 0.01 | 0.56 | |
| fvars | 0.48 | 0.00 | 0.50 | |
| genome_to_orgdb | 0 | 0 | 0 | |
| group_by_level | 0 | 0 | 0 | |
| guess_fitsep | 0.58 | 0.02 | 0.61 | |
| guess_maxquant_quantity | 0.02 | 0.00 | 0.01 | |
| guess_sep | 0.54 | 0.11 | 0.75 | |
| has_multiple_levels | 0.05 | 0.00 | 0.05 | |
| hdlproteins | 0.03 | 0.08 | 0.14 | |
| impute | 4.02 | 0.06 | 4.13 | |
| invert_subgroups | 1.01 | 0.00 | 1.04 | |
| is_collapsed_subset | 0 | 0 | 0 | |
| is_diann_report | 0.37 | 0.11 | 0.58 | |
| is_fastadt | 0.07 | 0.00 | 0.06 | |
| is_file | 0 | 0 | 0 | |
| is_fraction | 0 | 0 | 0 | |
| is_imputed | 0.89 | 0.03 | 0.95 | |
| is_positive_number | 0 | 0 | 0 | |
| is_scalar_subset | 0.42 | 0.02 | 0.44 | |
| is_sig | 1.45 | 0.01 | 1.50 | |
| is_valid_formula | 0.05 | 0.00 | 0.05 | |
| keep_connected_blocks | 0.55 | 0.11 | 0.78 | |
| keep_connected_features | 0.97 | 0.13 | 1.23 | |
| keep_replicated_features | 1.21 | 0.13 | 1.42 | |
| label2index | 0 | 0 | 0 | |
| list2mat | 0 | 0 | 0 | |
| log2counts | 0.61 | 0.00 | 0.61 | |
| log2cpm | 0.47 | 0.03 | 0.48 | |
| log2diffs | 0.38 | 0.00 | 0.40 | |
| log2proteins | 0.45 | 0.03 | 0.50 | |
| log2sites | 0.48 | 0.00 | 0.50 | |
| log2tpm | 0.44 | 0.00 | 0.43 | |
| log2transform | 4.99 | 0.12 | 5.16 | |
| logical2factor | 0 | 0 | 0 | |
| make_alpha_palette | 0.73 | 0.10 | 0.92 | |
| make_colors | 0.02 | 0.00 | 0.02 | |
| make_volcano_dt | 0.98 | 0.01 | 1.01 | |
| map_fvalues | 0.59 | 0.03 | 0.63 | |
| matrix2sumexp | 1.30 | 0.08 | 1.43 | |
| merge_sample_file | 0.50 | 0.00 | 0.52 | |
| merge_sdata | 0.72 | 0.10 | 0.88 | |
| message_df | 0 | 0 | 0 | |
| modelvar | 1.95 | 0.12 | 2.21 | |
| order_on_p | 1.02 | 0.11 | 1.16 | |
| pca | 3.66 | 0.08 | 3.86 | |
| pg_to_canonical | 0 | 0 | 0 | |
| plot_contrast_venn | 2.26 | 0.06 | 2.44 | |
| plot_contrastogram | 2.83 | 0.20 | 3.22 | |
| plot_data | 1.56 | 0.14 | 1.82 | |
| plot_densities | 10.97 | 0.32 | 11.41 | |
| plot_design | 0.83 | 0.04 | 0.89 | |
| plot_exprs | 26.19 | 0.39 | 26.67 | |
| plot_exprs_per_coef | 22.42 | 0.41 | 22.95 | |
| plot_fit_summary | 2.25 | 0.17 | 2.53 | |
| plot_heatmap | 2.08 | 0.03 | 2.13 | |
| plot_matrix | 0.75 | 0.09 | 0.97 | |
| plot_sample_nas | 6.64 | 0.10 | 6.76 | |
| plot_subgroup_points | 5.31 | 0.14 | 5.58 | |
| plot_summary | 14.25 | 0.25 | 14.57 | |
| plot_venn | 0.01 | 0.00 | 0.02 | |
| plot_venn_heatmap | 0.16 | 0.00 | 0.16 | |
| plot_violins | 4.56 | 0.27 | 5.03 | |
| plot_volcano | 11.31 | 0.36 | 11.80 | |
| preprocess_rnaseq_counts | 0.41 | 0.01 | 0.42 | |
| pull_columns | 0.01 | 0.00 | 0.02 | |
| read_affymetrix | 0 | 0 | 0 | |
| read_contaminants | 0.00 | 0.00 | 0.37 | |
| read_diann_proteingroups | 147.13 | 5.70 | 150.34 | |
| read_fragpipe | 11.19 | 0.21 | 11.31 | |
| read_maxquant_phosphosites | 1.90 | 0.03 | 1.97 | |
| read_maxquant_proteingroups | 1.92 | 0.09 | 2.05 | |
| read_metabolon | 17.04 | 0.28 | 17.40 | |
| read_msigdt | 0 | 0 | 0 | |
| read_olink | 1.89 | 0.11 | 2.06 | |
| read_rectangles | 0.26 | 0.03 | 0.33 | |
| read_rnaseq_counts | 36.30 | 2.05 | 43.64 | |
| read_salmon | 0 | 0 | 0 | |
| read_somascan | 16.61 | 0.20 | 16.80 | |
| read_uniprotdt | 0.34 | 0.03 | 0.44 | |
| reset_fit | 5.05 | 0.20 | 5.31 | |
| rm_diann_contaminants | 27.65 | 1.16 | 28.55 | |
| rm_missing_in_some_samples | 0.57 | 0.11 | 0.78 | |
| rm_unmatched_samples | 0.72 | 0.04 | 0.75 | |
| scaledlibsizes | 0.45 | 0.01 | 0.47 | |
| scoremat | 1.30 | 0.16 | 1.50 | |
| slevels | 0.53 | 0.00 | 0.54 | |
| snames | 0.49 | 0.02 | 0.53 | |
| split_extract_fixed | 0.70 | 0.11 | 0.88 | |
| split_samples | 1.69 | 0.08 | 1.82 | |
| stri_any_regex | 0 | 0 | 0 | |
| stri_detect_fixed_in_collapsed | 0.47 | 0.01 | 0.49 | |
| subgroup_matrix | 0.90 | 0.13 | 1.16 | |
| subtract_baseline | 5.66 | 0.16 | 5.84 | |
| sumexp_to_longdt | 2.28 | 0.11 | 2.52 | |
| sumexp_to_tsv | 0.69 | 0.01 | 0.73 | |
| sumexplist_to_longdt | 2.04 | 0.03 | 2.10 | |
| summarize_fit | 1.99 | 0.18 | 2.23 | |
| svalues | 0.62 | 0.00 | 0.64 | |
| svars | 0.46 | 0.00 | 0.47 | |
| systematic_nas | 0.65 | 0.04 | 0.72 | |
| tag_features | 1.11 | 0.03 | 1.14 | |
| tag_hdlproteins | 0.72 | 0.07 | 0.82 | |
| taxon2org | 0 | 0 | 0 | |
| tpm | 0.60 | 0.00 | 0.59 | |
| uncollapse | 0.01 | 0.00 | 0.01 | |
| values | 0.46 | 0.00 | 0.47 | |
| varlevels_dont_clash | 0.01 | 0.00 | 0.01 | |
| venn_detects | 0.94 | 0.05 | 1.02 | |
| weights | 0.47 | 0.00 | 0.47 | |
| write_xl | 0.70 | 0.14 | 0.95 | |
| zero_to_na | 0 | 0 | 0 | |