| Back to Multiple platform build/check report for BioC 3.19: simplified long |
|
This page was generated on 2024-06-28 17:42 -0400 (Fri, 28 Jun 2024).
| Hostname | OS | Arch (*) | R version | Installed pkgs |
|---|---|---|---|---|
| nebbiolo1 | Linux (Ubuntu 22.04.3 LTS) | x86_64 | 4.4.0 (2024-04-24) -- "Puppy Cup" | 4760 |
| palomino3 | Windows Server 2022 Datacenter | x64 | 4.4.0 (2024-04-24 ucrt) -- "Puppy Cup" | 4494 |
| merida1 | macOS 12.7.4 Monterey | x86_64 | 4.4.0 (2024-04-24) -- "Puppy Cup" | 4508 |
| kjohnson1 | macOS 13.6.6 Ventura | arm64 | 4.4.0 (2024-04-24) -- "Puppy Cup" | 4466 |
| palomino7 | Windows Server 2022 Datacenter | x64 | 4.4.1 (2024-06-14 ucrt) -- "Race for Your Life" | 4362 |
| Click on any hostname to see more info about the system (e.g. compilers) (*) as reported by 'uname -p', except on Windows and Mac OS X | ||||
| Package 2218/2300 | Hostname | OS / Arch | INSTALL | BUILD | CHECK | BUILD BIN | ||||||||
| TSAR 1.2.0 (landing page) Xinlin Gao
| nebbiolo1 | Linux (Ubuntu 22.04.3 LTS) / x86_64 | OK | OK | OK | |||||||||
| palomino3 | Windows Server 2022 Datacenter / x64 | OK | OK | OK | OK | |||||||||
| merida1 | macOS 12.7.4 Monterey / x86_64 | OK | OK | OK | OK | |||||||||
| kjohnson1 | macOS 13.6.6 Ventura / arm64 | OK | OK | OK | NA | |||||||||
| palomino7 | Windows Server 2022 Datacenter / x64 | OK | OK | OK | OK | |||||||||
|
To the developers/maintainers of the TSAR package: - Allow up to 24 hours (and sometimes 48 hours) for your latest push to git@git.bioconductor.org:packages/TSAR.git to reflect on this report. See Troubleshooting Build Report for more information. - Use the following Renviron settings to reproduce errors and warnings. - If 'R CMD check' started to fail recently on the Linux builder(s) over a missing dependency, add the missing dependency to 'Suggests:' in your DESCRIPTION file. See Renviron.bioc for more information. |
| Package: TSAR |
| Version: 1.2.0 |
| Command: F:\biocbuild\bbs-3.19-bioc\R\bin\R.exe CMD check --no-multiarch --install=check:TSAR.install-out.txt --library=F:\biocbuild\bbs-3.19-bioc\R\library --no-vignettes --timings TSAR_1.2.0.tar.gz |
| StartedAt: 2024-06-27 07:11:44 -0400 (Thu, 27 Jun 2024) |
| EndedAt: 2024-06-27 07:15:09 -0400 (Thu, 27 Jun 2024) |
| EllapsedTime: 205.3 seconds |
| RetCode: 0 |
| Status: OK |
| CheckDir: TSAR.Rcheck |
| Warnings: 0 |
##############################################################################
##############################################################################
###
### Running command:
###
### F:\biocbuild\bbs-3.19-bioc\R\bin\R.exe CMD check --no-multiarch --install=check:TSAR.install-out.txt --library=F:\biocbuild\bbs-3.19-bioc\R\library --no-vignettes --timings TSAR_1.2.0.tar.gz
###
##############################################################################
##############################################################################
* using log directory 'F:/biocbuild/bbs-3.19-bioc/meat/TSAR.Rcheck'
* using R version 4.4.0 (2024-04-24 ucrt)
* using platform: x86_64-w64-mingw32
* R was compiled by
gcc.exe (GCC) 13.2.0
GNU Fortran (GCC) 13.2.0
* running under: Windows Server 2022 x64 (build 20348)
* using session charset: UTF-8
* using option '--no-vignettes'
* checking for file 'TSAR/DESCRIPTION' ... OK
* checking extension type ... Package
* this is package 'TSAR' version '1.2.0'
* package encoding: UTF-8
* checking package namespace information ... OK
* checking package dependencies ... OK
* checking if this is a source package ... OK
* checking if there is a namespace ... OK
* checking for hidden files and directories ... OK
* checking for portable file names ... OK
* checking whether package 'TSAR' can be installed ... OK
* checking installed package size ... OK
* checking package directory ... OK
* checking 'build' directory ... OK
* checking DESCRIPTION meta-information ... OK
* checking top-level files ... OK
* checking for left-over files ... OK
* checking index information ... OK
* checking package subdirectories ... NOTE
Found the following CITATION file in a non-standard place:
CITATION
Most likely 'inst/CITATION' should be used instead.
* checking code files for non-ASCII characters ... OK
* checking R files for syntax errors ... OK
* checking whether the package can be loaded ... OK
* checking whether the package can be loaded with stated dependencies ... OK
* checking whether the package can be unloaded cleanly ... OK
* checking whether the namespace can be loaded with stated dependencies ... OK
* checking whether the namespace can be unloaded cleanly ... OK
* checking dependencies in R code ... OK
* checking S3 generic/method consistency ... OK
* checking replacement functions ... OK
* checking foreign function calls ... OK
* checking R code for possible problems ... NOTE
TSA_Tms : <anonymous>: no visible binding for global variable 'well_ID'
TSA_Tms : <anonymous>: no visible binding for global variable 'Tm'
TSA_Tms : <anonymous>: no visible global function definition for 'sd'
TSA_Tms: no visible binding for global variable 'well_ID'
TSA_Tms: no visible binding for global variable 'Tm'
TSA_Tms: no visible binding for global variable 'condition_ID'
TSA_Tms: no visible binding for global variable 'Protein'
TSA_Tms: no visible binding for global variable 'Ligand'
TSA_average: no visible binding for global variable 'Temperature'
TSA_average: no visible binding for global variable 'Fluorescence'
TSA_average: no visible global function definition for 'sd'
TSA_average: no visible binding for global variable 'Normalized'
TSA_average: no visible global function definition for 'predict'
TSA_boxplot: no visible binding for global variable 'condition_ID'
TSA_boxplot: no visible binding for global variable 'Tm'
TSA_boxplot: no visible binding for global variable 'Ligand'
TSA_boxplot: no visible binding for global variable 'well_ID'
TSA_boxplot: no visible binding for global variable 'Protein'
TSA_compare_plot: no visible binding for global variable 'Temperature'
TSA_compare_plot: no visible binding for global variable 'avg_smooth'
TSA_compare_plot: no visible binding for global variable
'sd_min_smooth'
TSA_compare_plot: no visible binding for global variable
'sd_max_smooth'
TSA_compare_plot: no visible global function definition for
'colorRampPalette'
TSA_wells_plot: no visible binding for global variable 'Temperature'
TSA_wells_plot: no visible binding for global variable 'Fluorescence'
TSA_wells_plot: no visible binding for global variable 'Normalized'
TSA_wells_plot: no visible binding for global variable 'well_ID'
TSA_wells_plot: no visible binding for global variable 'sd_min_smooth'
TSA_wells_plot: no visible binding for global variable 'sd_max_smooth'
TSA_wells_plot: no visible binding for global variable 'avg_smooth'
TSA_wells_plot: no visible binding for global variable 'sd_min'
TSA_wells_plot: no visible binding for global variable 'sd_max'
TSA_wells_plot: no visible binding for global variable 'average'
build_curves: no visible binding for global variable 'condition_ID'
build_table: no visible global function definition for 'head'
build_well: no visible global function definition for 'head'
dummy_plot: no visible binding for global variable 'x'
dummy_plot: no visible binding for global variable 'y'
gam_analysis : process_well: no visible binding for global variable
'Well.Position'
gam_analysis : process_well: no visible global function definition for
'all_of'
join_well_info: no visible binding for global variable 'Col'
join_well_info: no visible binding for global variable 'pos'
join_well_info: no visible binding for global variable 'Well'
join_well_info: no visible binding for global variable 'Protein'
join_well_info: no visible binding for global variable 'Ligand'
join_well_info: no visible global function definition for 'na.omit'
merge_norm : <anonymous>: no visible global function definition for
'read.csv'
merge_norm : <anonymous>: no visible binding for global variable
'Well.Position'
merge_norm : <anonymous>: no visible binding for global variable
'Protein'
merge_norm : <anonymous>: no visible binding for global variable
'Ligand'
merge_norm: no visible binding for global variable 'tm'
merge_norm: no visible binding for global variable 'Well.Position'
merge_update: no visible global function definition for 'na.omit'
model_boltzmann: no visible binding for global variable 'Temperature'
normalize: no visible global function definition for 'all_of'
preview_condition: no visible global function definition for 'head'
preview_model: no visible binding for global variable 'Well.Position'
read_analysis: no visible global function definition for 'read.delim'
read_analysis: no visible global function definition for 'read.csv'
read_raw_data: no visible global function definition for 'read.delim'
read_raw_data: no visible global function definition for 'read.csv'
remove_raw: no visible binding for global variable 'Well.Position'
remove_raw: no visible binding for global variable 'Well'
remove_selected_graph: no visible binding for global variable
'condition_ID'
remove_selected_graph: no visible binding for global variable 'well_ID'
screen: no visible binding for global variable 'Well.Position'
screen: no visible binding for global variable 'Well'
screen : normalize_by_well: no visible binding for global variable
'Well.Position'
screen: no visible binding for global variable 'Temperature'
screen: no visible binding for global variable 'Fluorescence'
view_deriv: no visible binding for global variable 'Temperature'
view_deriv: no visible binding for global variable 'norm_deriv'
view_deriv: no visible binding for global variable 'well_ID'
view_deriv: no visible binding for global variable 'Tm'
view_model: no visible binding for global variable 'Temperature'
view_model: no visible binding for global variable 'Normalized'
view_model: no visible binding for global variable 'fitted'
view_model: no visible global function definition for 'na.omit'
view_model: no visible binding for global variable 'norm_deriv'
view_model: no visible binding for global variable 'Well.Position'
Undefined global functions or variables:
Col Fluorescence Ligand Normalized Protein Temperature Tm Well
Well.Position all_of average avg_smooth colorRampPalette condition_ID
fitted head na.omit norm_deriv pos predict read.csv read.delim sd
sd_max sd_max_smooth sd_min sd_min_smooth tm well_ID x y
Consider adding
importFrom("grDevices", "colorRampPalette")
importFrom("stats", "fitted", "na.omit", "predict", "sd")
importFrom("utils", "head", "read.csv", "read.delim")
to your NAMESPACE file.
* checking Rd files ... OK
* checking Rd metadata ... OK
* checking Rd cross-references ... OK
* checking for missing documentation entries ... OK
* checking for code/documentation mismatches ... OK
* checking Rd \usage sections ... OK
* checking Rd contents ... OK
* checking for unstated dependencies in examples ... OK
* checking contents of 'data' directory ... OK
* checking data for non-ASCII characters ... OK
* checking data for ASCII and uncompressed saves ... OK
* checking files in 'vignettes' ... OK
* checking examples ... OK
Examples with CPU (user + system) or elapsed time > 5s
user system elapsed
TSA_wells_plot 27.00 1.38 28.42
gam_analysis 11.37 0.59 11.97
view_deriv 6.89 1.72 10.61
* checking for unstated dependencies in 'tests' ... OK
* checking tests ...
Running 'testthat.R'
OK
* checking for unstated dependencies in vignettes ... OK
* checking package vignettes ... OK
* checking running R code from vignettes ... SKIPPED
* checking re-building of vignette outputs ... SKIPPED
* checking PDF version of manual ... OK
* DONE
Status: 2 NOTEs
See
'F:/biocbuild/bbs-3.19-bioc/meat/TSAR.Rcheck/00check.log'
for details.
TSAR.Rcheck/00install.out
############################################################################## ############################################################################## ### ### Running command: ### ### F:\biocbuild\bbs-3.19-bioc\R\bin\R.exe CMD INSTALL TSAR ### ############################################################################## ############################################################################## * installing to library 'F:/biocbuild/bbs-3.19-bioc/R/library' * installing *source* package 'TSAR' ... ** using staged installation ** R ** data ** inst ** byte-compile and prepare package for lazy loading ** help *** installing help indices ** building package indices ** installing vignettes ** testing if installed package can be loaded from temporary location ** testing if installed package can be loaded from final location ** testing if installed package keeps a record of temporary installation path * DONE (TSAR)
TSAR.Rcheck/tests/testthat.Rout
R version 4.4.0 (2024-04-24 ucrt) -- "Puppy Cup"
Copyright (C) 2024 The R Foundation for Statistical Computing
Platform: x86_64-w64-mingw32/x64
R is free software and comes with ABSOLUTELY NO WARRANTY.
You are welcome to redistribute it under certain conditions.
Type 'license()' or 'licence()' for distribution details.
R is a collaborative project with many contributors.
Type 'contributors()' for more information and
'citation()' on how to cite R or R packages in publications.
Type 'demo()' for some demos, 'help()' for on-line help, or
'help.start()' for an HTML browser interface to help.
Type 'q()' to quit R.
> # This file is part of the standard setup for testthat.
> # It is recommended that you do not modify it.
> #
> # Where should you do additional test configuration?
> # Learn more about the roles of various files in:
> # * https://r-pkgs.org/testing-design.html#sec-tests-files-overview
> # * https://testthat.r-lib.org/articles/special-files.html
>
> library(testthat)
> library(TSAR)
Attaching package: 'TSAR'
The following object is masked from 'package:graphics':
screen
>
> test_check("TSAR")
[ FAIL 0 | WARN 0 | SKIP 0 | PASS 16 ]
>
> proc.time()
user system elapsed
14.18 8.14 22.37
TSAR.Rcheck/TSAR-Ex.timings
| name | user | system | elapsed | |
| TSA_Tms | 0.53 | 0.81 | 1.34 | |
| TSA_boxplot | 1.31 | 0.93 | 2.23 | |
| TSA_ligands | 0.39 | 0.82 | 1.22 | |
| TSA_proteins | 0.35 | 1.00 | 1.35 | |
| TSA_wells_plot | 27.00 | 1.38 | 28.42 | |
| Tm_difference | 0.37 | 0.91 | 1.28 | |
| Tm_est | 1.75 | 0.04 | 1.80 | |
| analyze_norm | 0 | 0 | 0 | |
| condition_IDs | 0.49 | 0.94 | 1.42 | |
| gam_analysis | 11.37 | 0.59 | 11.97 | |
| get_legend | 0.96 | 0.95 | 1.91 | |
| graph_tsar | 0 | 0 | 0 | |
| join_well_info | 1.72 | 0.42 | 2.14 | |
| merge_norm | 1.64 | 0.02 | 1.65 | |
| merge_tsa | 0 | 0 | 0 | |
| model_boltzmann | 0.08 | 0.02 | 0.10 | |
| model_fit | 1.76 | 0.06 | 1.84 | |
| model_gam | 1.61 | 0.08 | 1.69 | |
| normalize | 0.08 | 0.00 | 0.08 | |
| normalize_fluorescence | 0 | 0 | 0 | |
| read_analysis | 0 | 0 | 0 | |
| read_raw_data | 0 | 0 | 0 | |
| read_tsar | 0.67 | 0.03 | 0.70 | |
| remove_raw | 0.72 | 0.35 | 1.07 | |
| rescale | 0 | 0 | 0 | |
| run_boltzmann | 0.10 | 0.01 | 0.11 | |
| screen | 0.79 | 0.02 | 0.81 | |
| tsa_average | 0.52 | 1.01 | 1.55 | |
| tsa_compare_plot | 3.16 | 1.22 | 4.37 | |
| view_deriv | 6.89 | 1.72 | 10.61 | |
| view_model | 2.17 | 0.09 | 2.27 | |
| weed_raw | 0.06 | 0.00 | 0.06 | |
| well_IDs | 0.48 | 1.04 | 1.53 | |
| write_tsar | 0.74 | 0.03 | 0.76 | |