| Back to Multiple platform build/check report for BioC 3.19: simplified long |
|
This page was generated on 2024-06-11 14:43 -0400 (Tue, 11 Jun 2024).
| Hostname | OS | Arch (*) | R version | Installed pkgs |
|---|---|---|---|---|
| nebbiolo1 | Linux (Ubuntu 22.04.3 LTS) | x86_64 | 4.4.0 (2024-04-24) -- "Puppy Cup" | 4757 |
| palomino3 | Windows Server 2022 Datacenter | x64 | 4.4.0 (2024-04-24 ucrt) -- "Puppy Cup" | 4491 |
| lconway | macOS 12.7.1 Monterey | x86_64 | 4.4.0 (2024-04-24) -- "Puppy Cup" | 4522 |
| kjohnson3 | macOS 13.6.5 Ventura | arm64 | 4.4.0 (2024-04-24) -- "Puppy Cup" | 4468 |
| Click on any hostname to see more info about the system (e.g. compilers) (*) as reported by 'uname -p', except on Windows and Mac OS X | ||||
| Package 2046/2300 | Hostname | OS / Arch | INSTALL | BUILD | CHECK | BUILD BIN | ||||||||
| SPIAT 1.6.0 (landing page) Yuzhou Feng
| nebbiolo1 | Linux (Ubuntu 22.04.3 LTS) / x86_64 | OK | OK | OK | |||||||||
| palomino3 | Windows Server 2022 Datacenter / x64 | OK | OK | OK | OK | |||||||||
| lconway | macOS 12.7.1 Monterey / x86_64 | OK | OK | OK | OK | |||||||||
| kjohnson3 | macOS 13.6.5 Ventura / arm64 | OK | OK | OK | OK | |||||||||
|
To the developers/maintainers of the SPIAT package: - Allow up to 24 hours (and sometimes 48 hours) for your latest push to git@git.bioconductor.org:packages/SPIAT.git to reflect on this report. See Troubleshooting Build Report for more information. - Use the following Renviron settings to reproduce errors and warnings. - If 'R CMD check' started to fail recently on the Linux builder(s) over a missing dependency, add the missing dependency to 'Suggests:' in your DESCRIPTION file. See Renviron.bioc for more information. |
| Package: SPIAT |
| Version: 1.6.0 |
| Command: /Library/Frameworks/R.framework/Resources/bin/R CMD check --install=check:SPIAT.install-out.txt --library=/Library/Frameworks/R.framework/Resources/library --no-vignettes --timings SPIAT_1.6.0.tar.gz |
| StartedAt: 2024-06-09 23:16:06 -0400 (Sun, 09 Jun 2024) |
| EndedAt: 2024-06-09 23:22:43 -0400 (Sun, 09 Jun 2024) |
| EllapsedTime: 396.3 seconds |
| RetCode: 0 |
| Status: OK |
| CheckDir: SPIAT.Rcheck |
| Warnings: 0 |
##############################################################################
##############################################################################
###
### Running command:
###
### /Library/Frameworks/R.framework/Resources/bin/R CMD check --install=check:SPIAT.install-out.txt --library=/Library/Frameworks/R.framework/Resources/library --no-vignettes --timings SPIAT_1.6.0.tar.gz
###
##############################################################################
##############################################################################
* using log directory ‘/Users/biocbuild/bbs-3.19-bioc/meat/SPIAT.Rcheck’
* using R version 4.4.0 (2024-04-24)
* using platform: x86_64-apple-darwin20
* R was compiled by
Apple clang version 14.0.0 (clang-1400.0.29.202)
GNU Fortran (GCC) 12.2.0
* running under: macOS Monterey 12.7.1
* using session charset: UTF-8
* using option ‘--no-vignettes’
* checking for file ‘SPIAT/DESCRIPTION’ ... OK
* checking extension type ... Package
* this is package ‘SPIAT’ version ‘1.6.0’
* package encoding: UTF-8
* checking package namespace information ... OK
* checking package dependencies ... OK
* checking if this is a source package ... OK
* checking if there is a namespace ... OK
* checking for hidden files and directories ... OK
* checking for portable file names ... OK
* checking for sufficient/correct file permissions ... OK
* checking whether package ‘SPIAT’ can be installed ... OK
* checking installed package size ... OK
* checking package directory ... OK
* checking ‘build’ directory ... OK
* checking DESCRIPTION meta-information ... NOTE
License components with restrictions not permitted:
Artistic-2.0 + file LICENSE
* checking top-level files ... OK
* checking for left-over files ... OK
* checking index information ... OK
* checking package subdirectories ... OK
* checking code files for non-ASCII characters ... OK
* checking R files for syntax errors ... OK
* checking whether the package can be loaded ... OK
* checking whether the package can be loaded with stated dependencies ... OK
* checking whether the package can be unloaded cleanly ... OK
* checking whether the namespace can be loaded with stated dependencies ... OK
* checking whether the namespace can be unloaded cleanly ... OK
* checking dependencies in R code ... OK
* checking S3 generic/method consistency ... OK
* checking replacement functions ... OK
* checking foreign function calls ... OK
* checking R code for possible problems ... OK
* checking Rd files ... OK
* checking Rd metadata ... OK
* checking Rd cross-references ... OK
* checking for missing documentation entries ... OK
* checking for code/documentation mismatches ... OK
* checking Rd \usage sections ... OK
* checking Rd contents ... OK
* checking for unstated dependencies in examples ... OK
* checking contents of ‘data’ directory ... OK
* checking data for non-ASCII characters ... OK
* checking LazyData ... OK
* checking data for ASCII and uncompressed saves ... OK
* checking files in ‘vignettes’ ... OK
* checking examples ... OK
Examples with CPU (user + system) or elapsed time > 5s
user system elapsed
dimensionality_reduction_plot 19.256 0.912 20.275
calculate_percentage_of_grids 10.707 0.152 10.893
calculate_pairwise_distances_between_celltypes 5.631 0.913 6.571
calculate_spatial_autocorrelation 5.947 0.059 6.024
* checking for unstated dependencies in ‘tests’ ... OK
* checking tests ...
Running ‘testthat.R’
OK
* checking for unstated dependencies in vignettes ... OK
* checking package vignettes ... OK
* checking running R code from vignettes ... SKIPPED
* checking re-building of vignette outputs ... SKIPPED
* checking PDF version of manual ... OK
* DONE
Status: 1 NOTE
See
‘/Users/biocbuild/bbs-3.19-bioc/meat/SPIAT.Rcheck/00check.log’
for details.
SPIAT.Rcheck/00install.out
############################################################################## ############################################################################## ### ### Running command: ### ### /Library/Frameworks/R.framework/Resources/bin/R CMD INSTALL SPIAT ### ############################################################################## ############################################################################## * installing to library ‘/Library/Frameworks/R.framework/Versions/4.4-x86_64/Resources/library’ * installing *source* package ‘SPIAT’ ... ** using staged installation ** R ** data *** moving datasets to lazyload DB ** inst ** byte-compile and prepare package for lazy loading ** help *** installing help indices ** building package indices ** installing vignettes ** testing if installed package can be loaded from temporary location ** testing if installed package can be loaded from final location ** testing if installed package keeps a record of temporary installation path * DONE (SPIAT)
SPIAT.Rcheck/tests/testthat.Rout
R version 4.4.0 (2024-04-24) -- "Puppy Cup"
Copyright (C) 2024 The R Foundation for Statistical Computing
Platform: x86_64-apple-darwin20
R is free software and comes with ABSOLUTELY NO WARRANTY.
You are welcome to redistribute it under certain conditions.
Type 'license()' or 'licence()' for distribution details.
R is a collaborative project with many contributors.
Type 'contributors()' for more information and
'citation()' on how to cite R or R packages in publications.
Type 'demo()' for some demos, 'help()' for on-line help, or
'help.start()' for an HTML browser interface to help.
Type 'q()' to quit R.
> library(testthat)
> library(SPIAT)
Loading required package: SpatialExperiment
Loading required package: SingleCellExperiment
Loading required package: SummarizedExperiment
Loading required package: MatrixGenerics
Loading required package: matrixStats
Attaching package: 'MatrixGenerics'
The following objects are masked from 'package:matrixStats':
colAlls, colAnyNAs, colAnys, colAvgsPerRowSet, colCollapse,
colCounts, colCummaxs, colCummins, colCumprods, colCumsums,
colDiffs, colIQRDiffs, colIQRs, colLogSumExps, colMadDiffs,
colMads, colMaxs, colMeans2, colMedians, colMins, colOrderStats,
colProds, colQuantiles, colRanges, colRanks, colSdDiffs, colSds,
colSums2, colTabulates, colVarDiffs, colVars, colWeightedMads,
colWeightedMeans, colWeightedMedians, colWeightedSds,
colWeightedVars, rowAlls, rowAnyNAs, rowAnys, rowAvgsPerColSet,
rowCollapse, rowCounts, rowCummaxs, rowCummins, rowCumprods,
rowCumsums, rowDiffs, rowIQRDiffs, rowIQRs, rowLogSumExps,
rowMadDiffs, rowMads, rowMaxs, rowMeans2, rowMedians, rowMins,
rowOrderStats, rowProds, rowQuantiles, rowRanges, rowRanks,
rowSdDiffs, rowSds, rowSums2, rowTabulates, rowVarDiffs, rowVars,
rowWeightedMads, rowWeightedMeans, rowWeightedMedians,
rowWeightedSds, rowWeightedVars
Loading required package: GenomicRanges
Loading required package: stats4
Loading required package: BiocGenerics
Attaching package: 'BiocGenerics'
The following objects are masked from 'package:stats':
IQR, mad, sd, var, xtabs
The following objects are masked from 'package:base':
Filter, Find, Map, Position, Reduce, anyDuplicated, aperm, append,
as.data.frame, basename, cbind, colnames, dirname, do.call,
duplicated, eval, evalq, get, grep, grepl, intersect, is.unsorted,
lapply, mapply, match, mget, order, paste, pmax, pmax.int, pmin,
pmin.int, rank, rbind, rownames, sapply, setdiff, table, tapply,
union, unique, unsplit, which.max, which.min
Loading required package: S4Vectors
Attaching package: 'S4Vectors'
The following object is masked from 'package:utils':
findMatches
The following objects are masked from 'package:base':
I, expand.grid, unname
Loading required package: IRanges
Loading required package: GenomeInfoDb
Loading required package: Biobase
Welcome to Bioconductor
Vignettes contain introductory material; view with
'browseVignettes()'. To cite Bioconductor, see
'citation("Biobase")', and for packages 'citation("pkgname")'.
Attaching package: 'Biobase'
The following object is masked from 'package:MatrixGenerics':
rowMedians
The following objects are masked from 'package:matrixStats':
anyMissing, rowMedians
>
> test_check("SPIAT")
[1] "Markers had been selected in minimum distance calculation: "
[1] "Immune1" "Tumour"
[1] "Crossing of cross K function is detected for this image, indicating a potential immune ring."
[1] "The crossing happens at the 50% of the specified distance."
[1] "The alpha of Polygon is: 63.24375"
[1] "Markers had been selected in minimum distance calculation: "
[1] "Non-border" "Border"
[1] "Tumour_marker"
[1] "Immune_marker1"
[1] "Immune_marker2"
[1] "Immune_marker3"
[1] "Immune_marker4"
[1] "Tumour_marker"
[1] "Immune_marker1"
[1] "Immune_marker2"
[1] "Immune_marker3"
[1] "Immune_marker4"
[1] "Tumour_marker threshold intensity: 0.445450443784465"
[1] "Immune_marker1 threshold intensity: 0.116980867970434"
[1] "Immune_marker2 threshold intensity: 0.124283809517202"
[1] "Immune_marker3 threshold intensity: 0.0166413130263845"
[1] "Immune_marker4 threshold intensity: 0.00989731350898589"
[ FAIL 0 | WARN 0 | SKIP 0 | PASS 80 ]
>
> proc.time()
user system elapsed
64.700 3.601 68.398
SPIAT.Rcheck/SPIAT-Ex.timings
| name | user | system | elapsed | |
| AUC_of_cross_function | 0.216 | 0.018 | 0.235 | |
| R_BC | 1.446 | 0.068 | 1.523 | |
| average_marker_intensity_within_radius | 0.087 | 0.007 | 0.096 | |
| average_minimum_distance | 0.018 | 0.002 | 0.020 | |
| average_nearest_neighbor_index | 0.362 | 0.005 | 0.369 | |
| average_percentage_of_cells_within_radius | 2.018 | 0.028 | 2.052 | |
| calculate_cell_proportions | 0.016 | 0.001 | 0.017 | |
| calculate_cross_functions | 0.197 | 0.006 | 0.203 | |
| calculate_distance_to_margin | 1.528 | 0.062 | 1.594 | |
| calculate_entropy | 0.011 | 0.000 | 0.012 | |
| calculate_minimum_distances_between_celltypes | 0.022 | 0.001 | 0.023 | |
| calculate_pairwise_distances_between_celltypes | 5.631 | 0.913 | 6.571 | |
| calculate_percentage_of_grids | 10.707 | 0.152 | 10.893 | |
| calculate_proportions_of_cells_in_structure | 1.670 | 0.037 | 1.713 | |
| calculate_spatial_autocorrelation | 5.947 | 0.059 | 6.024 | |
| calculate_summary_distances_between_celltypes | 3.243 | 0.281 | 3.536 | |
| calculate_summary_distances_of_cells_to_borders | 1.628 | 0.085 | 1.719 | |
| composition_of_neighborhoods | 1.897 | 0.264 | 2.173 | |
| compute_gradient | 0.076 | 0.001 | 0.076 | |
| crossing_of_crossK | 0.132 | 0.006 | 0.139 | |
| define_celltypes | 1.015 | 0.050 | 1.067 | |
| define_structure | 1.733 | 0.046 | 1.782 | |
| dimensionality_reduction_plot | 19.256 | 0.912 | 20.275 | |
| entropy_gradient_aggregated | 0.494 | 0.025 | 0.519 | |
| format_cellprofiler_to_spe | 0.234 | 0.003 | 0.238 | |
| format_codex_to_spe | 0.156 | 0.002 | 0.160 | |
| format_colData_to_spe | 0.187 | 0.001 | 0.188 | |
| format_halo_to_spe | 0.665 | 0.111 | 0.724 | |
| format_image_to_spe | 0.189 | 0.001 | 0.191 | |
| format_inform_to_spe | 0.318 | 0.037 | 0.329 | |
| format_spe_to_ppp | 0.019 | 0.000 | 0.020 | |
| grid_metrics | 4.545 | 0.038 | 4.590 | |
| identify_bordering_cells | 0.686 | 0.009 | 0.696 | |
| identify_neighborhoods | 0.872 | 0.152 | 1.027 | |
| image_splitter | 1.603 | 0.015 | 1.620 | |
| marker_intensity_boxplot | 0.328 | 0.004 | 0.333 | |
| marker_prediction_plot | 0.711 | 0.021 | 0.737 | |
| marker_surface_plot | 0.224 | 0.040 | 0.268 | |
| marker_surface_plot_stack | 0.252 | 0.049 | 0.300 | |
| measure_association_to_cell_properties | 0.445 | 0.005 | 0.452 | |
| mixing_score_summary | 0.018 | 0.001 | 0.019 | |
| number_of_cells_within_radius | 0.011 | 0.000 | 0.011 | |
| plot_average_intensity | 0.273 | 0.002 | 0.275 | |
| plot_cell_categories | 0.238 | 0.007 | 0.246 | |
| plot_cell_distances_violin | 1.118 | 0.149 | 1.268 | |
| plot_cell_marker_levels | 0.195 | 0.003 | 0.198 | |
| plot_cell_percentages | 0.481 | 0.004 | 0.488 | |
| plot_composition_heatmap | 3.607 | 0.293 | 3.910 | |
| plot_distance_heatmap | 1.353 | 0.230 | 1.588 | |
| plot_marker_level_heatmap | 0.464 | 0.076 | 0.546 | |
| predict_phenotypes | 1.150 | 0.043 | 1.196 | |
| select_celltypes | 0.042 | 0.001 | 0.043 | |