| Back to Multiple platform build/check report for BioC 3.19: simplified long |
|
This page was generated on 2024-10-18 20:40 -0400 (Fri, 18 Oct 2024).
| Hostname | OS | Arch (*) | R version | Installed pkgs |
|---|---|---|---|---|
| nebbiolo1 | Linux (Ubuntu 22.04.3 LTS) | x86_64 | 4.4.1 (2024-06-14) -- "Race for Your Life" | 4763 |
| palomino7 | Windows Server 2022 Datacenter | x64 | 4.4.1 (2024-06-14 ucrt) -- "Race for Your Life" | 4500 |
| merida1 | macOS 12.7.5 Monterey | x86_64 | 4.4.1 (2024-06-14) -- "Race for Your Life" | 4530 |
| kjohnson1 | macOS 13.6.6 Ventura | arm64 | 4.4.1 (2024-06-14) -- "Race for Your Life" | 4480 |
| Click on any hostname to see more info about the system (e.g. compilers) (*) as reported by 'uname -p', except on Windows and Mac OS X | ||||
| Package 1956/2300 | Hostname | OS / Arch | INSTALL | BUILD | CHECK | BUILD BIN | ||||||||
| SGCP 1.4.4 (landing page) Niloofar AghaieAbiane
| nebbiolo1 | Linux (Ubuntu 22.04.3 LTS) / x86_64 | OK | OK | OK | |||||||||
| palomino7 | Windows Server 2022 Datacenter / x64 | OK | OK | OK | OK | |||||||||
| merida1 | macOS 12.7.5 Monterey / x86_64 | OK | OK | OK | OK | |||||||||
| kjohnson1 | macOS 13.6.6 Ventura / arm64 | OK | OK | OK | NA | |||||||||
|
To the developers/maintainers of the SGCP package: - Allow up to 24 hours (and sometimes 48 hours) for your latest push to git@git.bioconductor.org:packages/SGCP.git to reflect on this report. See Troubleshooting Build Report for more information. - Use the following Renviron settings to reproduce errors and warnings. - If 'R CMD check' started to fail recently on the Linux builder(s) over a missing dependency, add the missing dependency to 'Suggests:' in your DESCRIPTION file. See Renviron.bioc for more information. |
| Package: SGCP |
| Version: 1.4.4 |
| Command: E:\biocbuild\bbs-3.19-bioc\R\bin\R.exe CMD check --no-multiarch --install=check:SGCP.install-out.txt --library=E:\biocbuild\bbs-3.19-bioc\R\library --no-vignettes --timings SGCP_1.4.4.tar.gz |
| StartedAt: 2024-10-17 05:44:10 -0400 (Thu, 17 Oct 2024) |
| EndedAt: 2024-10-17 05:50:12 -0400 (Thu, 17 Oct 2024) |
| EllapsedTime: 361.7 seconds |
| RetCode: 0 |
| Status: OK |
| CheckDir: SGCP.Rcheck |
| Warnings: 0 |
##############################################################################
##############################################################################
###
### Running command:
###
### E:\biocbuild\bbs-3.19-bioc\R\bin\R.exe CMD check --no-multiarch --install=check:SGCP.install-out.txt --library=E:\biocbuild\bbs-3.19-bioc\R\library --no-vignettes --timings SGCP_1.4.4.tar.gz
###
##############################################################################
##############################################################################
* using log directory 'E:/biocbuild/bbs-3.19-bioc/meat/SGCP.Rcheck'
* using R version 4.4.1 (2024-06-14 ucrt)
* using platform: x86_64-w64-mingw32
* R was compiled by
gcc.exe (GCC) 13.2.0
GNU Fortran (GCC) 13.2.0
* running under: Windows Server 2022 x64 (build 20348)
* using session charset: UTF-8
* using option '--no-vignettes'
* checking for file 'SGCP/DESCRIPTION' ... OK
* checking extension type ... Package
* this is package 'SGCP' version '1.4.4'
* package encoding: UTF-8
* checking package namespace information ... OK
* checking package dependencies ... OK
* checking if this is a source package ... OK
* checking if there is a namespace ... OK
* checking for hidden files and directories ... OK
* checking for portable file names ... OK
* checking whether package 'SGCP' can be installed ... OK
* checking installed package size ... OK
* checking package directory ... OK
* checking 'build' directory ... OK
* checking DESCRIPTION meta-information ... OK
* checking top-level files ... OK
* checking for left-over files ... OK
* checking index information ... OK
* checking package subdirectories ... OK
* checking code files for non-ASCII characters ... OK
* checking R files for syntax errors ... OK
* checking whether the package can be loaded ... OK
* checking whether the package can be loaded with stated dependencies ... OK
* checking whether the package can be unloaded cleanly ... OK
* checking whether the namespace can be loaded with stated dependencies ... OK
* checking whether the namespace can be unloaded cleanly ... OK
* checking dependencies in R code ... OK
* checking S3 generic/method consistency ... OK
* checking replacement functions ... OK
* checking foreign function calls ... OK
* checking R code for possible problems ... OK
* checking Rd files ... NOTE
checkRd: (-1) SGCP_clustering.Rd:39: Lost braces in \itemize; \value handles \item{}{} directly
checkRd: (-1) SGCP_clustering.Rd:40: Lost braces in \itemize; \value handles \item{}{} directly
checkRd: (-1) SGCP_clustering.Rd:41: Lost braces in \itemize; \value handles \item{}{} directly
checkRd: (-1) SGCP_clustering.Rd:42: Lost braces in \itemize; \value handles \item{}{} directly
checkRd: (-1) SGCP_clustering.Rd:43: Lost braces in \itemize; \value handles \item{}{} directly
checkRd: (-1) SGCP_clustering.Rd:44: Lost braces in \itemize; \value handles \item{}{} directly
checkRd: (-1) SGCP_clustering.Rd:45: Lost braces in \itemize; \value handles \item{}{} directly
checkRd: (-1) SGCP_clustering.Rd:46: Lost braces in \itemize; \value handles \item{}{} directly
checkRd: (-1) SGCP_clustering.Rd:47: Lost braces in \itemize; \value handles \item{}{} directly
checkRd: (-1) SGCP_clustering.Rd:48: Lost braces in \itemize; \value handles \item{}{} directly
checkRd: (-1) SGCP_clustering.Rd:49: Lost braces in \itemize; \value handles \item{}{} directly
checkRd: (-1) SGCP_clustering.Rd:57: Lost braces in \itemize; \value handles \item{}{} directly
checkRd: (-1) SGCP_clustering.Rd:58: Lost braces in \itemize; \value handles \item{}{} directly
checkRd: (-1) SGCP_clustering.Rd:59: Lost braces in \itemize; \value handles \item{}{} directly
checkRd: (-1) SGCP_ezSGCP.Rd:68: Lost braces in \itemize; \value handles \item{}{} directly
checkRd: (-1) SGCP_ezSGCP.Rd:69: Lost braces in \itemize; \value handles \item{}{} directly
checkRd: (-1) SGCP_ezSGCP.Rd:70: Lost braces in \itemize; \value handles \item{}{} directly
checkRd: (-1) SGCP_ezSGCP.Rd:72: Lost braces in \itemize; \value handles \item{}{} directly
checkRd: (-1) SGCP_ezSGCP.Rd:73: Lost braces in \itemize; \value handles \item{}{} directly
checkRd: (-1) SGCP_ezSGCP.Rd:74: Lost braces in \itemize; \value handles \item{}{} directly
checkRd: (-1) SGCP_ezSGCP.Rd:75: Lost braces in \itemize; \value handles \item{}{} directly
checkRd: (-1) SGCP_ezSGCP.Rd:76: Lost braces in \itemize; \value handles \item{}{} directly
checkRd: (-1) SGCP_ezSGCP.Rd:77: Lost braces in \itemize; \value handles \item{}{} directly
checkRd: (-1) SGCP_ezSGCP.Rd:78: Lost braces in \itemize; \value handles \item{}{} directly
checkRd: (-1) SGCP_ezSGCP.Rd:79: Lost braces in \itemize; \value handles \item{}{} directly
checkRd: (-1) SGCP_ezSGCP.Rd:80: Lost braces in \itemize; \value handles \item{}{} directly
checkRd: (-1) SGCP_ezSGCP.Rd:81: Lost braces in \itemize; \value handles \item{}{} directly
checkRd: (-1) SGCP_ezSGCP.Rd:82: Lost braces in \itemize; \value handles \item{}{} directly
checkRd: (-1) SGCP_ezSGCP.Rd:83: Lost braces in \itemize; \value handles \item{}{} directly
checkRd: (-1) SGCP_ezSGCP.Rd:84: Lost braces in \itemize; \value handles \item{}{} directly
checkRd: (-1) SGCP_ezSGCP.Rd:85: Lost braces in \itemize; \value handles \item{}{} directly
checkRd: (-1) SGCP_ezSGCP.Rd:87: Lost braces in \itemize; \value handles \item{}{} directly
checkRd: (-1) SGCP_ezSGCP.Rd:89: Lost braces in \itemize; \value handles \item{}{} directly
checkRd: (-1) SGCP_ezSGCP.Rd:90: Lost braces in \itemize; \value handles \item{}{} directly
checkRd: (-1) SGCP_ezSGCP.Rd:92: Lost braces in \itemize; \value handles \item{}{} directly
checkRd: (-1) SGCP_ezSGCP.Rd:94: Lost braces in \itemize; \value handles \item{}{} directly
checkRd: (-1) SGCP_ezSGCP.Rd:95: Lost braces in \itemize; \value handles \item{}{} directly
checkRd: (-1) SGCP_ezSGCP.Rd:97: Lost braces in \itemize; \value handles \item{}{} directly
checkRd: (-1) SGCP_ezSGCP.Rd:99: Lost braces in \itemize; \value handles \item{}{} directly
checkRd: (-1) SGCP_ezSGCP.Rd:100: Lost braces in \itemize; \value handles \item{}{} directly
checkRd: (-1) SGCP_ezSGCP.Rd:101: Lost braces in \itemize; \value handles \item{}{} directly
checkRd: (-1) SGCP_ezSGCP.Rd:103: Lost braces in \itemize; \value handles \item{}{} directly
checkRd: (-1) SGCP_ezSGCP.Rd:105: Lost braces in \itemize; \value handles \item{}{} directly
checkRd: (-1) SGCP_ezSGCP.Rd:106: Lost braces in \itemize; \value handles \item{}{} directly
checkRd: (-1) SGCP_semiSupervised.Rd:24: Lost braces
24 | \\item{semiSupervised}{An object of the caret train class representing the semi-supervised classification model.}
| ^
checkRd: (-1) SGCP_semiSupervised.Rd:24: Lost braces
24 | \\item{semiSupervised}{An object of the caret train class representing the semi-supervised classification model.}
| ^
checkRd: (-1) resFinalGO.Rd:11: Lost braces
11 | \details{code{resFinalGO} is a list containing the following information:
| ^
* checking Rd metadata ... OK
* checking Rd cross-references ... OK
* checking for missing documentation entries ... OK
* checking for code/documentation mismatches ... OK
* checking Rd \usage sections ... OK
* checking Rd contents ... OK
* checking for unstated dependencies in examples ... OK
* checking contents of 'data' directory ... OK
* checking data for non-ASCII characters ... OK
* checking LazyData ... OK
* checking data for ASCII and uncompressed saves ... OK
* checking files in 'vignettes' ... OK
* checking examples ... OK
* checking for unstated dependencies in vignettes ... OK
* checking package vignettes ... OK
* checking running R code from vignettes ... SKIPPED
* checking re-building of vignette outputs ... SKIPPED
* checking PDF version of manual ... OK
* DONE
Status: 1 NOTE
See
'E:/biocbuild/bbs-3.19-bioc/meat/SGCP.Rcheck/00check.log'
for details.
SGCP.Rcheck/00install.out
############################################################################## ############################################################################## ### ### Running command: ### ### E:\biocbuild\bbs-3.19-bioc\R\bin\R.exe CMD INSTALL SGCP ### ############################################################################## ############################################################################## * installing to library 'E:/biocbuild/bbs-3.19-bioc/R/library' * installing *source* package 'SGCP' ... ** using staged installation ** R ** data *** moving datasets to lazyload DB ** inst ** byte-compile and prepare package for lazy loading ** help *** installing help indices ** building package indices ** installing vignettes ** testing if installed package can be loaded from temporary location ** testing if installed package can be loaded from final location ** testing if installed package keeps a record of temporary installation path * DONE (SGCP)
SGCP.Rcheck/SGCP-Ex.timings
| name | user | system | elapsed | |
| SGCP_adjacencyMatrix | 0.11 | 0.03 | 0.14 | |
| SGCP_clustering | 0.32 | 0.05 | 0.36 | |
| SGCP_ezPLOT | 0.24 | 0.04 | 0.28 | |
| SGCP_ezSGCP | 0.25 | 0.03 | 0.28 | |
| SGCP_go | 0.20 | 0.02 | 0.22 | |
| SGCP_plot_bar | 0.30 | 0.00 | 0.29 | |
| SGCP_plot_conductance | 0.57 | 0.05 | 0.63 | |
| SGCP_plot_density | 1.21 | 0.03 | 1.23 | |
| SGCP_plot_heatMap | 0.37 | 0.00 | 0.41 | |
| SGCP_plot_jitter | 0.17 | 0.03 | 0.20 | |
| SGCP_plot_pca | 0.16 | 0.03 | 0.19 | |
| SGCP_plot_pie | 0.47 | 0.06 | 0.53 | |
| SGCP_plot_silhouette | 0.62 | 0.02 | 0.64 | |
| SGCP_semiLabeling | 0.07 | 0.01 | 0.08 | |
| SGCP_semiSupervised | 2.61 | 0.05 | 2.66 | |
| cheng | 0.18 | 0.05 | 0.23 | |
| resClus | 0.52 | 0.09 | 0.61 | |
| resFinalGO | 0.01 | 0.00 | 0.02 | |
| resInitialGO | 0.00 | 0.02 | 0.01 | |
| resSemiLabel | 0 | 0 | 0 | |
| resSemiSupervised | 0.00 | 0.01 | 0.02 | |
| sgcp | 0.03 | 0.02 | 0.05 | |