| Back to Multiple platform build/check report for BioC 3.19: simplified long | 
  | 
This page was generated on 2024-06-11 14:42 -0400 (Tue, 11 Jun 2024).
| Hostname | OS | Arch (*) | R version | Installed pkgs | 
|---|---|---|---|---|
| nebbiolo1 | Linux (Ubuntu 22.04.3 LTS) | x86_64 | 4.4.0 (2024-04-24) -- "Puppy Cup" | 4757 | 
| palomino3 | Windows Server 2022 Datacenter | x64 | 4.4.0 (2024-04-24 ucrt) -- "Puppy Cup" | 4491 | 
| lconway | macOS 12.7.1 Monterey | x86_64 | 4.4.0 (2024-04-24) -- "Puppy Cup" | 4522 | 
| kjohnson3 | macOS 13.6.5 Ventura | arm64 | 4.4.0 (2024-04-24) -- "Puppy Cup" | 4468 | 
| Click on any hostname to see more info about the system (e.g. compilers) (*) as reported by 'uname -p', except on Windows and Mac OS X | ||||
| Package 1869/2300 | Hostname | OS / Arch | INSTALL | BUILD | CHECK | BUILD BIN | ||||||||
| SCAN.UPC 2.46.0  (landing page) Stephen R. Piccolo 
  | nebbiolo1 | Linux (Ubuntu 22.04.3 LTS) / x86_64 | OK | OK | OK | |||||||||
| palomino3 | Windows Server 2022 Datacenter / x64 | OK | OK | OK | OK | |||||||||
| lconway | macOS 12.7.1 Monterey / x86_64 | OK | OK | OK | OK | |||||||||
| kjohnson3 | macOS 13.6.5 Ventura / arm64 | OK | OK | OK | OK | |||||||||
| 
To the developers/maintainers of the SCAN.UPC package: - Allow up to 24 hours (and sometimes 48 hours) for your latest push to git@git.bioconductor.org:packages/SCAN.UPC.git to reflect on this report. See Troubleshooting Build Report for more information. - Use the following Renviron settings to reproduce errors and warnings. - If 'R CMD check' started to fail recently on the Linux builder(s) over a missing dependency, add the missing dependency to 'Suggests:' in your DESCRIPTION file. See Renviron.bioc for more information.  | 
| Package: SCAN.UPC | 
| Version: 2.46.0 | 
| Command: rm -rf SCAN.UPC.buildbin-libdir && mkdir SCAN.UPC.buildbin-libdir && /Users/biocbuild/BBS/utils/build-universal.sh SCAN.UPC_2.46.0.tar.gz /Library/Frameworks/R.framework/Resources/bin/R SCAN.UPC.buildbin-libdir | 
| StartedAt: 2024-06-10 00:37:41 -0400 (Mon, 10 Jun 2024) | 
| EndedAt: 2024-06-10 00:38:28 -0400 (Mon, 10 Jun 2024) | 
| EllapsedTime: 47.3 seconds | 
| RetCode: 0 | 
| Status: OK | 
| PackageFile: SCAN.UPC_2.46.0.tgz | 
| PackageFileSize: 552.5 KiB | 
##############################################################################
##############################################################################
###
### Running command:
###
###   rm -rf SCAN.UPC.buildbin-libdir && mkdir SCAN.UPC.buildbin-libdir && /Users/biocbuild/BBS/utils/build-universal.sh SCAN.UPC_2.46.0.tar.gz /Library/Frameworks/R.framework/Resources/bin/R SCAN.UPC.buildbin-libdir
###
##############################################################################
##############################################################################
>>>>>>> 
>>>>>>> INSTALLATION WITH 'R CMD INSTALL --preclean --no-multiarch --library=SCAN.UPC.buildbin-libdir SCAN.UPC_2.46.0.tar.gz'
>>>>>>> 
* installing *source* package ‘SCAN.UPC’ ...
** using staged installation
** R
** inst
** byte-compile and prepare package for lazy loading
Parallel computing support for 'oligo/crlmm': Disabled
     - Load 'ff'
     - Load and register a 'foreach' adaptor
        Example - Using 'multicore' for 2 cores:
             library(doMC)
             registerDoMC(2)
================================================================================
** help
*** installing help indices
** building package indices
** installing vignettes
** testing if installed package can be loaded from temporary location
Parallel computing support for 'oligo/crlmm': Disabled
     - Load 'ff'
     - Load and register a 'foreach' adaptor
        Example - Using 'multicore' for 2 cores:
             library(doMC)
             registerDoMC(2)
================================================================================
** testing if installed package can be loaded from final location
Parallel computing support for 'oligo/crlmm': Disabled
     - Load 'ff'
     - Load and register a 'foreach' adaptor
        Example - Using 'multicore' for 2 cores:
             library(doMC)
             registerDoMC(2)
================================================================================
** testing if installed package keeps a record of temporary installation path
* DONE (SCAN.UPC)