| Back to Multiple platform build/check report for BioC 3.19: simplified long |
|
This page was generated on 2024-05-09 11:41:19 -0400 (Thu, 09 May 2024).
| Hostname | OS | Arch (*) | R version | Installed pkgs |
|---|---|---|---|---|
| nebbiolo1 | Linux (Ubuntu 22.04.3 LTS) | x86_64 | 4.4.0 (2024-04-24) -- "Puppy Cup" | 4748 |
| palomino3 | Windows Server 2022 Datacenter | x64 | 4.4.0 (2024-04-24 ucrt) -- "Puppy Cup" | 4484 |
| lconway | macOS 12.7.1 Monterey | x86_64 | 4.4.0 (2024-04-24) -- "Puppy Cup" | 4514 |
| kunpeng2 | Linux (openEuler 22.03 LTS-SP1) | aarch64 | 4.4.0 beta (2024-04-15 r86425) -- "Puppy Cup" | 4480 |
| Click on any hostname to see more info about the system (e.g. compilers) (*) as reported by 'uname -p', except on Windows and Mac OS X | ||||
| Package 1701/2300 | Hostname | OS / Arch | INSTALL | BUILD | CHECK | BUILD BIN | ||||||||
| Rcpi 1.40.0 (landing page) Nan Xiao
| nebbiolo1 | Linux (Ubuntu 22.04.3 LTS) / x86_64 | OK | OK | OK | |||||||||
| palomino3 | Windows Server 2022 Datacenter / x64 | OK | OK | OK | OK | |||||||||
| lconway | macOS 12.7.1 Monterey / x86_64 | OK | OK | OK | OK | |||||||||
| kunpeng2 | Linux (openEuler 22.03 LTS-SP1) / aarch64 | OK | OK | OK | ||||||||||
| kjohnson3 | macOS 13.6.5 Ventura / arm64 | see weekly results here | ||||||||||||
|
To the developers/maintainers of the Rcpi package: - Allow up to 24 hours (and sometimes 48 hours) for your latest push to git@git.bioconductor.org:packages/Rcpi.git to reflect on this report. See Troubleshooting Build Report for more information. - Use the following Renviron settings to reproduce errors and warnings. - If 'R CMD check' started to fail recently on the Linux builder(s) over a missing dependency, add the missing dependency to 'Suggests:' in your DESCRIPTION file. See Renviron.bioc for more information. - See Martin Grigorov's blog post for how to debug Linux ARM64 related issues on a x86_64 host. |
| Package: Rcpi |
| Version: 1.40.0 |
| Command: /home/biocbuild/R/R-beta-2024-04-15_r86425/bin/R CMD check --install=check:Rcpi.install-out.txt --library=/home/biocbuild/R/R-beta-2024-04-15_r86425/site-library --no-vignettes --timings Rcpi_1.40.0.tar.gz |
| StartedAt: 2024-05-09 11:00:39 -0000 (Thu, 09 May 2024) |
| EndedAt: 2024-05-09 11:03:12 -0000 (Thu, 09 May 2024) |
| EllapsedTime: 153.3 seconds |
| RetCode: 0 |
| Status: OK |
| CheckDir: Rcpi.Rcheck |
| Warnings: 0 |
##############################################################################
##############################################################################
###
### Running command:
###
### /home/biocbuild/R/R-beta-2024-04-15_r86425/bin/R CMD check --install=check:Rcpi.install-out.txt --library=/home/biocbuild/R/R-beta-2024-04-15_r86425/site-library --no-vignettes --timings Rcpi_1.40.0.tar.gz
###
##############################################################################
##############################################################################
* using log directory ‘/home/biocbuild/bbs-3.19-bioc/meat/Rcpi.Rcheck’
* using R version 4.4.0 beta (2024-04-15 r86425)
* using platform: aarch64-unknown-linux-gnu
* R was compiled by
gcc (GCC) 10.3.1
GNU Fortran (GCC) 10.3.1
* running under: openEuler 22.03 (LTS-SP1)
* using session charset: UTF-8
* using option ‘--no-vignettes’
* checking for file ‘Rcpi/DESCRIPTION’ ... OK
* checking extension type ... Package
* this is package ‘Rcpi’ version ‘1.40.0’
* package encoding: UTF-8
* checking package namespace information ... OK
* checking package dependencies ... OK
* checking if this is a source package ... OK
* checking if there is a namespace ... OK
* checking for hidden files and directories ... NOTE
Found the following hidden files and directories:
.travis.yml
These were most likely included in error. See section ‘Package
structure’ in the ‘Writing R Extensions’ manual.
* checking for portable file names ... OK
* checking for sufficient/correct file permissions ... OK
* checking whether package ‘Rcpi’ can be installed ... OK
* checking installed package size ... OK
* checking package directory ... OK
* checking ‘build’ directory ... OK
* checking DESCRIPTION meta-information ... OK
* checking top-level files ... OK
* checking for left-over files ... OK
* checking index information ... OK
* checking package subdirectories ... OK
* checking code files for non-ASCII characters ... OK
* checking R files for syntax errors ... OK
* checking whether the package can be loaded ... OK
* checking whether the package can be loaded with stated dependencies ... OK
* checking whether the package can be unloaded cleanly ... OK
* checking whether the namespace can be loaded with stated dependencies ... OK
* checking whether the namespace can be unloaded cleanly ... OK
* checking loading without being on the library search path ... OK
* checking dependencies in R code ... OK
* checking S3 generic/method consistency ... OK
* checking replacement functions ... OK
* checking foreign function calls ... OK
* checking R code for possible problems ... OK
* checking Rd files ... NOTE
checkRd: (-1) AAMetaInfo.Rd:18: Lost braces in \itemize; meant \describe ?
checkRd: (-1) AAMetaInfo.Rd:19: Lost braces in \itemize; meant \describe ?
checkRd: (-1) AAMetaInfo.Rd:20: Lost braces in \itemize; meant \describe ?
checkRd: (-1) AAMetaInfo.Rd:21: Lost braces in \itemize; meant \describe ?
checkRd: (-1) AAMetaInfo.Rd:22: Lost braces in \itemize; meant \describe ?
checkRd: (-1) AAMetaInfo.Rd:23: Lost braces in \itemize; meant \describe ?
checkRd: (-1) acc.Rd:42: Lost braces
42 | Wold, S., Jonsson, J., Sj\"{o}rstr\"{o}m, M., Sandberg,
| ^
checkRd: (-1) acc.Rd:42: Lost braces
42 | Wold, S., Jonsson, J., Sj\"{o}rstr\"{o}m, M., Sandberg,
| ^
checkRd: (-1) acc.Rd:43: Lost braces
43 | M., & R\"{a}nnar, S. (1993).
| ^
checkRd: (-1) acc.Rd:49: Lost braces
49 | Sj\"{o}str\"{o}m, M., R\"{a}nnar, S., & Wieslander, A. (1995).
| ^
checkRd: (-1) acc.Rd:49: Lost braces
49 | Sj\"{o}str\"{o}m, M., R\"{a}nnar, S., & Wieslander, A. (1995).
| ^
checkRd: (-1) acc.Rd:49: Lost braces
49 | Sj\"{o}str\"{o}m, M., R\"{a}nnar, S., & Wieslander, A. (1995).
| ^
checkRd: (-1) extractProtPSSMAcc.Rd:39: Lost braces
39 | Wold, S., Jonsson, J., Sj\"{o}rstr\"{o}m, M., Sandberg,
| ^
checkRd: (-1) extractProtPSSMAcc.Rd:39: Lost braces
39 | Wold, S., Jonsson, J., Sj\"{o}rstr\"{o}m, M., Sandberg,
| ^
checkRd: (-1) extractProtPSSMAcc.Rd:40: Lost braces
40 | M., & R\"{a}nnar, S. (1993).
| ^
checkRd: (-1) readFASTA.Rd:40: Lost braces; missing escapes or markup?
40 | e.g. {1, 3, 7} and {4, 6}, might belong to the
| ^
checkRd: (-1) readFASTA.Rd:40: Lost braces; missing escapes or markup?
40 | e.g. {1, 3, 7} and {4, 6}, might belong to the
| ^
* checking Rd metadata ... OK
* checking Rd cross-references ... OK
* checking for missing documentation entries ... OK
* checking for code/documentation mismatches ... OK
* checking Rd \usage sections ... OK
* checking Rd contents ... OK
* checking for unstated dependencies in examples ... OK
* checking contents of ‘data’ directory ... OK
* checking data for non-ASCII characters ... OK
* checking LazyData ... OK
* checking data for ASCII and uncompressed saves ... OK
* checking files in ‘vignettes’ ... OK
* checking examples ... OK
* checking for unstated dependencies in ‘tests’ ... OK
* checking tests ...
Running ‘testthat.R’
OK
* checking for unstated dependencies in vignettes ... OK
* checking package vignettes ... OK
* checking running R code from vignettes ... SKIPPED
* checking re-building of vignette outputs ... SKIPPED
* checking PDF version of manual ... OK
* DONE
Status: 2 NOTEs
See
‘/home/biocbuild/bbs-3.19-bioc/meat/Rcpi.Rcheck/00check.log’
for details.
Rcpi.Rcheck/00install.out
############################################################################## ############################################################################## ### ### Running command: ### ### /home/biocbuild/R/R-beta-2024-04-15_r86425/bin/R CMD INSTALL Rcpi ### ############################################################################## ############################################################################## * installing to library ‘/home/biocbuild/R/R-beta-2024-04-15_r86425/site-library’ * installing *source* package ‘Rcpi’ ... ** using staged installation ** R ** data *** moving datasets to lazyload DB ** inst ** byte-compile and prepare package for lazy loading ** help *** installing help indices *** copying figures ** building package indices ** installing vignettes ** testing if installed package can be loaded from temporary location ** testing if installed package can be loaded from final location ** testing if installed package keeps a record of temporary installation path * DONE (Rcpi)
Rcpi.Rcheck/tests/testthat.Rout
R version 4.4.0 beta (2024-04-15 r86425) -- "Puppy Cup"
Copyright (C) 2024 The R Foundation for Statistical Computing
Platform: aarch64-unknown-linux-gnu
R is free software and comes with ABSOLUTELY NO WARRANTY.
You are welcome to redistribute it under certain conditions.
Type 'license()' or 'licence()' for distribution details.
R is a collaborative project with many contributors.
Type 'contributors()' for more information and
'citation()' on how to cite R or R packages in publications.
Type 'demo()' for some demos, 'help()' for on-line help, or
'help.start()' for an HTML browser interface to help.
Type 'q()' to quit R.
> library(testthat)
> library(Rcpi)
>
> test_check("Rcpi")
[ FAIL 0 | WARN 0 | SKIP 5 | PASS 17 ]
══ Skipped tests (5) ═══════════════════════════════════════════════════════════
• rcdk cannot be loaded (5): 'test_extractDrugALOGP.R:2:5',
'test_extractDrugECI.R:2:5', 'test_extractDrugRuleOfFive.R:2:5',
'test_extractDrugTPSA.R:2:5', 'test_extractDrugXLogP.R:2:5'
[ FAIL 0 | WARN 0 | SKIP 5 | PASS 17 ]
>
> proc.time()
user system elapsed
6.160 0.290 6.448
Rcpi.Rcheck/Rcpi-Ex.timings
| name | user | system | elapsed | |
| AA2DACOR | 0.002 | 0.000 | 0.002 | |
| AA3DMoRSE | 0.001 | 0.000 | 0.001 | |
| AAACF | 0.001 | 0.000 | 0.001 | |
| AABLOSUM100 | 0.001 | 0.000 | 0.001 | |
| AABLOSUM45 | 0.001 | 0.000 | 0.001 | |
| AABLOSUM50 | 0.000 | 0.000 | 0.001 | |
| AABLOSUM62 | 0.000 | 0.001 | 0.001 | |
| AABLOSUM80 | 0.000 | 0.001 | 0.001 | |
| AABurden | 0.001 | 0.000 | 0.001 | |
| AACPSA | 0.001 | 0.000 | 0.001 | |
| AAConn | 0.001 | 0.000 | 0.001 | |
| AAConst | 0.001 | 0.000 | 0.001 | |
| AADescAll | 0.001 | 0.000 | 0.001 | |
| AAEdgeAdj | 0.000 | 0.001 | 0.001 | |
| AAEigIdx | 0.000 | 0.001 | 0.001 | |
| AAFGC | 0.000 | 0.001 | 0.001 | |
| AAGETAWAY | 0.001 | 0.000 | 0.001 | |
| AAGeom | 0.001 | 0.000 | 0.001 | |
| AAInfo | 0.001 | 0.000 | 0.000 | |
| AAMOE2D | 0.001 | 0.000 | 0.001 | |
| AAMOE3D | 0.001 | 0.000 | 0.000 | |
| AAMetaInfo | 0.001 | 0.000 | 0.001 | |
| AAMolProp | 0.001 | 0.000 | 0.001 | |
| AAPAM120 | 0.001 | 0.000 | 0.001 | |
| AAPAM250 | 0.001 | 0.000 | 0.001 | |
| AAPAM30 | 0.001 | 0.000 | 0.001 | |
| AAPAM40 | 0.001 | 0.000 | 0.001 | |
| AAPAM70 | 0.000 | 0.000 | 0.001 | |
| AARDF | 0.001 | 0.000 | 0.001 | |
| AARandic | 0.001 | 0.000 | 0.000 | |
| AATopo | 0.001 | 0.000 | 0.001 | |
| AATopoChg | 0.001 | 0.000 | 0.001 | |
| AAWHIM | 0.001 | 0.000 | 0.001 | |
| AAWalk | 0.001 | 0.000 | 0.001 | |
| AAindex | 0.001 | 0.000 | 0.001 | |
| OptAA3d | 0 | 0 | 0 | |
| acc | 0.011 | 0.000 | 0.011 | |
| calcDrugFPSim | 0 | 0 | 0 | |
| calcDrugMCSSim | 0.005 | 0.000 | 0.016 | |
| calcParProtGOSim | 0 | 0 | 0 | |
| calcParProtSeqSim | 0.006 | 0.000 | 0.009 | |
| calcTwoProtGOSim | 0 | 0 | 0 | |
| calcTwoProtSeqSim | 0.002 | 0.000 | 0.002 | |
| checkProt | 0.002 | 0.000 | 0.002 | |
| convMolFormat | 0.001 | 0.000 | 0.001 | |
| extractDrugAIO | 0.001 | 0.000 | 0.000 | |
| extractDrugALOGP | 0.001 | 0.000 | 0.001 | |
| extractDrugAminoAcidCount | 0.001 | 0.000 | 0.001 | |
| extractDrugApol | 0.001 | 0.000 | 0.000 | |
| extractDrugAromaticAtomsCount | 0.001 | 0.000 | 0.001 | |
| extractDrugAromaticBondsCount | 0.001 | 0.000 | 0.001 | |
| extractDrugAtomCount | 0.001 | 0.000 | 0.001 | |
| extractDrugAutocorrelationCharge | 0.001 | 0.000 | 0.001 | |
| extractDrugAutocorrelationMass | 0.001 | 0.000 | 0.000 | |
| extractDrugAutocorrelationPolarizability | 0.001 | 0.000 | 0.001 | |
| extractDrugBCUT | 0.001 | 0.000 | 0.001 | |
| extractDrugBPol | 0.001 | 0.000 | 0.001 | |
| extractDrugBondCount | 0.000 | 0.001 | 0.001 | |
| extractDrugCPSA | 0 | 0 | 0 | |
| extractDrugCarbonTypes | 0.000 | 0.001 | 0.001 | |
| extractDrugChiChain | 0.001 | 0.000 | 0.001 | |
| extractDrugChiCluster | 0.001 | 0.000 | 0.000 | |
| extractDrugChiPath | 0.001 | 0.000 | 0.001 | |
| extractDrugChiPathCluster | 0.000 | 0.000 | 0.001 | |
| extractDrugDescOB | 0.012 | 0.004 | 0.017 | |
| extractDrugECI | 0.001 | 0.000 | 0.001 | |
| extractDrugEstate | 0.001 | 0.000 | 0.001 | |
| extractDrugEstateComplete | 0.001 | 0.000 | 0.001 | |
| extractDrugExtended | 0.001 | 0.000 | 0.001 | |
| extractDrugExtendedComplete | 0.001 | 0.000 | 0.001 | |
| extractDrugFMF | 0.001 | 0.000 | 0.001 | |
| extractDrugFragmentComplexity | 0.001 | 0.000 | 0.000 | |
| extractDrugGraph | 0.001 | 0.000 | 0.001 | |
| extractDrugGraphComplete | 0.001 | 0.000 | 0.001 | |
| extractDrugGravitationalIndex | 0.001 | 0.000 | 0.001 | |
| extractDrugHBondAcceptorCount | 0.001 | 0.000 | 0.001 | |
| extractDrugHBondDonorCount | 0.001 | 0.000 | 0.000 | |
| extractDrugHybridization | 0.000 | 0.000 | 0.001 | |
| extractDrugHybridizationComplete | 0.001 | 0.000 | 0.001 | |
| extractDrugHybridizationRatio | 0.001 | 0.000 | 0.001 | |
| extractDrugIPMolecularLearning | 0.001 | 0.000 | 0.001 | |
| extractDrugKR | 0.001 | 0.000 | 0.000 | |
| extractDrugKRComplete | 0.001 | 0.000 | 0.001 | |
| extractDrugKappaShapeIndices | 0.001 | 0.000 | 0.001 | |
| extractDrugKierHallSmarts | 0.001 | 0.000 | 0.001 | |
| extractDrugLargestChain | 0.001 | 0.000 | 0.001 | |
| extractDrugLargestPiSystem | 0.001 | 0.000 | 0.001 | |
| extractDrugLengthOverBreadth | 0.001 | 0.000 | 0.001 | |
| extractDrugLongestAliphaticChain | 0.001 | 0.000 | 0.001 | |
| extractDrugMACCS | 0.000 | 0.000 | 0.001 | |
| extractDrugMACCSComplete | 0.001 | 0.000 | 0.001 | |
| extractDrugMDE | 0.001 | 0.000 | 0.001 | |
| extractDrugMannholdLogP | 0.001 | 0.000 | 0.001 | |
| extractDrugMomentOfInertia | 0.001 | 0.000 | 0.001 | |
| extractDrugOBFP2 | 0.139 | 0.020 | 0.159 | |
| extractDrugOBFP3 | 0.391 | 0.019 | 0.411 | |
| extractDrugOBFP4 | 0.007 | 0.000 | 0.007 | |
| extractDrugOBMACCS | 0.006 | 0.000 | 0.006 | |
| extractDrugPetitjeanNumber | 0 | 0 | 0 | |
| extractDrugPetitjeanShapeIndex | 0.001 | 0.000 | 0.001 | |
| extractDrugPubChem | 0 | 0 | 0 | |
| extractDrugPubChemComplete | 0.001 | 0.000 | 0.001 | |
| extractDrugRotatableBondsCount | 0.000 | 0.001 | 0.001 | |
| extractDrugRuleOfFive | 0.000 | 0.001 | 0.001 | |
| extractDrugShortestPath | 0.000 | 0.001 | 0.001 | |
| extractDrugShortestPathComplete | 0 | 0 | 0 | |
| extractDrugStandard | 0.001 | 0.000 | 0.001 | |
| extractDrugStandardComplete | 0.001 | 0.000 | 0.001 | |
| extractDrugTPSA | 0.001 | 0.000 | 0.001 | |
| extractDrugVABC | 0.001 | 0.000 | 0.001 | |
| extractDrugVAdjMa | 0.001 | 0.000 | 0.001 | |
| extractDrugWHIM | 0.000 | 0.001 | 0.001 | |
| extractDrugWeight | 0.000 | 0.001 | 0.001 | |
| extractDrugWeightedPath | 0.000 | 0.001 | 0.000 | |
| extractDrugWienerNumbers | 0.001 | 0.000 | 0.001 | |
| extractDrugXLogP | 0.001 | 0.000 | 0.001 | |
| extractDrugZagrebIndex | 0 | 0 | 0 | |
| extractPCMBLOSUM | 0.023 | 0.000 | 0.023 | |
| extractPCMDescScales | 0.014 | 0.000 | 0.014 | |
| extractPCMFAScales | 0.018 | 0.004 | 0.022 | |
| extractPCMMDSScales | 0.014 | 0.000 | 0.014 | |
| extractPCMPropScales | 0.012 | 0.004 | 0.016 | |
| extractPCMScales | 0.023 | 0.000 | 0.024 | |
| extractProtAAC | 0.002 | 0.000 | 0.002 | |
| extractProtAPAAC | 1.045 | 0.044 | 1.092 | |
| extractProtCTDC | 0.003 | 0.000 | 0.002 | |
| extractProtCTDD | 0.005 | 0.000 | 0.004 | |
| extractProtCTDT | 0.006 | 0.000 | 0.005 | |
| extractProtCTriad | 0.105 | 0.024 | 0.129 | |
| extractProtDC | 0.004 | 0.000 | 0.003 | |
| extractProtGeary | 0.171 | 0.000 | 0.172 | |
| extractProtMoran | 0.194 | 0.004 | 0.198 | |
| extractProtMoreauBroto | 0.167 | 0.000 | 0.167 | |
| extractProtPAAC | 0.595 | 0.024 | 0.620 | |
| extractProtPSSM | 0.001 | 0.000 | 0.001 | |
| extractProtPSSMAcc | 0.001 | 0.000 | 0.001 | |
| extractProtPSSMFeature | 0.001 | 0.000 | 0.001 | |
| extractProtQSO | 0.977 | 0.020 | 0.999 | |
| extractProtSOCN | 0.982 | 0.000 | 0.984 | |
| extractProtTC | 0.020 | 0.016 | 0.035 | |
| getCPI | 0.002 | 0.000 | 0.002 | |
| getDrug | 0 | 0 | 0 | |
| getFASTAFromKEGG | 0 | 0 | 0 | |
| getFASTAFromUniProt | 0 | 0 | 0 | |
| getMolFromCAS | 0.000 | 0.000 | 0.001 | |
| getMolFromChEMBL | 0 | 0 | 0 | |
| getMolFromDrugBank | 0 | 0 | 0 | |
| getMolFromKEGG | 0 | 0 | 0 | |
| getMolFromPubChem | 0.001 | 0.000 | 0.000 | |
| getPDBFromRCSBPDB | 0 | 0 | 0 | |
| getPPI | 0.002 | 0.000 | 0.002 | |
| getProt | 0 | 0 | 0 | |
| getSeqFromKEGG | 0 | 0 | 0 | |
| getSeqFromRCSBPDB | 0 | 0 | 0 | |
| getSeqFromUniProt | 0 | 0 | 0 | |
| getSmiFromChEMBL | 0.000 | 0.000 | 0.001 | |
| getSmiFromDrugBank | 0 | 0 | 0 | |
| getSmiFromKEGG | 0 | 0 | 0 | |
| getSmiFromPubChem | 0 | 0 | 0 | |
| readFASTA | 0.002 | 0.000 | 0.001 | |
| readMolFromSDF | 0.003 | 0.000 | 0.002 | |
| readMolFromSmi | 0.001 | 0.000 | 0.001 | |
| readPDB | 0.846 | 0.004 | 0.853 | |
| searchDrug | 0.002 | 0.000 | 0.002 | |
| segProt | 0.002 | 0.000 | 0.002 | |