| Back to Multiple platform build/check report for BioC 3.19: simplified long |
|
This page was generated on 2024-10-18 20:42 -0400 (Fri, 18 Oct 2024).
| Hostname | OS | Arch (*) | R version | Installed pkgs |
|---|---|---|---|---|
| nebbiolo1 | Linux (Ubuntu 22.04.3 LTS) | x86_64 | 4.4.1 (2024-06-14) -- "Race for Your Life" | 4763 |
| palomino7 | Windows Server 2022 Datacenter | x64 | 4.4.1 (2024-06-14 ucrt) -- "Race for Your Life" | 4500 |
| merida1 | macOS 12.7.5 Monterey | x86_64 | 4.4.1 (2024-06-14) -- "Race for Your Life" | 4530 |
| kjohnson1 | macOS 13.6.6 Ventura | arm64 | 4.4.1 (2024-06-14) -- "Race for Your Life" | 4480 |
| Click on any hostname to see more info about the system (e.g. compilers) (*) as reported by 'uname -p', except on Windows and Mac OS X | ||||
| Package 1701/2300 | Hostname | OS / Arch | INSTALL | BUILD | CHECK | BUILD BIN | ||||||||
| Rcpi 1.40.3 (landing page) Nan Xiao
| nebbiolo1 | Linux (Ubuntu 22.04.3 LTS) / x86_64 | OK | OK | OK | |||||||||
| palomino7 | Windows Server 2022 Datacenter / x64 | OK | OK | OK | OK | |||||||||
| merida1 | macOS 12.7.5 Monterey / x86_64 | OK | OK | OK | OK | |||||||||
| kjohnson1 | macOS 13.6.6 Ventura / arm64 | OK | OK | OK | OK | |||||||||
|
To the developers/maintainers of the Rcpi package: - Allow up to 24 hours (and sometimes 48 hours) for your latest push to git@git.bioconductor.org:packages/Rcpi.git to reflect on this report. See Troubleshooting Build Report for more information. - Use the following Renviron settings to reproduce errors and warnings. - If 'R CMD check' started to fail recently on the Linux builder(s) over a missing dependency, add the missing dependency to 'Suggests:' in your DESCRIPTION file. See Renviron.bioc for more information. |
| Package: Rcpi |
| Version: 1.40.3 |
| Command: /Library/Frameworks/R.framework/Resources/bin/R CMD check --install=check:Rcpi.install-out.txt --library=/Library/Frameworks/R.framework/Resources/library --no-vignettes --timings Rcpi_1.40.3.tar.gz |
| StartedAt: 2024-10-18 08:51:04 -0400 (Fri, 18 Oct 2024) |
| EndedAt: 2024-10-18 08:53:32 -0400 (Fri, 18 Oct 2024) |
| EllapsedTime: 148.8 seconds |
| RetCode: 0 |
| Status: OK |
| CheckDir: Rcpi.Rcheck |
| Warnings: 0 |
##############################################################################
##############################################################################
###
### Running command:
###
### /Library/Frameworks/R.framework/Resources/bin/R CMD check --install=check:Rcpi.install-out.txt --library=/Library/Frameworks/R.framework/Resources/library --no-vignettes --timings Rcpi_1.40.3.tar.gz
###
##############################################################################
##############################################################################
* using log directory ‘/Users/biocbuild/bbs-3.19-bioc/meat/Rcpi.Rcheck’
* using R version 4.4.1 (2024-06-14)
* using platform: aarch64-apple-darwin20
* R was compiled by
Apple clang version 14.0.0 (clang-1400.0.29.202)
GNU Fortran (GCC) 12.2.0
* running under: macOS Ventura 13.6.6
* using session charset: UTF-8
* using option ‘--no-vignettes’
* checking for file ‘Rcpi/DESCRIPTION’ ... OK
* checking extension type ... Package
* this is package ‘Rcpi’ version ‘1.40.3’
* package encoding: UTF-8
* checking package namespace information ... OK
* checking package dependencies ... OK
* checking if this is a source package ... OK
* checking if there is a namespace ... OK
* checking for hidden files and directories ... OK
* checking for portable file names ... OK
* checking for sufficient/correct file permissions ... OK
* checking whether package ‘Rcpi’ can be installed ... OK
* checking installed package size ... OK
* checking package directory ... OK
* checking ‘build’ directory ... OK
* checking DESCRIPTION meta-information ... OK
* checking top-level files ... OK
* checking for left-over files ... OK
* checking index information ... OK
* checking package subdirectories ... OK
* checking code files for non-ASCII characters ... OK
* checking R files for syntax errors ... OK
* checking whether the package can be loaded ... OK
* checking whether the package can be loaded with stated dependencies ... OK
* checking whether the package can be unloaded cleanly ... OK
* checking whether the namespace can be loaded with stated dependencies ... OK
* checking whether the namespace can be unloaded cleanly ... OK
* checking dependencies in R code ... OK
* checking S3 generic/method consistency ... OK
* checking replacement functions ... OK
* checking foreign function calls ... OK
* checking R code for possible problems ... OK
* checking Rd files ... OK
* checking Rd metadata ... OK
* checking Rd cross-references ... OK
* checking for missing documentation entries ... OK
* checking for code/documentation mismatches ... OK
* checking Rd \usage sections ... OK
* checking Rd contents ... OK
* checking for unstated dependencies in examples ... OK
* checking contents of ‘data’ directory ... OK
* checking data for non-ASCII characters ... OK
* checking LazyData ... OK
* checking data for ASCII and uncompressed saves ... OK
* checking files in ‘vignettes’ ... OK
* checking examples ... OK
* checking for unstated dependencies in ‘tests’ ... OK
* checking tests ...
Running ‘testthat.R’
OK
* checking for unstated dependencies in vignettes ... OK
* checking package vignettes ... OK
* checking running R code from vignettes ... SKIPPED
* checking re-building of vignette outputs ... SKIPPED
* checking PDF version of manual ... OK
* DONE
Status: OK
Rcpi.Rcheck/00install.out
############################################################################## ############################################################################## ### ### Running command: ### ### /Library/Frameworks/R.framework/Resources/bin/R CMD INSTALL Rcpi ### ############################################################################## ############################################################################## * installing to library ‘/Library/Frameworks/R.framework/Versions/4.4-arm64/Resources/library’ * installing *source* package ‘Rcpi’ ... ** using staged installation ** R ** data *** moving datasets to lazyload DB ** inst ** byte-compile and prepare package for lazy loading ** help *** installing help indices *** copying figures ** building package indices ** installing vignettes ** testing if installed package can be loaded from temporary location ** testing if installed package can be loaded from final location ** testing if installed package keeps a record of temporary installation path * DONE (Rcpi)
Rcpi.Rcheck/tests/testthat.Rout
R version 4.4.1 (2024-06-14) -- "Race for Your Life"
Copyright (C) 2024 The R Foundation for Statistical Computing
Platform: aarch64-apple-darwin20
R is free software and comes with ABSOLUTELY NO WARRANTY.
You are welcome to redistribute it under certain conditions.
Type 'license()' or 'licence()' for distribution details.
R is a collaborative project with many contributors.
Type 'contributors()' for more information and
'citation()' on how to cite R or R packages in publications.
Type 'demo()' for some demos, 'help()' for on-line help, or
'help.start()' for an HTML browser interface to help.
Type 'q()' to quit R.
> library(testthat)
> library(Rcpi)
>
> test_check("Rcpi")
[ FAIL 0 | WARN 0 | SKIP 0 | PASS 22 ]
>
> proc.time()
user system elapsed
7.581 0.623 7.344
Rcpi.Rcheck/Rcpi-Ex.timings
| name | user | system | elapsed | |
| AA2DACOR | 0.002 | 0.002 | 0.003 | |
| AA3DMoRSE | 0.001 | 0.001 | 0.003 | |
| AAACF | 0.001 | 0.001 | 0.002 | |
| AABLOSUM100 | 0.000 | 0.001 | 0.002 | |
| AABLOSUM45 | 0.000 | 0.002 | 0.002 | |
| AABLOSUM50 | 0.001 | 0.001 | 0.002 | |
| AABLOSUM62 | 0.001 | 0.002 | 0.001 | |
| AABLOSUM80 | 0.001 | 0.001 | 0.002 | |
| AABurden | 0.001 | 0.001 | 0.002 | |
| AACPSA | 0.001 | 0.001 | 0.002 | |
| AAConn | 0.001 | 0.001 | 0.002 | |
| AAConst | 0.002 | 0.002 | 0.003 | |
| AADescAll | 0.001 | 0.001 | 0.002 | |
| AAEdgeAdj | 0.000 | 0.001 | 0.002 | |
| AAEigIdx | 0.001 | 0.001 | 0.002 | |
| AAFGC | 0.001 | 0.001 | 0.002 | |
| AAGETAWAY | 0.001 | 0.001 | 0.002 | |
| AAGeom | 0.001 | 0.002 | 0.002 | |
| AAInfo | 0.001 | 0.001 | 0.002 | |
| AAMOE2D | 0.001 | 0.001 | 0.002 | |
| AAMOE3D | 0.001 | 0.001 | 0.002 | |
| AAMetaInfo | 0.001 | 0.001 | 0.001 | |
| AAMolProp | 0.001 | 0.001 | 0.002 | |
| AAPAM120 | 0.001 | 0.001 | 0.002 | |
| AAPAM250 | 0.001 | 0.001 | 0.002 | |
| AAPAM30 | 0.001 | 0.001 | 0.002 | |
| AAPAM40 | 0.001 | 0.002 | 0.004 | |
| AAPAM70 | 0.001 | 0.002 | 0.002 | |
| AARDF | 0.001 | 0.001 | 0.002 | |
| AARandic | 0.000 | 0.001 | 0.002 | |
| AATopo | 0.001 | 0.001 | 0.002 | |
| AATopoChg | 0.001 | 0.001 | 0.002 | |
| AAWHIM | 0.001 | 0.001 | 0.003 | |
| AAWalk | 0.000 | 0.001 | 0.002 | |
| AAindex | 0.000 | 0.001 | 0.002 | |
| OptAA3d | 0.000 | 0.001 | 0.000 | |
| acc | 0.009 | 0.005 | 0.014 | |
| calcDrugFPSim | 0 | 0 | 0 | |
| calcDrugMCSSim | 0.003 | 0.003 | 0.006 | |
| calcParProtGOSim | 0.001 | 0.000 | 0.001 | |
| calcParProtSeqSim | 0.006 | 0.003 | 0.009 | |
| calcTwoProtGOSim | 0.001 | 0.000 | 0.000 | |
| calcTwoProtSeqSim | 0.002 | 0.001 | 0.002 | |
| checkProt | 0.001 | 0.001 | 0.001 | |
| convMolFormat | 0.000 | 0.000 | 0.001 | |
| extractDrugAIO | 0.000 | 0.000 | 0.001 | |
| extractDrugALOGP | 0.000 | 0.001 | 0.002 | |
| extractDrugAminoAcidCount | 0.000 | 0.000 | 0.001 | |
| extractDrugApol | 0.000 | 0.000 | 0.001 | |
| extractDrugAromaticAtomsCount | 0.000 | 0.000 | 0.001 | |
| extractDrugAromaticBondsCount | 0.000 | 0.000 | 0.001 | |
| extractDrugAtomCount | 0.000 | 0.000 | 0.001 | |
| extractDrugAutocorrelationCharge | 0.000 | 0.000 | 0.001 | |
| extractDrugAutocorrelationMass | 0.000 | 0.001 | 0.000 | |
| extractDrugAutocorrelationPolarizability | 0.000 | 0.000 | 0.001 | |
| extractDrugBCUT | 0.001 | 0.001 | 0.001 | |
| extractDrugBPol | 0.001 | 0.000 | 0.001 | |
| extractDrugBondCount | 0.001 | 0.001 | 0.001 | |
| extractDrugCPSA | 0.001 | 0.000 | 0.001 | |
| extractDrugCarbonTypes | 0.001 | 0.001 | 0.001 | |
| extractDrugChiChain | 0.001 | 0.000 | 0.000 | |
| extractDrugChiCluster | 0.000 | 0.001 | 0.001 | |
| extractDrugChiPath | 0.000 | 0.000 | 0.001 | |
| extractDrugChiPathCluster | 0.000 | 0.001 | 0.001 | |
| extractDrugDescOB | 0.011 | 0.004 | 0.016 | |
| extractDrugECI | 0.001 | 0.001 | 0.002 | |
| extractDrugEstate | 0.001 | 0.000 | 0.001 | |
| extractDrugEstateComplete | 0.001 | 0.001 | 0.001 | |
| extractDrugExtended | 0.001 | 0.000 | 0.000 | |
| extractDrugExtendedComplete | 0.001 | 0.000 | 0.001 | |
| extractDrugFMF | 0.001 | 0.000 | 0.000 | |
| extractDrugFragmentComplexity | 0.001 | 0.000 | 0.001 | |
| extractDrugGraph | 0.001 | 0.000 | 0.001 | |
| extractDrugGraphComplete | 0.001 | 0.000 | 0.001 | |
| extractDrugGravitationalIndex | 0.001 | 0.001 | 0.001 | |
| extractDrugHBondAcceptorCount | 0.001 | 0.000 | 0.001 | |
| extractDrugHBondDonorCount | 0.001 | 0.001 | 0.001 | |
| extractDrugHybridization | 0.001 | 0.000 | 0.001 | |
| extractDrugHybridizationComplete | 0.001 | 0.000 | 0.001 | |
| extractDrugHybridizationRatio | 0.001 | 0.000 | 0.001 | |
| extractDrugIPMolecularLearning | 0.001 | 0.000 | 0.001 | |
| extractDrugKR | 0.000 | 0.001 | 0.001 | |
| extractDrugKRComplete | 0.000 | 0.000 | 0.001 | |
| extractDrugKappaShapeIndices | 0.000 | 0.001 | 0.001 | |
| extractDrugKierHallSmarts | 0.000 | 0.000 | 0.001 | |
| extractDrugLargestChain | 0.000 | 0.000 | 0.001 | |
| extractDrugLargestPiSystem | 0.000 | 0.000 | 0.001 | |
| extractDrugLengthOverBreadth | 0.000 | 0.000 | 0.001 | |
| extractDrugLongestAliphaticChain | 0.000 | 0.000 | 0.001 | |
| extractDrugMACCS | 0.001 | 0.000 | 0.000 | |
| extractDrugMACCSComplete | 0.001 | 0.000 | 0.001 | |
| extractDrugMDE | 0.001 | 0.000 | 0.001 | |
| extractDrugMannholdLogP | 0.001 | 0.000 | 0.001 | |
| extractDrugMomentOfInertia | 0.001 | 0.000 | 0.001 | |
| extractDrugOBFP2 | 0.005 | 0.003 | 0.008 | |
| extractDrugOBFP3 | 0.006 | 0.003 | 0.009 | |
| extractDrugOBFP4 | 0.005 | 0.004 | 0.009 | |
| extractDrugOBMACCS | 0.004 | 0.003 | 0.008 | |
| extractDrugPetitjeanNumber | 0.001 | 0.001 | 0.002 | |
| extractDrugPetitjeanShapeIndex | 0.000 | 0.000 | 0.001 | |
| extractDrugPubChem | 0.001 | 0.000 | 0.002 | |
| extractDrugPubChemComplete | 0.001 | 0.001 | 0.001 | |
| extractDrugRotatableBondsCount | 0.001 | 0.000 | 0.001 | |
| extractDrugRuleOfFive | 0.001 | 0.000 | 0.001 | |
| extractDrugShortestPath | 0.001 | 0.000 | 0.000 | |
| extractDrugShortestPathComplete | 0.001 | 0.000 | 0.001 | |
| extractDrugStandard | 0.001 | 0.001 | 0.000 | |
| extractDrugStandardComplete | 0.001 | 0.000 | 0.001 | |
| extractDrugTPSA | 0.001 | 0.001 | 0.000 | |
| extractDrugVABC | 0.001 | 0.000 | 0.001 | |
| extractDrugVAdjMa | 0.001 | 0.001 | 0.001 | |
| extractDrugWHIM | 0.001 | 0.000 | 0.001 | |
| extractDrugWeight | 0.001 | 0.000 | 0.001 | |
| extractDrugWeightedPath | 0.001 | 0.001 | 0.001 | |
| extractDrugWienerNumbers | 0.001 | 0.000 | 0.001 | |
| extractDrugXLogP | 0.001 | 0.001 | 0.001 | |
| extractDrugZagrebIndex | 0.001 | 0.000 | 0.001 | |
| extractPCMBLOSUM | 0.122 | 0.006 | 0.127 | |
| extractPCMDescScales | 0.013 | 0.002 | 0.014 | |
| extractPCMFAScales | 0.018 | 0.005 | 0.022 | |
| extractPCMMDSScales | 0.011 | 0.003 | 0.013 | |
| extractPCMPropScales | 0.013 | 0.002 | 0.015 | |
| extractPCMScales | 0.028 | 0.008 | 0.035 | |
| extractProtAAC | 0.003 | 0.000 | 0.003 | |
| extractProtAPAAC | 0.742 | 0.023 | 0.770 | |
| extractProtCTDC | 0.003 | 0.000 | 0.003 | |
| extractProtCTDD | 0.002 | 0.000 | 0.002 | |
| extractProtCTDT | 0.005 | 0.001 | 0.005 | |
| extractProtCTriad | 0.091 | 0.012 | 0.104 | |
| extractProtDC | 0.004 | 0.004 | 0.011 | |
| extractProtGeary | 0.120 | 0.009 | 0.131 | |
| extractProtMoran | 0.110 | 0.008 | 0.120 | |
| extractProtMoreauBroto | 0.117 | 0.010 | 0.127 | |
| extractProtPAAC | 0.369 | 0.010 | 0.380 | |
| extractProtPSSM | 0.002 | 0.001 | 0.001 | |
| extractProtPSSMAcc | 0.001 | 0.001 | 0.001 | |
| extractProtPSSMFeature | 0.001 | 0.000 | 0.001 | |
| extractProtQSO | 0.653 | 0.017 | 0.671 | |
| extractProtSOCN | 1.049 | 0.027 | 1.079 | |
| extractProtTC | 0.031 | 0.075 | 0.110 | |
| getCPI | 0.002 | 0.001 | 0.003 | |
| getDrug | 0 | 0 | 0 | |
| getFASTAFromKEGG | 0.000 | 0.001 | 0.000 | |
| getFASTAFromUniProt | 0.001 | 0.000 | 0.000 | |
| getMolFromCAS | 0 | 0 | 0 | |
| getMolFromChEMBL | 0.000 | 0.001 | 0.000 | |
| getMolFromDrugBank | 0 | 0 | 0 | |
| getMolFromKEGG | 0 | 0 | 0 | |
| getMolFromPubChem | 0.000 | 0.001 | 0.000 | |
| getPDBFromRCSBPDB | 0 | 0 | 0 | |
| getPPI | 0.002 | 0.002 | 0.004 | |
| getProt | 0 | 0 | 0 | |
| getSeqFromKEGG | 0 | 0 | 0 | |
| getSeqFromRCSBPDB | 0 | 0 | 0 | |
| getSeqFromUniProt | 0.001 | 0.000 | 0.000 | |
| getSmiFromChEMBL | 0 | 0 | 0 | |
| getSmiFromDrugBank | 0.000 | 0.000 | 0.001 | |
| getSmiFromKEGG | 0 | 0 | 0 | |
| getSmiFromPubChem | 0 | 0 | 0 | |
| readFASTA | 0.002 | 0.001 | 0.001 | |
| readMolFromSDF | 0.002 | 0.001 | 0.003 | |
| readMolFromSmi | 0.001 | 0.000 | 0.001 | |
| readPDB | 0.766 | 0.004 | 0.774 | |
| searchDrug | 0.002 | 0.001 | 0.003 | |
| segProt | 0.001 | 0.001 | 0.003 | |