| Back to Multiple platform build/check report for BioC 3.19: simplified long |
|
This page was generated on 2024-10-18 20:40 -0400 (Fri, 18 Oct 2024).
| Hostname | OS | Arch (*) | R version | Installed pkgs |
|---|---|---|---|---|
| nebbiolo1 | Linux (Ubuntu 22.04.3 LTS) | x86_64 | 4.4.1 (2024-06-14) -- "Race for Your Life" | 4763 |
| palomino7 | Windows Server 2022 Datacenter | x64 | 4.4.1 (2024-06-14 ucrt) -- "Race for Your Life" | 4500 |
| merida1 | macOS 12.7.5 Monterey | x86_64 | 4.4.1 (2024-06-14) -- "Race for Your Life" | 4530 |
| kjohnson1 | macOS 13.6.6 Ventura | arm64 | 4.4.1 (2024-06-14) -- "Race for Your Life" | 4480 |
| Click on any hostname to see more info about the system (e.g. compilers) (*) as reported by 'uname -p', except on Windows and Mac OS X | ||||
| Package 1622/2300 | Hostname | OS / Arch | INSTALL | BUILD | CHECK | BUILD BIN | ||||||||
| ProteoDisco 1.10.0 (landing page) Job van Riet
| nebbiolo1 | Linux (Ubuntu 22.04.3 LTS) / x86_64 | OK | OK | WARNINGS | |||||||||
| palomino7 | Windows Server 2022 Datacenter / x64 | OK | OK | WARNINGS | OK | |||||||||
| merida1 | macOS 12.7.5 Monterey / x86_64 | OK | OK | WARNINGS | OK | |||||||||
| kjohnson1 | macOS 13.6.6 Ventura / arm64 | OK | OK | WARNINGS | OK | |||||||||
|
To the developers/maintainers of the ProteoDisco package: - Allow up to 24 hours (and sometimes 48 hours) for your latest push to git@git.bioconductor.org:packages/ProteoDisco.git to reflect on this report. See Troubleshooting Build Report for more information. - Use the following Renviron settings to reproduce errors and warnings. - If 'R CMD check' started to fail recently on the Linux builder(s) over a missing dependency, add the missing dependency to 'Suggests:' in your DESCRIPTION file. See Renviron.bioc for more information. |
| Package: ProteoDisco |
| Version: 1.10.0 |
| Command: rm -rf ProteoDisco.buildbin-libdir && mkdir ProteoDisco.buildbin-libdir && E:\biocbuild\bbs-3.19-bioc\R\bin\R.exe CMD INSTALL --build --library=ProteoDisco.buildbin-libdir ProteoDisco_1.10.0.tar.gz |
| StartedAt: 2024-10-17 08:23:26 -0400 (Thu, 17 Oct 2024) |
| EndedAt: 2024-10-17 08:24:37 -0400 (Thu, 17 Oct 2024) |
| EllapsedTime: 71.3 seconds |
| RetCode: 0 |
| Status: OK |
| PackageFile: ProteoDisco_1.10.0.zip |
| PackageFileSize: 881.3 KiB |
############################################################################## ############################################################################## ### ### Running command: ### ### rm -rf ProteoDisco.buildbin-libdir && mkdir ProteoDisco.buildbin-libdir && E:\biocbuild\bbs-3.19-bioc\R\bin\R.exe CMD INSTALL --build --library=ProteoDisco.buildbin-libdir ProteoDisco_1.10.0.tar.gz ### ############################################################################## ############################################################################## * installing *source* package 'ProteoDisco' ... ** using staged installation ** R ** data ** inst ** byte-compile and prepare package for lazy loading Warning: replacing previous import 'dplyr::rename' by 'plyr::rename' when loading 'ProteoDisco' Warning: replacing previous import 'dplyr::count' by 'plyr::count' when loading 'ProteoDisco' Warning: replacing previous import 'dplyr::failwith' by 'plyr::failwith' when loading 'ProteoDisco' Warning: replacing previous import 'dplyr::id' by 'plyr::id' when loading 'ProteoDisco' Warning: replacing previous import 'dplyr::summarize' by 'plyr::summarize' when loading 'ProteoDisco' Warning: replacing previous import 'dplyr::summarise' by 'plyr::summarise' when loading 'ProteoDisco' Warning: replacing previous import 'dplyr::mutate' by 'plyr::mutate' when loading 'ProteoDisco' Warning: replacing previous import 'dplyr::desc' by 'plyr::desc' when loading 'ProteoDisco' Warning: replacing previous import 'dplyr::arrange' by 'plyr::arrange' when loading 'ProteoDisco' ** help *** installing help indices ** building package indices ** installing vignettes ** testing if installed package can be loaded from temporary location Warning: replacing previous import 'dplyr::rename' by 'plyr::rename' when loading 'ProteoDisco' Warning: replacing previous import 'dplyr::count' by 'plyr::count' when loading 'ProteoDisco' Warning: replacing previous import 'dplyr::failwith' by 'plyr::failwith' when loading 'ProteoDisco' Warning: replacing previous import 'dplyr::id' by 'plyr::id' when loading 'ProteoDisco' Warning: replacing previous import 'dplyr::summarize' by 'plyr::summarize' when loading 'ProteoDisco' Warning: replacing previous import 'dplyr::summarise' by 'plyr::summarise' when loading 'ProteoDisco' Warning: replacing previous import 'dplyr::mutate' by 'plyr::mutate' when loading 'ProteoDisco' Warning: replacing previous import 'dplyr::desc' by 'plyr::desc' when loading 'ProteoDisco' Warning: replacing previous import 'dplyr::arrange' by 'plyr::arrange' when loading 'ProteoDisco' ** testing if installed package can be loaded from final location Warning: replacing previous import 'dplyr::rename' by 'plyr::rename' when loading 'ProteoDisco' Warning: replacing previous import 'dplyr::count' by 'plyr::count' when loading 'ProteoDisco' Warning: replacing previous import 'dplyr::failwith' by 'plyr::failwith' when loading 'ProteoDisco' Warning: replacing previous import 'dplyr::id' by 'plyr::id' when loading 'ProteoDisco' Warning: replacing previous import 'dplyr::summarize' by 'plyr::summarize' when loading 'ProteoDisco' Warning: replacing previous import 'dplyr::summarise' by 'plyr::summarise' when loading 'ProteoDisco' Warning: replacing previous import 'dplyr::mutate' by 'plyr::mutate' when loading 'ProteoDisco' Warning: replacing previous import 'dplyr::desc' by 'plyr::desc' when loading 'ProteoDisco' Warning: replacing previous import 'dplyr::arrange' by 'plyr::arrange' when loading 'ProteoDisco' ** testing if installed package keeps a record of temporary installation path * MD5 sums packaged installation of 'ProteoDisco' as ProteoDisco_1.10.0.zip * DONE (ProteoDisco)