| Back to Multiple platform build/check report for BioC 3.19: simplified long |
|
This page was generated on 2024-06-28 17:42 -0400 (Fri, 28 Jun 2024).
| Hostname | OS | Arch (*) | R version | Installed pkgs |
|---|---|---|---|---|
| nebbiolo1 | Linux (Ubuntu 22.04.3 LTS) | x86_64 | 4.4.0 (2024-04-24) -- "Puppy Cup" | 4760 |
| palomino3 | Windows Server 2022 Datacenter | x64 | 4.4.0 (2024-04-24 ucrt) -- "Puppy Cup" | 4494 |
| merida1 | macOS 12.7.4 Monterey | x86_64 | 4.4.0 (2024-04-24) -- "Puppy Cup" | 4508 |
| kjohnson1 | macOS 13.6.6 Ventura | arm64 | 4.4.0 (2024-04-24) -- "Puppy Cup" | 4466 |
| palomino7 | Windows Server 2022 Datacenter | x64 | 4.4.1 (2024-06-14 ucrt) -- "Race for Your Life" | 4362 |
| Click on any hostname to see more info about the system (e.g. compilers) (*) as reported by 'uname -p', except on Windows and Mac OS X | ||||
| Package 1495/2300 | Hostname | OS / Arch | INSTALL | BUILD | CHECK | BUILD BIN | ||||||||
| OUTRIDER 1.22.0 (landing page) Christian Mertes
| nebbiolo1 | Linux (Ubuntu 22.04.3 LTS) / x86_64 | OK | OK | OK | |||||||||
| palomino3 | Windows Server 2022 Datacenter / x64 | OK | OK | OK | OK | |||||||||
| merida1 | macOS 12.7.4 Monterey / x86_64 | OK | OK | OK | OK | |||||||||
| kjohnson1 | macOS 13.6.6 Ventura / arm64 | OK | OK | OK | OK | |||||||||
| palomino7 | Windows Server 2022 Datacenter / x64 | OK | OK | OK | OK | |||||||||
|
To the developers/maintainers of the OUTRIDER package: - Allow up to 24 hours (and sometimes 48 hours) for your latest push to git@git.bioconductor.org:packages/OUTRIDER.git to reflect on this report. See Troubleshooting Build Report for more information. - Use the following Renviron settings to reproduce errors and warnings. - If 'R CMD check' started to fail recently on the Linux builder(s) over a missing dependency, add the missing dependency to 'Suggests:' in your DESCRIPTION file. See Renviron.bioc for more information. |
| Package: OUTRIDER |
| Version: 1.22.0 |
| Command: F:\biocbuild\bbs-3.19-bioc\R\bin\R.exe CMD check --no-multiarch --install=check:OUTRIDER.install-out.txt --library=F:\biocbuild\bbs-3.19-bioc\R\library --no-vignettes --timings OUTRIDER_1.22.0.tar.gz |
| StartedAt: 2024-06-27 04:28:57 -0400 (Thu, 27 Jun 2024) |
| EndedAt: 2024-06-27 04:43:01 -0400 (Thu, 27 Jun 2024) |
| EllapsedTime: 843.8 seconds |
| RetCode: 0 |
| Status: OK |
| CheckDir: OUTRIDER.Rcheck |
| Warnings: 0 |
##############################################################################
##############################################################################
###
### Running command:
###
### F:\biocbuild\bbs-3.19-bioc\R\bin\R.exe CMD check --no-multiarch --install=check:OUTRIDER.install-out.txt --library=F:\biocbuild\bbs-3.19-bioc\R\library --no-vignettes --timings OUTRIDER_1.22.0.tar.gz
###
##############################################################################
##############################################################################
* using log directory 'F:/biocbuild/bbs-3.19-bioc/meat/OUTRIDER.Rcheck'
* using R version 4.4.0 (2024-04-24 ucrt)
* using platform: x86_64-w64-mingw32
* R was compiled by
gcc.exe (GCC) 13.2.0
GNU Fortran (GCC) 13.2.0
* running under: Windows Server 2022 x64 (build 20348)
* using session charset: UTF-8
* using option '--no-vignettes'
* checking for file 'OUTRIDER/DESCRIPTION' ... OK
* checking extension type ... Package
* this is package 'OUTRIDER' version '1.22.0'
* package encoding: UTF-8
* checking package namespace information ... OK
* checking package dependencies ... OK
* checking if this is a source package ... OK
* checking if there is a namespace ... OK
* checking for hidden files and directories ... OK
* checking for portable file names ... OK
* checking whether package 'OUTRIDER' can be installed ... OK
* used C++ compiler: 'G__~1.EXE (GCC) 13.2.0'
* checking C++ specification ... NOTE
Specified C++11: please drop specification unless essential
* checking installed package size ... OK
* checking package directory ... OK
* checking 'build' directory ... OK
* checking DESCRIPTION meta-information ... NOTE
License stub is invalid DCF.
* checking top-level files ... OK
* checking for left-over files ... OK
* checking index information ... OK
* checking package subdirectories ... OK
* checking code files for non-ASCII characters ... OK
* checking R files for syntax errors ... OK
* checking whether the package can be loaded ... OK
* checking whether the package can be loaded with stated dependencies ... OK
* checking whether the package can be unloaded cleanly ... OK
* checking whether the namespace can be loaded with stated dependencies ... OK
* checking whether the namespace can be unloaded cleanly ... OK
* checking dependencies in R code ... NOTE
Unexported object imported by a ':::' call: 'ggbio:::.buildFacetsFromArgs'
See the note in ?`:::` about the use of this operator.
* checking S3 generic/method consistency ... OK
* checking replacement functions ... OK
* checking foreign function calls ... OK
* checking R code for possible problems ... OK
* checking Rd files ... NOTE
checkRd: (-1) results.Rd:48-50: Lost braces in \itemize; \value handles \item{}{} directly
checkRd: (-1) results.Rd:51-52: Lost braces in \itemize; \value handles \item{}{} directly
checkRd: (-1) results.Rd:53-54: Lost braces in \itemize; \value handles \item{}{} directly
checkRd: (-1) results.Rd:55: Lost braces in \itemize; \value handles \item{}{} directly
checkRd: (-1) results.Rd:56-57: Lost braces in \itemize; \value handles \item{}{} directly
checkRd: (-1) results.Rd:58-60: Lost braces in \itemize; \value handles \item{}{} directly
checkRd: (-1) results.Rd:61-62: Lost braces in \itemize; \value handles \item{}{} directly
checkRd: (-1) results.Rd:63-64: Lost braces in \itemize; \value handles \item{}{} directly
checkRd: (-1) results.Rd:65-66: Lost braces in \itemize; \value handles \item{}{} directly
checkRd: (-1) results.Rd:67: Lost braces in \itemize; \value handles \item{}{} directly
checkRd: (-1) results.Rd:68-71: Lost braces in \itemize; \value handles \item{}{} directly
* checking Rd metadata ... OK
* checking Rd cross-references ... OK
* checking for missing documentation entries ... OK
* checking for code/documentation mismatches ... OK
* checking Rd \usage sections ... OK
* checking Rd contents ... OK
* checking for unstated dependencies in examples ... OK
* checking line endings in C/C++/Fortran sources/headers ... OK
* checking line endings in Makefiles ... OK
* checking compilation flags in Makevars ... OK
* checking for GNU extensions in Makefiles ... OK
* checking for portable use of $(BLAS_LIBS) and $(LAPACK_LIBS) ... OK
* checking use of PKG_*FLAGS in Makefiles ... OK
* checking compiled code ... NOTE
Note: information on .o files for x64 is not available
File 'F:/biocbuild/bbs-3.19-bioc/R/library/OUTRIDER/libs/x64/OUTRIDER.dll':
Found '_exit', possibly from '_exit' (C)
Found 'abort', possibly from 'abort' (C), 'runtime' (Fortran)
Found 'exit', possibly from 'exit' (C), 'stop' (Fortran)
Compiled code should not call entry points which might terminate R nor
write to stdout/stderr instead of to the console, nor use Fortran I/O
nor system RNGs nor [v]sprintf. The detected symbols are linked into
the code but might come from libraries and not actually be called.
See 'Writing portable packages' in the 'Writing R Extensions' manual.
* checking sizes of PDF files under 'inst/doc' ... OK
* checking files in 'vignettes' ... OK
* checking examples ... OK
Examples with CPU (user + system) or elapsed time > 5s
user system elapsed
plotFunctions 17.42 0.96 21.37
OUTRIDER 13.50 0.35 109.30
findEncodingDim 13.05 0.17 13.22
computePvalues 7.98 0.22 127.18
aberrant 3.65 0.04 47.75
* checking for unstated dependencies in 'tests' ... OK
* checking tests ...
Running 'testthat.R'
OK
* checking for unstated dependencies in vignettes ... OK
* checking package vignettes ... OK
* checking running R code from vignettes ... SKIPPED
* checking re-building of vignette outputs ... SKIPPED
* checking PDF version of manual ... OK
* DONE
Status: 5 NOTEs
See
'F:/biocbuild/bbs-3.19-bioc/meat/OUTRIDER.Rcheck/00check.log'
for details.
OUTRIDER.Rcheck/00install.out
############################################################################## ############################################################################## ### ### Running command: ### ### F:\biocbuild\bbs-3.19-bioc\R\bin\R.exe CMD INSTALL OUTRIDER ### ############################################################################## ############################################################################## * installing to library 'F:/biocbuild/bbs-3.19-bioc/R/library' * installing *source* package 'OUTRIDER' ... ** using staged installation ** libs using C++ compiler: 'G__~1.EXE (GCC) 13.2.0' using C++11 g++ -std=gnu++11 -I"F:/biocbuild/bbs-3.19-bioc/R/include" -DNDEBUG -I'F:/biocbuild/bbs-3.19-bioc/R/library/Rcpp/include' -I'F:/biocbuild/bbs-3.19-bioc/R/library/RcppArmadillo/include' -I"C:/rtools44/x86_64-w64-mingw32.static.posix/include" -fopenmp -DARMA_DONT_USE_OPENMP -O2 -Wall -mfpmath=sse -msse2 -mstackrealign -c RcppExports.cpp -o RcppExports.o g++ -std=gnu++11 -I"F:/biocbuild/bbs-3.19-bioc/R/include" -DNDEBUG -I'F:/biocbuild/bbs-3.19-bioc/R/library/Rcpp/include' -I'F:/biocbuild/bbs-3.19-bioc/R/library/RcppArmadillo/include' -I"C:/rtools44/x86_64-w64-mingw32.static.posix/include" -fopenmp -DARMA_DONT_USE_OPENMP -O2 -Wall -mfpmath=sse -msse2 -mstackrealign -c loss_n_gradient_functions.cpp -o loss_n_gradient_functions.o g++ -shared -s -static-libgcc -o OUTRIDER.dll tmp.def RcppExports.o loss_n_gradient_functions.o -fopenmp -LF:/biocbuild/bbs-3.19-bioc/R/bin/x64 -lRlapack -LF:/biocbuild/bbs-3.19-bioc/R/bin/x64 -lRblas -lgfortran -lm -lquadmath -LC:/rtools44/x86_64-w64-mingw32.static.posix/lib/x64 -LC:/rtools44/x86_64-w64-mingw32.static.posix/lib -LF:/biocbuild/bbs-3.19-bioc/R/bin/x64 -lR installing to F:/biocbuild/bbs-3.19-bioc/R/library/00LOCK-OUTRIDER/00new/OUTRIDER/libs/x64 ** R ** inst ** byte-compile and prepare package for lazy loading ** help *** installing help indices ** building package indices ** installing vignettes ** testing if installed package can be loaded from temporary location ** testing if installed package can be loaded from final location ** testing if installed package keeps a record of temporary installation path * DONE (OUTRIDER)
OUTRIDER.Rcheck/tests/testthat.Rout
R version 4.4.0 (2024-04-24 ucrt) -- "Puppy Cup"
Copyright (C) 2024 The R Foundation for Statistical Computing
Platform: x86_64-w64-mingw32/x64
R is free software and comes with ABSOLUTELY NO WARRANTY.
You are welcome to redistribute it under certain conditions.
Type 'license()' or 'licence()' for distribution details.
R is a collaborative project with many contributors.
Type 'contributors()' for more information and
'citation()' on how to cite R or R packages in publications.
Type 'demo()' for some demos, 'help()' for on-line help, or
'help.start()' for an HTML browser interface to help.
Type 'q()' to quit R.
> library(testthat)
> library(OUTRIDER)
Loading required package: BiocParallel
Loading required package: GenomicFeatures
Loading required package: BiocGenerics
Attaching package: 'BiocGenerics'
The following objects are masked from 'package:stats':
IQR, mad, sd, var, xtabs
The following objects are masked from 'package:base':
Filter, Find, Map, Position, Reduce, anyDuplicated, aperm, append,
as.data.frame, basename, cbind, colnames, dirname, do.call,
duplicated, eval, evalq, get, grep, grepl, intersect, is.unsorted,
lapply, mapply, match, mget, order, paste, pmax, pmax.int, pmin,
pmin.int, rank, rbind, rownames, sapply, setdiff, table, tapply,
union, unique, unsplit, which.max, which.min
Loading required package: S4Vectors
Loading required package: stats4
Attaching package: 'S4Vectors'
The following object is masked from 'package:utils':
findMatches
The following objects are masked from 'package:base':
I, expand.grid, unname
Loading required package: IRanges
Attaching package: 'IRanges'
The following object is masked from 'package:grDevices':
windows
Loading required package: GenomeInfoDb
Loading required package: GenomicRanges
Loading required package: AnnotationDbi
Loading required package: Biobase
Welcome to Bioconductor
Vignettes contain introductory material; view with
'browseVignettes()'. To cite Bioconductor, see
'citation("Biobase")', and for packages 'citation("pkgname")'.
Loading required package: SummarizedExperiment
Loading required package: MatrixGenerics
Loading required package: matrixStats
Attaching package: 'matrixStats'
The following objects are masked from 'package:Biobase':
anyMissing, rowMedians
Attaching package: 'MatrixGenerics'
The following objects are masked from 'package:matrixStats':
colAlls, colAnyNAs, colAnys, colAvgsPerRowSet, colCollapse,
colCounts, colCummaxs, colCummins, colCumprods, colCumsums,
colDiffs, colIQRDiffs, colIQRs, colLogSumExps, colMadDiffs,
colMads, colMaxs, colMeans2, colMedians, colMins, colOrderStats,
colProds, colQuantiles, colRanges, colRanks, colSdDiffs, colSds,
colSums2, colTabulates, colVarDiffs, colVars, colWeightedMads,
colWeightedMeans, colWeightedMedians, colWeightedSds,
colWeightedVars, rowAlls, rowAnyNAs, rowAnys, rowAvgsPerColSet,
rowCollapse, rowCounts, rowCummaxs, rowCummins, rowCumprods,
rowCumsums, rowDiffs, rowIQRDiffs, rowIQRs, rowLogSumExps,
rowMadDiffs, rowMads, rowMaxs, rowMeans2, rowMedians, rowMins,
rowOrderStats, rowProds, rowQuantiles, rowRanges, rowRanks,
rowSdDiffs, rowSds, rowSums2, rowTabulates, rowVarDiffs, rowVars,
rowWeightedMads, rowWeightedMeans, rowWeightedMedians,
rowWeightedSds, rowWeightedVars
The following object is masked from 'package:Biobase':
rowMedians
Loading required package: data.table
Attaching package: 'data.table'
The following object is masked from 'package:SummarizedExperiment':
shift
The following object is masked from 'package:GenomicRanges':
shift
The following object is masked from 'package:IRanges':
shift
The following objects are masked from 'package:S4Vectors':
first, second
>
> register(SerialParam())
>
> test_check("OUTRIDER")
[1] "Thu Jun 27 04:41:34 2024: Initial PCA loss: 6.28108596488563"
[1] "Thu Jun 27 04:41:35 2024: Iteration: 1 loss: 4.354203659273"
[1] "Thu Jun 27 04:41:36 2024: Iteration: 2 loss: 4.28511969721043"
[1] "Thu Jun 27 04:41:37 2024: Iteration: 3 loss: 4.2626071352647"
[1] "Thu Jun 27 04:41:38 2024: Iteration: 4 loss: 4.25330686202142"
[1] "Thu Jun 27 04:41:39 2024: Iteration: 5 loss: 4.24760466006016"
[1] "Thu Jun 27 04:41:39 2024: Iteration: 6 loss: 4.24602871905603"
Time difference of 4.920075 secs
[1] "Thu Jun 27 04:41:39 2024: 6 Final nb-AE loss: 4.24602871905603"
[1] "Thu Jun 27 04:41:41 2024: Initial PCA loss: 6.28108596488563"
[1] "Thu Jun 27 04:41:42 2024: Iteration: 1 loss: 4.354203659273"
[1] "Thu Jun 27 04:41:43 2024: Iteration: 2 loss: 4.28511969721043"
[1] "Thu Jun 27 04:41:44 2024: Iteration: 3 loss: 4.2626071352647"
[1] "Thu Jun 27 04:41:45 2024: Iteration: 4 loss: 4.25330686202142"
[1] "Thu Jun 27 04:41:45 2024: Iteration: 5 loss: 4.24760466006016"
[1] "Thu Jun 27 04:41:46 2024: Iteration: 6 loss: 4.24602871905603"
Time difference of 4.873949 secs
[1] "Thu Jun 27 04:41:46 2024: 6 Final nb-AE loss: 4.24602871905603"
class: OutriderDataSet
class: RangedSummarizedExperiment
dim: 100 50
metadata(1): version
assays(1): counts
rownames(100): ENSG00000223972.4 ENSG00000227232.4 ...
ENSG00000107404.13 ENSG00000162576.12
rowData names(0):
colnames(50): GTEX.UPK5.0426.SM.3GAEK GTEX.WFG7.2026.SM.3GIL7 ...
GTEX.11UD2.2526.SM.5CVNU GTEX.13O61.1426.SM.5KM3D
colData names(1): sampleID
[1] "Thu Jun 27 04:42:04 2024: Initial PCA loss: 4.45521992854681"
[1] "Thu Jun 27 04:42:05 2024: Iteration: 1 loss: 4.08941138011766"
[1] "Thu Jun 27 04:42:06 2024: Iteration: 2 loss: 4.07702826963053"
Time difference of 1.772539 secs
[1] "Thu Jun 27 04:42:06 2024: 2 Final nb-AE loss: 4.07702826963053"
[1] "Evaluation loss: 0.231747841234399 for q=3"
[1] "Thu Jun 27 04:42:07 2024: Initial PCA loss: 4.4327077538862"
[1] "Thu Jun 27 04:42:09 2024: Iteration: 1 loss: 4.02397298115859"
[1] "Thu Jun 27 04:42:10 2024: Iteration: 2 loss: 4.01233407817496"
Time difference of 1.605389 secs
[1] "Thu Jun 27 04:42:10 2024: 2 Final nb-AE loss: 4.01233407817496"
[1] "Evaluation loss: 0.233688771335118 for q=4"
[1] "Thu Jun 27 04:42:10 2024: Initial PCA loss: 4.41135824297198"
[1] "Thu Jun 27 04:42:12 2024: Iteration: 1 loss: 3.9188485248688"
[1] "Thu Jun 27 04:42:13 2024: Iteration: 2 loss: 3.87859163274259"
Time difference of 1.671283 secs
[1] "Thu Jun 27 04:42:13 2024: 2 Final nb-AE loss: 3.87859163274259"
[1] "Evaluation loss: 0.249560152368102 for q=5"
[1] "Thu Jun 27 04:42:24 2024: Initial PCA loss: 7.16457134714849"
[1] "Thu Jun 27 04:42:26 2024: Iteration: 1 loss: 6.82913845216191"
[1] "Thu Jun 27 04:42:27 2024: Iteration: 2 loss: 6.82748830816816"
Time difference of 2.13416 secs
[1] "Thu Jun 27 04:42:27 2024: 2 Final nb-AE loss: 6.82748830816816"
[ FAIL 0 | WARN 4 | SKIP 0 | PASS 115 ]
[ FAIL 0 | WARN 4 | SKIP 0 | PASS 115 ]
>
> proc.time()
user system elapsed
92.28 2.89 95.68
OUTRIDER.Rcheck/OUTRIDER-Ex.timings
| name | user | system | elapsed | |
| OUTRIDER | 13.50 | 0.35 | 109.30 | |
| OutriderDataSet-class | 0.89 | 0.01 | 1.28 | |
| aberrant | 3.65 | 0.04 | 47.75 | |
| computeGeneLength | 1.71 | 0.01 | 1.76 | |
| computeLatentSpace | 0.96 | 0.00 | 0.95 | |
| computePvalues | 7.98 | 0.22 | 127.18 | |
| computeZscores | 1.16 | 0.00 | 1.15 | |
| controlForConfounders | 1.26 | 0.05 | 1.32 | |
| counts | 0.60 | 0.00 | 0.59 | |
| estimateBestQ | 0.37 | 0.00 | 0.37 | |
| filterExpression | 1.75 | 0.00 | 1.78 | |
| findEncodingDim | 13.05 | 0.17 | 13.22 | |
| fit | 0.84 | 0.00 | 0.87 | |
| fpkm | 0.74 | 0.00 | 0.74 | |
| getter_setter_functions | 3.08 | 0.04 | 3.11 | |
| makeExampleOutriderDataSet | 1.14 | 0.00 | 1.22 | |
| normalizationFactors | 0.62 | 0.00 | 0.62 | |
| plotFunctions | 17.42 | 0.96 | 21.37 | |
| results | 4.45 | 0.04 | 4.49 | |
| sampleExclusionMask | 0.53 | 0.00 | 0.53 | |
| sizeFactors | 0.92 | 0.03 | 0.95 | |