| Back to Multiple platform build/check report for BioC 3.19: simplified long | 
  | 
This page was generated on 2024-10-18 20:42 -0400 (Fri, 18 Oct 2024).
| Hostname | OS | Arch (*) | R version | Installed pkgs | 
|---|---|---|---|---|
| nebbiolo1 | Linux (Ubuntu 22.04.3 LTS) | x86_64 | 4.4.1 (2024-06-14) -- "Race for Your Life" | 4763 | 
| palomino7 | Windows Server 2022 Datacenter | x64 | 4.4.1 (2024-06-14 ucrt) -- "Race for Your Life" | 4500 | 
| merida1 | macOS 12.7.5 Monterey | x86_64 | 4.4.1 (2024-06-14) -- "Race for Your Life" | 4530 | 
| kjohnson1 | macOS 13.6.6 Ventura | arm64 | 4.4.1 (2024-06-14) -- "Race for Your Life" | 4480 | 
| Click on any hostname to see more info about the system (e.g. compilers) (*) as reported by 'uname -p', except on Windows and Mac OS X | ||||
| Package 1343/2300 | Hostname | OS / Arch | INSTALL | BUILD | CHECK | BUILD BIN | ||||||||
| MsBackendRawFileReader 1.10.0  (landing page) Christian Panse 
  | nebbiolo1 | Linux (Ubuntu 22.04.3 LTS) / x86_64 | OK | OK | OK | |||||||||
| palomino7 | Windows Server 2022 Datacenter / x64 | OK | OK | OK | OK | |||||||||
| merida1 | macOS 12.7.5 Monterey / x86_64 | OK | OK | OK | OK | |||||||||
| kjohnson1 | macOS 13.6.6 Ventura / arm64 | OK | OK | OK | OK | |||||||||
| 
To the developers/maintainers of the MsBackendRawFileReader package: - Allow up to 24 hours (and sometimes 48 hours) for your latest push to git@git.bioconductor.org:packages/MsBackendRawFileReader.git to reflect on this report. See Troubleshooting Build Report for more information. - Use the following Renviron settings to reproduce errors and warnings. - If 'R CMD check' started to fail recently on the Linux builder(s) over a missing dependency, add the missing dependency to 'Suggests:' in your DESCRIPTION file. See Renviron.bioc for more information.  | 
| Package: MsBackendRawFileReader | 
| Version: 1.10.0 | 
| Command: /Library/Frameworks/R.framework/Resources/bin/R CMD check --install=check:MsBackendRawFileReader.install-out.txt --library=/Library/Frameworks/R.framework/Resources/library --no-vignettes --timings MsBackendRawFileReader_1.10.0.tar.gz | 
| StartedAt: 2024-10-18 05:02:35 -0400 (Fri, 18 Oct 2024) | 
| EndedAt: 2024-10-18 05:06:42 -0400 (Fri, 18 Oct 2024) | 
| EllapsedTime: 247.5 seconds | 
| RetCode: 0 | 
| Status: OK | 
| CheckDir: MsBackendRawFileReader.Rcheck | 
| Warnings: 0 | 
##############################################################################
##############################################################################
###
### Running command:
###
###   /Library/Frameworks/R.framework/Resources/bin/R CMD check --install=check:MsBackendRawFileReader.install-out.txt --library=/Library/Frameworks/R.framework/Resources/library --no-vignettes --timings MsBackendRawFileReader_1.10.0.tar.gz
###
##############################################################################
##############################################################################
* using log directory ‘/Users/biocbuild/bbs-3.19-bioc/meat/MsBackendRawFileReader.Rcheck’
* using R version 4.4.1 (2024-06-14)
* using platform: aarch64-apple-darwin20
* R was compiled by
    Apple clang version 14.0.0 (clang-1400.0.29.202)
    GNU Fortran (GCC) 12.2.0
* running under: macOS Ventura 13.6.6
* using session charset: UTF-8
* using option ‘--no-vignettes’
* checking for file ‘MsBackendRawFileReader/DESCRIPTION’ ... OK
* checking extension type ... Package
* this is package ‘MsBackendRawFileReader’ version ‘1.10.0’
* package encoding: UTF-8
* checking package namespace information ... OK
* checking package dependencies ... OK
* checking if this is a source package ... OK
* checking if there is a namespace ... OK
* checking for hidden files and directories ... OK
* checking for portable file names ... OK
* checking for sufficient/correct file permissions ... OK
* checking whether package ‘MsBackendRawFileReader’ can be installed ... OK
* checking installed package size ... OK
* checking package directory ... OK
* checking ‘build’ directory ... OK
* checking DESCRIPTION meta-information ... OK
* checking top-level files ... OK
* checking for left-over files ... OK
* checking index information ... OK
* checking package subdirectories ... OK
* checking code files for non-ASCII characters ... OK
* checking R files for syntax errors ... OK
* checking whether the package can be loaded ... OK
* checking whether the package can be loaded with stated dependencies ... OK
* checking whether the package can be unloaded cleanly ... OK
* checking whether the namespace can be loaded with stated dependencies ... OK
* checking whether the namespace can be unloaded cleanly ... OK
* checking whether startup messages can be suppressed ... OK
* checking dependencies in R code ... OK
* checking S3 generic/method consistency ... OK
* checking replacement functions ... OK
* checking foreign function calls ... OK
* checking R code for possible problems ... NOTE
filterScan,MsBackendRawFileReader : <anonymous>: no visible global
  function definition for ‘scanIndex’
peaksData,MsBackendRawFileReader: no visible global function definition
  for ‘scanIndex’
Undefined global functions or variables:
  scanIndex
* checking Rd files ... OK
* checking Rd metadata ... OK
* checking Rd cross-references ... OK
* checking for missing documentation entries ... OK
* checking for code/documentation mismatches ... OK
* checking Rd \usage sections ... OK
* checking Rd contents ... OK
* checking for unstated dependencies in examples ... OK
* checking files in ‘vignettes’ ... OK
* checking examples ... OK
Examples with CPU (user + system) or elapsed time > 5s
                               user system elapsed
ioBenchmark                  42.782 10.591  23.878
MsBackendRawFileReader        6.401  3.196  10.778
MsBackendRawFileReader-class  4.325  1.476   6.644
* checking for unstated dependencies in ‘tests’ ... OK
* checking tests ...
  Running ‘testthat.R’
 OK
* checking for unstated dependencies in vignettes ... OK
* checking package vignettes ... OK
* checking running R code from vignettes ... SKIPPED
* checking re-building of vignette outputs ... SKIPPED
* checking PDF version of manual ... OK
* DONE
Status: 1 NOTE
See
  ‘/Users/biocbuild/bbs-3.19-bioc/meat/MsBackendRawFileReader.Rcheck/00check.log’
for details.
MsBackendRawFileReader.Rcheck/00install.out
############################################################################## ############################################################################## ### ### Running command: ### ### /Library/Frameworks/R.framework/Resources/bin/R CMD INSTALL MsBackendRawFileReader ### ############################################################################## ############################################################################## * installing to library ‘/Library/Frameworks/R.framework/Versions/4.4-arm64/Resources/library’ * installing *source* package ‘MsBackendRawFileReader’ ... ** using staged installation ** R ** inst ** byte-compile and prepare package for lazy loading ** help *** installing help indices ** building package indices ** installing vignettes ** testing if installed package can be loaded from temporary location ** testing if installed package can be loaded from final location ** testing if installed package keeps a record of temporary installation path * DONE (MsBackendRawFileReader)
MsBackendRawFileReader.Rcheck/tests/testthat.Rout
R version 4.4.1 (2024-06-14) -- "Race for Your Life"
Copyright (C) 2024 The R Foundation for Statistical Computing
Platform: aarch64-apple-darwin20
R is free software and comes with ABSOLUTELY NO WARRANTY.
You are welcome to redistribute it under certain conditions.
Type 'license()' or 'licence()' for distribution details.
R is a collaborative project with many contributors.
Type 'contributors()' for more information and
'citation()' on how to cite R or R packages in publications.
Type 'demo()' for some demos, 'help()' for on-line help, or
'help.start()' for an HTML browser interface to help.
Type 'q()' to quit R.
> library("testthat")
> library("MsBackendRawFileReader")
Loading required package: Spectra
Loading required package: S4Vectors
Loading required package: stats4
Loading required package: BiocGenerics
Attaching package: 'BiocGenerics'
The following objects are masked from 'package:stats':
    IQR, mad, sd, var, xtabs
The following objects are masked from 'package:base':
    Filter, Find, Map, Position, Reduce, anyDuplicated, aperm, append,
    as.data.frame, basename, cbind, colnames, dirname, do.call,
    duplicated, eval, evalq, get, grep, grepl, intersect, is.unsorted,
    lapply, mapply, match, mget, order, paste, pmax, pmax.int, pmin,
    pmin.int, rank, rbind, rownames, sapply, setdiff, table, tapply,
    union, unique, unsplit, which.max, which.min
Attaching package: 'S4Vectors'
The following object is masked from 'package:utils':
    findMatches
The following objects are masked from 'package:base':
    I, expand.grid, unname
Loading required package: BiocParallel
Loading required package: ProtGenerics
Attaching package: 'ProtGenerics'
The following object is masked from 'package:stats':
    smooth
> library("Spectra")
> 
> 
> sample_raw_file <- file.path(system.file(package = "rawrr"),
+                                 'extdata', 'sample.raw')
> 
> sample_mzXML_file <- file.path(path.package(package = 'MsBackendRawFileReader'),
+                                 'extdata', 'sample.mzXML')
> 
> 
> sample_raw <-  backendInitialize(MsBackendRawFileReader::MsBackendRawFileReader(), files = sample_raw_file)
> 
> 
> #sample_mzr <-  backendInitialize(MsBackendMzR(), files = sample_mzXML_file)
> 
> 
> mgf_file <- file.path(system.file(package = "MsBackendRawFileReader"),
+                              'extdata', '3159619b11ed_4590_9594.mgf')
> 
> 
> rv <- lapply(1:2, function(x){
+   file.copy(from = sample_raw_file, to = tempfile(fileext='.raw'))})
> 
> 
> register(SnowParam(workers = 1, type = "SOCK") , default = TRUE); 
> sample_raw_2 <- backendInitialize(MsBackendRawFileReader(),
+     files = file.path(tempdir(),
+          list.files(path = tempdir(), pattern = 'raw$')))
> 
> 
> test_check("MsBackendRawFileReader")
[ FAIL 0 | WARN 1 | SKIP 2 | PASS 21 ]
══ Skipped tests (2) ═══════════════════════════════════════════════════════════
• isFALSE(file.exists(sample_mzXML_file)) is TRUE (1):
  'test_MsBackendMzR_MsBackendRawFileReader.R:1:1'
• isFALSE(require(MsBackendRawMgf)) is TRUE (1): 'test_top_n_mgf.R:1:1'
[ FAIL 0 | WARN 1 | SKIP 2 | PASS 21 ]
> 
> 
> be <- Spectra::backendInitialize(MsBackendRawFileReader::MsBackendRawFileReader(),
+                                  files = c(sample_raw_file))
> 
> ## Run the MsBackend spectra variable test suite
> test_suite <- system.file("test_backends", "test_MsBackend",
+                           package = "Spectra")
> 
> #res <- test_file(paste0(test_suite, "/test_spectra_variables.R"),
> #                 reporter = check_reporter(), stop_on_failure = TRUE)
> 
> 
> ## Run the whole suite.
> res <- test_dir(test_suite, stop_on_failure = TRUE)
✔ | F W  S  OK | Context
⠏ |          0 | peaks_variables                                                
⠙ |          2 | peaks_variables                                                
⠸ |          4 | peaks_variables                                                
✔ |          4 | peaks_variables [5.8s]
⠏ |          0 | spectra_subsetting                                             
⠋ |          1 | spectra_subsetting                                             
⠋ |         11 | spectra_subsetting                                             
⠇ |         19 | spectra_subsetting                                             
⠸ |         34 | spectra_subsetting                                             
⠴ |         46 | spectra_subsetting                                             
⠹ |         53 | spectra_subsetting                                             
⠴ |         66 | spectra_subsetting                                             
⠧ |         78 | spectra_subsetting                                             
⠼ |         85 | spectra_subsetting                                             
⠼ |         95 | spectra_subsetting                                             
⠇ |        109 | spectra_subsetting                                             
⠧ |        118 | spectra_subsetting                                             
⠼ |        125 | spectra_subsetting                                             
⠦ |        137 | spectra_subsetting                                             
⠏ |        150 | spectra_subsetting                                             
⠦ |        157 | spectra_subsetting                                             
⠴ |        166 | spectra_subsetting                                             
⠧ |        178 | spectra_subsetting                                             
⠏ |        190 | spectra_subsetting                                             
⠧ |        198 | spectra_subsetting                                             
⠋ |        211 | spectra_subsetting                                             
⠹ |        223 | spectra_subsetting                                             
⠙ |        232 | spectra_subsetting                                             
⠼ |        245 | spectra_subsetting                                             
⠇ |        259 | spectra_subsetting                                             
⠦ |        267 | spectra_subsetting                                             
⠦ |        277 | spectra_subsetting                                             
⠇ |        289 | spectra_subsetting                                             
⠧ |        298 | spectra_subsetting                                             
⠦ |        307 | spectra_subsetting                                             
⠇ |        319 | spectra_subsetting                                             
⠋ |        331 | spectra_subsetting                                             
⠧ |        338 | spectra_subsetting                                             
⠧ |        348 | spectra_subsetting                                             
⠋ |        361 | spectra_subsetting                                             
⠋ |        371 | spectra_subsetting                                             
⠇ |        379 | spectra_subsetting                                             
⠋ |        391 | spectra_subsetting                                             
⠹ |        403 | spectra_subsetting                                             
⠏ |        410 | spectra_subsetting                                             
⠋ |        421 | spectra_subsetting                                             
⠸ |        434 | spectra_subsetting                                             
⠼ |        445 | spectra_subsetting                                             
⠦ |        457 | spectra_subsetting                                             
⠏ |        470 | spectra_subsetting                                             
⠧ |        478 | spectra_subsetting                                             
⠦ |        487 | spectra_subsetting                                             
⠏ |        500 | spectra_subsetting                                             
⠋ |        511 | spectra_subsetting                                             
⠧ |        518 | spectra_subsetting                                             
⠇ |        529 | spectra_subsetting                                             
⠋ |        541 | spectra_subsetting                                             
⠋ |        551 | spectra_subsetting                                             
⠏ |        560 | spectra_subsetting                                             
⠙ |        572 | spectra_subsetting                                             
⠹ |        583 | spectra_subsetting                                             
⠙ |        592 | spectra_subsetting                                             
⠸ |        604 | spectra_subsetting                                             
⠦ |        617 | spectra_subsetting                                             
⠼ |        625 | spectra_subsetting                                             
⠦ |        637 | spectra_subsetting                                             
⠙ |        652 | spectra_subsetting                                             
⠇ |        659 | spectra_subsetting                                             
⠏ |        670 | spectra_subsetting                                             
⠼ |        685 | spectra_subsetting                                             
⠸ |        694 | spectra_subsetting                                             
⠹ |        703 | spectra_subsetting                                             
⠦ |        717 | spectra_subsetting                                             
⠦ |        727 | spectra_subsetting                                             
⠴ |        736 | spectra_subsetting                                             
⠋ |        751 | spectra_subsetting                                             
⠋ |        761 | spectra_subsetting                                             
⠇ |        769 | spectra_subsetting                                             
⠹ |        783 | spectra_subsetting                                             
⠴ |        796 | spectra_subsetting                                             
⠼ |        805 | spectra_subsetting                                             
⠧ |        818 | spectra_subsetting                                             
⠙ |        832 | spectra_subsetting                                             
⠋ |        841 | spectra_subsetting                                             
⠴ |        856 | spectra_subsetting                                             
⠧ |        868 | spectra_subsetting                                             
⠦ |        877 | spectra_subsetting                                             
⠏ |        890 | spectra_subsetting                                             
⠸ |        904 | spectra_subsetting                                             
⠹ |        913 | spectra_subsetting                                             
⠦ |        927 | spectra_subsetting                                             
⠏ |        940 | spectra_subsetting                                             
⠇ |        949 | spectra_subsetting                                             
⠸ |        964 | spectra_subsetting                                             
⠴ |        976 | spectra_subsetting                                             
⠼ |        985 | spectra_subsetting                                             
⠧ |        998 | spectra_subsetting                                             
⠙ |        1012 | spectra_subsetting                                            
⠋ |        1021 | spectra_subsetting                                            
⠴ |        1036 | spectra_subsetting                                            
⠧ |        1048 | spectra_subsetting                                            
⠦ |        1057 | spectra_subsetting                                            
⠙ |        1072 | spectra_subsetting                                            
⠸ |        1084 | spectra_subsetting                                            
⠙ |        1092 | spectra_subsetting                                            
⠼ |        1105 | spectra_subsetting                                            
⠦ |        1117 | spectra_subsetting                                            
⠴ |        1126 | spectra_subsetting                                            
⠋ |        1141 | spectra_subsetting                                            
⠹ |        1153 | spectra_subsetting                                            
⠏ |        1160 | spectra_subsetting                                            
⠋ |        1171 | spectra_subsetting                                            
⠸ |        1184 | spectra_subsetting                                            
⠼ |        1195 | spectra_subsetting                                            
⠦ |        1207 | spectra_subsetting                                            
⠋ |        1221 | spectra_subsetting                                            
⠧ |        1228 | spectra_subsetting                                            
⠦ |        1237 | spectra_subsetting                                            
⠇ |        1249 | spectra_subsetting                                            
⠋ |        1261 | spectra_subsetting                                            
⠏ |        1270 | spectra_subsetting                                            
⠙ |        1282 | spectra_subsetting                                            
⠼ |        1295 | spectra_subsetting                                            
⠹ |        1303 | spectra_subsetting                                            
⠼ |        1315 | spectra_subsetting                                            
⠏ |        1330 | spectra_subsetting                                            
⠇ |        1339 | spectra_subsetting                                            
⠸ |        1354 | spectra_subsetting                                            
⠦ |        1367 | spectra_subsetting                                            
⠼ |        1375 | spectra_subsetting                                            
⠧ |        1388 | spectra_subsetting                                            
⠏ |        1400 | spectra_subsetting                                            
⠧ |        1408 | spectra_subsetting                                            
⠧ |        1418 | spectra_subsetting                                            
⠙ |        1432 | spectra_subsetting                                            
⠋ |        1441 | spectra_subsetting                                            
⠏ |        1450 | spectra_subsetting                                            
⠹ |        1463 | spectra_subsetting                                            
⠸ |        1474 | spectra_subsetting                                            
⠋ |        1481 | spectra_subsetting                                            
⠙ |        1492 | spectra_subsetting                                            
⠼ |        1505 | spectra_subsetting                                            
⠹ |        1513 | spectra_subsetting                                            
⠙ |        1522 | spectra_subsetting                                            
⠸ |        1534 | spectra_subsetting                                            
⠴ |        1546 | spectra_subsetting                                            
⠼ |        1555 | spectra_subsetting                                            
⠦ |        1567 | spectra_subsetting                                            
⠇ |        1579 | spectra_subsetting                                            
⠧ |        1588 | spectra_subsetting                                            
⠹ |        1603 | spectra_subsetting                                            
⠼ |        1615 | spectra_subsetting                                            
⠸ |        1624 | spectra_subsetting                                            
⠦ |        1637 | spectra_subsetting                                            
⠋ |        1651 | spectra_subsetting                                            
⠏ |        1660 | spectra_subsetting                                            
⠼ |        1675 | spectra_subsetting                                            
⠦ |        1687 | spectra_subsetting                                            
⠸ |        1694 | spectra_subsetting                                            
⠧ |        1708 | spectra_subsetting                                            
⠋ |        1721 | spectra_subsetting                                            
⠦ |        1727 | spectra_subsetting                                            
⠇ |        1729 | spectra_subsetting                                            
⠏ |        1730 | spectra_subsetting                                            
⠙ |        1732 | spectra_subsetting                                            
⠸ |        1734 | spectra_subsetting                                            
⠴ |        1736 | spectra_subsetting                                            
⠦ |        1737 | spectra_subsetting                                            
⠇ |        1739 | spectra_subsetting                                            
⠋ |        1741 | spectra_subsetting                                            
⠹ |        1743 | spectra_subsetting                                            
⠼ |        1745 | spectra_subsetting                                            
⠦ |        1747 | spectra_subsetting                                            
⠇ |        1749 | spectra_subsetting                                            
⠋ |        1751 | spectra_subsetting                                            
⠙ |        1752 | spectra_subsetting                                            
⠸ |        1754 | spectra_subsetting                                            
⠴ |        1756 | spectra_subsetting                                            
⠧ |        1758 | spectra_subsetting                                            
⠏ |        1760 | spectra_subsetting                                            
⠙ |        1762 | spectra_subsetting                                            
⠸ |        1764 | spectra_subsetting                                            
⠴ |        1766 | spectra_subsetting                                            
⠧ |        1768 | spectra_subsetting                                            
⠏ |        1770 | spectra_subsetting                                            
⠋ |        1771 | spectra_subsetting                                            
⠹ |        1773 | spectra_subsetting                                            
⠼ |        1775 | spectra_subsetting                                            
⠦ |        1777 | spectra_subsetting                                            
⠇ |        1779 | spectra_subsetting                                            
⠋ |        1781 | spectra_subsetting                                            
⠙ |        1782 | spectra_subsetting                                            
⠸ |        1784 | spectra_subsetting                                            
⠴ |        1786 | spectra_subsetting                                            
⠧ |        1788 | spectra_subsetting                                            
⠏ |        1790 | spectra_subsetting                                            
⠙ |        1792 | spectra_subsetting                                            
⠸ |        1794 | spectra_subsetting                                            
⠴ |        1796 | spectra_subsetting                                            
⠧ |        1798 | spectra_subsetting                                            
⠏ |        1800 | spectra_subsetting                                            
⠙ |        1802 | spectra_subsetting                                            
⠸ |        1804 | spectra_subsetting                                            
⠴ |        1806 | spectra_subsetting                                            
⠧ |        1808 | spectra_subsetting                                            
⠏ |        1810 | spectra_subsetting                                            
⠙ |        1812 | spectra_subsetting                                            
⠸ |        1814 | spectra_subsetting                                            
⠴ |        1816 | spectra_subsetting                                            
⠧ |        1818 | spectra_subsetting                                            
⠏ |        1820 | spectra_subsetting                                            
⠙ |        1822 | spectra_subsetting                                            
⠸ |        1824 | spectra_subsetting                                            
⠴ |        1826 | spectra_subsetting                                            
⠧ |        1828 | spectra_subsetting                                            
⠏ |        1830 | spectra_subsetting                                            
⠙ |        1832 | spectra_subsetting                                            
⠸ |        1834 | spectra_subsetting                                            
⠴ |        1836 | spectra_subsetting                                            
⠧ |        1838 | spectra_subsetting                                            
⠏ |        1840 | spectra_subsetting                                            
⠙ |        1842 | spectra_subsetting                                            
⠸ |        1844 | spectra_subsetting                                            
⠴ |        1846 | spectra_subsetting                                            
⠧ |        1848 | spectra_subsetting                                            
⠏ |        1850 | spectra_subsetting                                            
⠙ |        1852 | spectra_subsetting                                            
⠸ |        1854 | spectra_subsetting                                            
⠴ |        1856 | spectra_subsetting                                            
⠧ |        1858 | spectra_subsetting                                            
⠏ |        1860 | spectra_subsetting                                            
⠙ |        1862 | spectra_subsetting                                            
⠸ |        1864 | spectra_subsetting                                            
⠴ |        1866 | spectra_subsetting                                            
⠇ |        1869 | spectra_subsetting                                            
⠙ |        1872 | spectra_subsetting                                            
⠴ |        1876 | spectra_subsetting                                            
⠏ |        1880 | spectra_subsetting                                            
⠙ |        1882 | spectra_subsetting                                            
⠼ |        1885 | spectra_subsetting                                            
⠧ |        1888 | spectra_subsetting                                            
⠋ |        1891 | spectra_subsetting                                            
⠹ |        1893 | spectra_subsetting                                            
⠼ |        1895 | spectra_subsetting                                            
⠦ |        1897 | spectra_subsetting                                            
⠇ |        1899 | spectra_subsetting                                            
⠋ |        1901 | spectra_subsetting                                            
⠹ |        1903 | spectra_subsetting                                            
⠼ |        1905 | spectra_subsetting                                            
⠦ |        1907 | spectra_subsetting                                            
⠇ |        1909 | spectra_subsetting                                            
⠋ |        1911 | spectra_subsetting                                            
⠹ |        1913 | spectra_subsetting                                            
⠼ |        1915 | spectra_subsetting                                            
⠦ |        1917 | spectra_subsetting                                            
⠇ |        1919 | spectra_subsetting                                            
⠋ |        1921 | spectra_subsetting                                            
⠹ |        1923 | spectra_subsetting                                            
⠼ |        1925 | spectra_subsetting                                            
⠦ |        1927 | spectra_subsetting                                            
⠇ |        1929 | spectra_subsetting                                            
⠋ |        1931 | spectra_subsetting                                            
⠹ |        1933 | spectra_subsetting                                            
⠼ |        1935 | spectra_subsetting                                            
⠦ |        1937 | spectra_subsetting                                            
⠇ |        1939 | spectra_subsetting                                            
⠋ |        1941 | spectra_subsetting                                            
⠹ |        1943 | spectra_subsetting                                            
⠼ |        1945 | spectra_subsetting                                            
⠦ |        1947 | spectra_subsetting                                            
⠇ |        1949 | spectra_subsetting                                            
⠋ |        1951 | spectra_subsetting                                            
⠹ |        1953 | spectra_subsetting                                            
⠼ |        1955 | spectra_subsetting                                            
⠦ |        1957 | spectra_subsetting                                            
⠇ |        1959 | spectra_subsetting                                            
⠋ |        1961 | spectra_subsetting                                            
⠹ |        1963 | spectra_subsetting                                            
⠼ |        1965 | spectra_subsetting                                            
⠦ |        1967 | spectra_subsetting                                            
⠇ |        1969 | spectra_subsetting                                            
⠋ |        1971 | spectra_subsetting                                            
⠹ |        1973 | spectra_subsetting                                            
⠼ |        1975 | spectra_subsetting                                            
⠦ |        1977 | spectra_subsetting                                            
⠇ |        1979 | spectra_subsetting                                            
⠋ |        1981 | spectra_subsetting                                            
⠹ |        1983 | spectra_subsetting                                            
⠼ |        1985 | spectra_subsetting                                            
⠦ |        1987 | spectra_subsetting                                            
⠇ |        1989 | spectra_subsetting                                            
⠋ |        1991 | spectra_subsetting                                            
⠹ |        1993 | spectra_subsetting                                            
⠼ |        1995 | spectra_subsetting                                            
⠦ |        1997 | spectra_subsetting                                            
⠇ |        1999 | spectra_subsetting                                            
⠋ |        2001 | spectra_subsetting                                            
⠹ |        2003 | spectra_subsetting                                            
⠼ |        2005 | spectra_subsetting                                            
⠦ |        2007 | spectra_subsetting                                            
⠇ |        2009 | spectra_subsetting                                            
⠋ |        2011 | spectra_subsetting                                            
⠹ |        2013 | spectra_subsetting                                            
⠼ |        2015 | spectra_subsetting                                            
⠦ |        2017 | spectra_subsetting                                            
⠇ |        2019 | spectra_subsetting                                            
⠋ |        2021 | spectra_subsetting                                            
⠹ |        2023 | spectra_subsetting                                            
⠼ |        2025 | spectra_subsetting                                            
⠦ |        2027 | spectra_subsetting                                            
⠇ |        2029 | spectra_subsetting                                            
⠋ |        2031 | spectra_subsetting                                            
⠹ |        2033 | spectra_subsetting                                            
⠼ |        2035 | spectra_subsetting                                            
⠦ |        2037 | spectra_subsetting                                            
⠇ |        2039 | spectra_subsetting                                            
⠋ |        2041 | spectra_subsetting                                            
⠹ |        2043 | spectra_subsetting                                            
⠼ |        2045 | spectra_subsetting                                            
⠦ |        2047 | spectra_subsetting                                            
⠇ |        2049 | spectra_subsetting                                            
⠋ |        2051 | spectra_subsetting                                            
⠹ |        2053 | spectra_subsetting                                            
⠼ |        2055 | spectra_subsetting                                            
⠦ |        2057 | spectra_subsetting                                            
⠇ |        2059 | spectra_subsetting                                            
⠋ |        2061 | spectra_subsetting                                            
⠹ |        2063 | spectra_subsetting                                            
⠼ |        2065 | spectra_subsetting                                            
⠦ |        2067 | spectra_subsetting                                            
⠇ |        2069 | spectra_subsetting                                            
⠋ |        2071 | spectra_subsetting                                            
⠹ |        2073 | spectra_subsetting                                            
⠼ |        2075 | spectra_subsetting                                            
⠦ |        2077 | spectra_subsetting                                            
⠇ |        2079 | spectra_subsetting                                            
⠋ |        2081 | spectra_subsetting                                            
⠹ |        2083 | spectra_subsetting                                            
⠼ |        2085 | spectra_subsetting                                            
⠦ |        2087 | spectra_subsetting                                            
⠇ |        2089 | spectra_subsetting                                            
⠋ |        2091 | spectra_subsetting                                            
⠹ |        2093 | spectra_subsetting                                            
⠼ |        2095 | spectra_subsetting                                            
⠦ |        2097 | spectra_subsetting                                            
⠇ |        2099 | spectra_subsetting                                            
⠋ |        2101 | spectra_subsetting                                            
⠹ |        2103 | spectra_subsetting                                            
⠼ |        2105 | spectra_subsetting                                            
⠦ |        2107 | spectra_subsetting                                            
⠇ |        2109 | spectra_subsetting                                            
⠋ |        2111 | spectra_subsetting                                            
⠹ |        2113 | spectra_subsetting                                            
⠼ |        2115 | spectra_subsetting                                            
⠦ |        2117 | spectra_subsetting                                            
⠇ |        2119 | spectra_subsetting                                            
⠋ |        2121 | spectra_subsetting                                            
⠹ |        2123 | spectra_subsetting                                            
⠼ |        2125 | spectra_subsetting                                            
⠦ |        2127 | spectra_subsetting                                            
⠇ |        2129 | spectra_subsetting                                            
⠋ |        2131 | spectra_subsetting                                            
⠹ |        2133 | spectra_subsetting                                            
⠼ |        2135 | spectra_subsetting                                            
⠦ |        2137 | spectra_subsetting                                            
⠇ |        2139 | spectra_subsetting                                            
⠋ |        2141 | spectra_subsetting                                            
⠹ |        2143 | spectra_subsetting                                            
⠼ |        2145 | spectra_subsetting                                            
⠦ |        2147 | spectra_subsetting                                            
⠇ |        2149 | spectra_subsetting                                            
⠋ |        2151 | spectra_subsetting                                            
⠹ |        2153 | spectra_subsetting                                            
⠼ |        2155 | spectra_subsetting                                            
⠦ |        2157 | spectra_subsetting                                            
⠇ |        2159 | spectra_subsetting                                            
⠋ |        2161 | spectra_subsetting                                            
⠹ |        2163 | spectra_subsetting                                            
⠼ |        2165 | spectra_subsetting                                            
⠦ |        2167 | spectra_subsetting                                            
⠇ |        2169 | spectra_subsetting                                            
⠋ |        2171 | spectra_subsetting                                            
⠹ |        2173 | spectra_subsetting                                            
⠼ |        2175 | spectra_subsetting                                            
⠦ |        2177 | spectra_subsetting                                            
⠇ |        2179 | spectra_subsetting                                            
⠋ |        2181 | spectra_subsetting                                            
⠹ |        2183 | spectra_subsetting                                            
⠼ |        2185 | spectra_subsetting                                            
⠦ |        2187 | spectra_subsetting                                            
⠇ |        2189 | spectra_subsetting                                            
⠋ |        2191 | spectra_subsetting                                            
⠹ |        2193 | spectra_subsetting                                            
⠼ |        2195 | spectra_subsetting                                            
⠦ |        2197 | spectra_subsetting                                            
⠇ |        2199 | spectra_subsetting                                            
⠋ |        2201 | spectra_subsetting                                            
⠹ |        2203 | spectra_subsetting                                            
⠼ |        2205 | spectra_subsetting                                            
⠦ |        2207 | spectra_subsetting                                            
⠇ |        2209 | spectra_subsetting                                            
⠋ |        2211 | spectra_subsetting                                            
⠹ |        2213 | spectra_subsetting                                            
⠼ |        2215 | spectra_subsetting                                            
⠦ |        2217 | spectra_subsetting                                            
⠇ |        2219 | spectra_subsetting                                            
⠋ |        2221 | spectra_subsetting                                            
⠹ |        2223 | spectra_subsetting                                            
⠼ |        2225 | spectra_subsetting                                            
⠦ |        2227 | spectra_subsetting                                            
⠇ |        2229 | spectra_subsetting                                            
⠋ |        2231 | spectra_subsetting                                            
⠹ |        2233 | spectra_subsetting                                            
⠼ |        2235 | spectra_subsetting                                            
⠦ |        2237 | spectra_subsetting                                            
⠇ |        2239 | spectra_subsetting                                            
⠋ |        2241 | spectra_subsetting                                            
⠹ |        2243 | spectra_subsetting                                            
⠼ |        2245 | spectra_subsetting                                            
⠦ |        2247 | spectra_subsetting                                            
⠇ |        2249 | spectra_subsetting                                            
⠋ |        2251 | spectra_subsetting                                            
⠹ |        2253 | spectra_subsetting                                            
⠼ |        2255 | spectra_subsetting                                            
⠦ |        2257 | spectra_subsetting                                            
⠇ |        2259 | spectra_subsetting                                            
⠋ |        2261 | spectra_subsetting                                            
⠸ |        2264 | spectra_subsetting                                            
⠴ |        2266 | spectra_subsetting                                            
⠧ |        2268 | spectra_subsetting                                            
⠏ |        2270 | spectra_subsetting                                            
⠙ |        2272 | spectra_subsetting                                            
⠸ |        2274 | spectra_subsetting                                            
⠴ |        2276 | spectra_subsetting                                            
⠧ |        2278 | spectra_subsetting                                            
⠏ |        2280 | spectra_subsetting                                            
⠙ |        2282 | spectra_subsetting                                            
⠸ |        2284 | spectra_subsetting                                            
⠴ |        2286 | spectra_subsetting                                            
⠧ |        2288 | spectra_subsetting                                            
⠏ |        2290 | spectra_subsetting                                            
⠙ |        2292 | spectra_subsetting                                            
⠸ |        2294 | spectra_subsetting                                            
⠴ |        2296 | spectra_subsetting                                            
⠧ |        2298 | spectra_subsetting                                            
⠏ |        2300 | spectra_subsetting                                            
⠸ |        2304 | spectra_subsetting                                            
⠋ |        2311 | spectra_subsetting                                            
⠦ |        2317 | spectra_subsetting                                            
✔ |        2317 | spectra_subsetting [53.4s]
⠏ |          0 | spectra_variables                                              
⠙ |         12 | spectra_variables                                              
⠸ |         14 | spectra_variables                                              
⠴ |         16 | spectra_variables                                              
⠦ |         37 | spectra_variables                                              
⠹ |         43 | spectra_variables                                              
⠋ |      1  60 | spectra_variables                                              
✔ |      1  62 | spectra_variables [11.7s]
══ Results ═════════════════════════════════════════════════════════════════════
Duration: 70.9 s
── Skipped tests (1) ───────────────────────────────────────────────────────────
• empty test (1): 'test_spectra_variables.R:262:1'
[ FAIL 0 | WARN 0 | SKIP 1 | PASS 2383 ]
> 
> proc.time()
   user  system elapsed 
 97.244  14.299 117.108 
MsBackendRawFileReader.Rcheck/MsBackendRawFileReader-Ex.timings
| name | user | system | elapsed | |
| MsBackendRawFileReader-class | 4.325 | 1.476 | 6.644 | |
| MsBackendRawFileReader | 6.401 | 3.196 | 10.778 | |
| hidden_aliases | 3.031 | 1.425 | 4.870 | |
| ioBenchmark | 42.782 | 10.591 | 23.878 | |