| Back to Multiple platform build/check report for BioC 3.19: simplified long | 
  | 
This page was generated on 2024-05-09 11:41:09 -0400 (Thu, 09 May 2024).
| Hostname | OS | Arch (*) | R version | Installed pkgs | 
|---|---|---|---|---|
| nebbiolo1 | Linux (Ubuntu 22.04.3 LTS) | x86_64 | 4.4.0 (2024-04-24) -- "Puppy Cup" | 4748 | 
| palomino3 | Windows Server 2022 Datacenter | x64 | 4.4.0 (2024-04-24 ucrt) -- "Puppy Cup" | 4484 | 
| lconway | macOS 12.7.1 Monterey | x86_64 | 4.4.0 (2024-04-24) -- "Puppy Cup" | 4514 | 
| kunpeng2 | Linux (openEuler 22.03 LTS-SP1) | aarch64 | 4.4.0 beta (2024-04-15 r86425) -- "Puppy Cup" | 4480 | 
| Click on any hostname to see more info about the system (e.g. compilers) (*) as reported by 'uname -p', except on Windows and Mac OS X | ||||
| Package 1363/2300 | Hostname | OS / Arch | INSTALL | BUILD | CHECK | BUILD BIN | ||||||||
| MSstatsLiP 1.10.0  (landing page) Devon Kohler 
  | nebbiolo1 | Linux (Ubuntu 22.04.3 LTS) / x86_64 | OK | OK | OK | |||||||||
| palomino3 | Windows Server 2022 Datacenter / x64 | OK | OK | OK | OK | |||||||||
| lconway | macOS 12.7.1 Monterey / x86_64 | OK | OK | OK | OK | |||||||||
| kunpeng2 | Linux (openEuler 22.03 LTS-SP1) / aarch64 | OK | OK | OK | ||||||||||
| kjohnson3 | macOS 13.6.5 Ventura / arm64 | see weekly results here | ||||||||||||
| 
To the developers/maintainers of the MSstatsLiP package: - Allow up to 24 hours (and sometimes 48 hours) for your latest push to git@git.bioconductor.org:packages/MSstatsLiP.git to reflect on this report. See Troubleshooting Build Report for more information. - Use the following Renviron settings to reproduce errors and warnings. - If 'R CMD check' started to fail recently on the Linux builder(s) over a missing dependency, add the missing dependency to 'Suggests:' in your DESCRIPTION file. See Renviron.bioc for more information. - See Martin Grigorov's blog post for how to debug Linux ARM64 related issues on a x86_64 host.  | 
| Package: MSstatsLiP | 
| Version: 1.10.0 | 
| Command: /home/biocbuild/R/R-beta-2024-04-15_r86425/bin/R CMD check --install=check:MSstatsLiP.install-out.txt --library=/home/biocbuild/R/R-beta-2024-04-15_r86425/site-library --no-vignettes --timings MSstatsLiP_1.10.0.tar.gz | 
| StartedAt: 2024-05-09 09:50:05 -0000 (Thu, 09 May 2024) | 
| EndedAt: 2024-05-09 09:54:35 -0000 (Thu, 09 May 2024) | 
| EllapsedTime: 269.4 seconds | 
| RetCode: 0 | 
| Status: OK | 
| CheckDir: MSstatsLiP.Rcheck | 
| Warnings: 0 | 
##############################################################################
##############################################################################
###
### Running command:
###
###   /home/biocbuild/R/R-beta-2024-04-15_r86425/bin/R CMD check --install=check:MSstatsLiP.install-out.txt --library=/home/biocbuild/R/R-beta-2024-04-15_r86425/site-library --no-vignettes --timings MSstatsLiP_1.10.0.tar.gz
###
##############################################################################
##############################################################################
* using log directory ‘/home/biocbuild/bbs-3.19-bioc/meat/MSstatsLiP.Rcheck’
* using R version 4.4.0 beta (2024-04-15 r86425)
* using platform: aarch64-unknown-linux-gnu
* R was compiled by
    gcc (GCC) 10.3.1
    GNU Fortran (GCC) 10.3.1
* running under: openEuler 22.03 (LTS-SP1)
* using session charset: UTF-8
* using option ‘--no-vignettes’
* checking for file ‘MSstatsLiP/DESCRIPTION’ ... OK
* checking extension type ... Package
* this is package ‘MSstatsLiP’ version ‘1.10.0’
* package encoding: UTF-8
* checking package namespace information ... OK
* checking package dependencies ... OK
* checking if this is a source package ... OK
* checking if there is a namespace ... OK
* checking for hidden files and directories ... OK
* checking for portable file names ... OK
* checking for sufficient/correct file permissions ... OK
* checking whether package ‘MSstatsLiP’ can be installed ... OK
* used C++ compiler: ‘g++ (GCC) 10.3.1’
* checking installed package size ... OK
* checking package directory ... OK
* checking ‘build’ directory ... OK
* checking DESCRIPTION meta-information ... OK
* checking top-level files ... OK
* checking for left-over files ... OK
* checking index information ... OK
* checking package subdirectories ... OK
* checking code files for non-ASCII characters ... OK
* checking R files for syntax errors ... OK
* checking whether the package can be loaded ... OK
* checking whether the package can be loaded with stated dependencies ... OK
* checking whether the package can be unloaded cleanly ... OK
* checking whether the namespace can be loaded with stated dependencies ... OK
* checking whether the namespace can be unloaded cleanly ... OK
* checking loading without being on the library search path ... OK
* checking dependencies in R code ... OK
* checking S3 generic/method consistency ... OK
* checking replacement functions ... OK
* checking foreign function calls ... OK
* checking R code for possible problems ... NOTE
ResistanceBarcodePlotLiP: no visible binding for global variable
  ‘GROUP’
ResistanceBarcodePlotLiP: no visible binding for global variable
  ‘Protein’
ResistanceBarcodePlotLiP: no visible binding for global variable
  ‘uniprot_iso’
ResistanceBarcodePlotLiP: no visible binding for global variable
  ‘PeptideSequence’
ResistanceBarcodePlotLiP: no visible binding for global variable
  ‘Accessibility_ratio’
ResistanceBarcodePlotLiP: no visible binding for global variable
  ‘Index’
ResistanceBarcodePlotLiP: no visible binding for global variable
  ‘Label’
ResistanceBarcodePlotLiP: no visible binding for global variable ‘sig’
ResistanceBarcodePlotLiP: no visible binding for global variable
  ‘Coverage’
StructuralBarcodePlotLiP: no visible binding for global variable
  ‘NSEMI_TRI’
StructuralBarcodePlotLiP: no visible binding for global variable
  ‘CSEMI_TRI’
calculateProteolyticResistance: no visible binding for global variable
  ‘LogIntensities’
calculateProteolyticResistance: no visible binding for global variable
  ‘Protein.y’
Undefined global functions or variables:
  Accessibility_ratio CSEMI_TRI Coverage GROUP Index Label
  LogIntensities NSEMI_TRI PeptideSequence Protein Protein.y sig
  uniprot_iso
* checking Rd files ... OK
* checking Rd metadata ... OK
* checking Rd cross-references ... OK
* checking for missing documentation entries ... OK
* checking for code/documentation mismatches ... OK
* checking Rd \usage sections ... OK
* checking Rd contents ... OK
* checking for unstated dependencies in examples ... OK
* checking contents of ‘data’ directory ... OK
* checking data for non-ASCII characters ... OK
* checking LazyData ... OK
* checking data for ASCII and uncompressed saves ... OK
* checking line endings in C/C++/Fortran sources/headers ... OK
* checking compiled code ... NOTE
Note: information on .o files is not available
* checking files in ‘vignettes’ ... OK
* checking examples ... OK
Examples with CPU (user + system) or elapsed time > 5s
                           user system elapsed
dataProcessPlotsLiP      30.683  0.287  31.039
StructuralBarcodePlotLiP  4.987  0.096   5.098
* checking for unstated dependencies in ‘tests’ ... OK
* checking tests ...
  Running ‘tinytest.R’
 OK
* checking for unstated dependencies in vignettes ... OK
* checking package vignettes ... OK
* checking running R code from vignettes ... SKIPPED
* checking re-building of vignette outputs ... SKIPPED
* checking PDF version of manual ... OK
* DONE
Status: 2 NOTEs
See
  ‘/home/biocbuild/bbs-3.19-bioc/meat/MSstatsLiP.Rcheck/00check.log’
for details.
MSstatsLiP.Rcheck/00install.out
############################################################################## ############################################################################## ### ### Running command: ### ### /home/biocbuild/R/R-beta-2024-04-15_r86425/bin/R CMD INSTALL MSstatsLiP ### ############################################################################## ############################################################################## * installing to library ‘/home/biocbuild/R/R-beta-2024-04-15_r86425/site-library’ * installing *source* package ‘MSstatsLiP’ ... ** using staged installation ** libs using C++ compiler: ‘g++ (GCC) 10.3.1’ g++ -std=gnu++17 -I"/home/biocbuild/R/R-beta-2024-04-15_r86425/include" -DNDEBUG -I'/home/biocbuild/R/R-beta-2024-04-15_r86425/site-library/Rcpp/include' -I/usr/local/include -fPIC -g -O2 -Wall -c RcppExports.cpp -o RcppExports.o g++ -std=gnu++17 -I"/home/biocbuild/R/R-beta-2024-04-15_r86425/include" -DNDEBUG -I'/home/biocbuild/R/R-beta-2024-04-15_r86425/site-library/Rcpp/include' -I/usr/local/include -fPIC -g -O2 -Wall -c model_adjustment.cpp -o model_adjustment.o g++ -std=gnu++17 -shared -L/home/biocbuild/R/R-beta-2024-04-15_r86425/lib -L/usr/local/lib -o MSstatsLiP.so RcppExports.o model_adjustment.o -L/home/biocbuild/R/R-beta-2024-04-15_r86425/lib -lR installing to /home/biocbuild/R/R-beta-2024-04-15_r86425/site-library/00LOCK-MSstatsLiP/00new/MSstatsLiP/libs ** R ** data *** moving datasets to lazyload DB ** inst ** byte-compile and prepare package for lazy loading ** help *** installing help indices ** building package indices ** installing vignettes ** testing if installed package can be loaded from temporary location ** checking absolute paths in shared objects and dynamic libraries ** testing if installed package can be loaded from final location ** testing if installed package keeps a record of temporary installation path * DONE (MSstatsLiP)
MSstatsLiP.Rcheck/tests/tinytest.Rout
R version 4.4.0 beta (2024-04-15 r86425) -- "Puppy Cup"
Copyright (C) 2024 The R Foundation for Statistical Computing
Platform: aarch64-unknown-linux-gnu
R is free software and comes with ABSOLUTELY NO WARRANTY.
You are welcome to redistribute it under certain conditions.
Type 'license()' or 'licence()' for distribution details.
R is a collaborative project with many contributors.
Type 'contributors()' for more information and
'citation()' on how to cite R or R packages in publications.
Type 'demo()' for some demos, 'help()' for on-line help, or
'help.start()' for an HTML browser interface to help.
Type 'q()' to quit R.
> 
> if ( requireNamespace("tinytest", quietly=TRUE) ){
+   tinytest::test_package("MSstatsLiP")
+ }
test_SkylinetoMSstatsLiPFormat.R    0 tests    FUNCTION DEPRECATION NOTICE: We would like to notify you that the SkylinetoMSstatsFormat function currently available in both MSstats and MSstatsConvert, will undergo a transition process. Starting from release 3.21 the SkylinetoMSstatsFormat function in MSstats will be deprecated. Please take the necessary steps to update your codebase and migrate to MSstatsConvert::SkylinetoMSstatsFormat before release 3.21 to avoid any disruptions to your workflow.
FUNCTION DEPRECATION NOTICE: We would like to notify you that the SkylinetoMSstatsFormat function currently available in both MSstats and MSstatsConvert, will undergo a transition process. Starting from release 3.21 the SkylinetoMSstatsFormat function in MSstats will be deprecated. Please take the necessary steps to update your codebase and migrate to MSstatsConvert::SkylinetoMSstatsFormat before release 3.21 to avoid any disruptions to your workflow.
test_SkylinetoMSstatsLiPFormat.R    1 tests [0;32mOK[0m FUNCTION DEPRECATION NOTICE: We would like to notify you that the SkylinetoMSstatsFormat function currently available in both MSstats and MSstatsConvert, will undergo a transition process. Starting from release 3.21 the SkylinetoMSstatsFormat function in MSstats will be deprecated. Please take the necessary steps to update your codebase and migrate to MSstatsConvert::SkylinetoMSstatsFormat before release 3.21 to avoid any disruptions to your workflow.
test_SkylinetoMSstatsLiPFormat.R    2 tests [0;32mOK[0m INFO  [2024-05-09 09:53:38] ** Raw data from Skyline imported successfully.
INFO  [2024-05-09 09:53:38] ** Raw data from Skyline cleaned successfully.
test_SkylinetoMSstatsLiPFormat.R    3 tests [0;32mOK[0m INFO  [2024-05-09 09:53:38] ** Raw data from Skyline imported successfully.
INFO  [2024-05-09 09:53:38] ** Raw data from Skyline cleaned successfully.
INFO  [2024-05-09 09:53:38] ** Using annotation extracted from quantification data.
test_SkylinetoMSstatsLiPFormat.R    4 tests [0;32mOK[0m INFO  [2024-05-09 09:53:38] ** Raw data from Skyline imported successfully.
INFO  [2024-05-09 09:53:38] ** Raw data from Skyline cleaned successfully.
INFO  [2024-05-09 09:53:38] ** Using annotation extracted from quantification data.
test_SkylinetoMSstatsLiPFormat.R    5 tests [0;32mOK[0m INFO  [2024-05-09 09:53:38] ** Raw data from Skyline imported successfully.
INFO  [2024-05-09 09:53:38] ** Raw data from Skyline cleaned successfully.
INFO  [2024-05-09 09:53:38] ** Using annotation extracted from quantification data.
test_SkylinetoMSstatsLiPFormat.R    6 tests [0;32mOK[0m INFO  [2024-05-09 09:53:38] ** Raw data from Skyline imported successfully.
INFO  [2024-05-09 09:53:38] ** Raw data from Skyline cleaned successfully.
INFO  [2024-05-09 09:53:38] ** Using annotation extracted from quantification data.
test_SkylinetoMSstatsLiPFormat.R    7 tests [0;32mOK[0m INFO  [2024-05-09 09:53:38] ** Raw data from Skyline imported successfully.
INFO  [2024-05-09 09:53:38] ** Raw data from Skyline cleaned successfully.
INFO  [2024-05-09 09:53:38] ** Using annotation extracted from quantification data.
test_SkylinetoMSstatsLiPFormat.R    8 tests [0;32mOK[0m INFO  [2024-05-09 09:53:38] ** Raw data from Skyline imported successfully.
INFO  [2024-05-09 09:53:38] ** Raw data from Skyline cleaned successfully.
INFO  [2024-05-09 09:53:38] ** Using annotation extracted from quantification data.
test_SkylinetoMSstatsLiPFormat.R    9 tests [0;32mOK[0m INFO  [2024-05-09 09:53:38] ** Raw data from Skyline imported successfully.
INFO  [2024-05-09 09:53:38] ** Raw data from Skyline cleaned successfully.
INFO  [2024-05-09 09:53:38] ** Using annotation extracted from quantification data.
test_SkylinetoMSstatsLiPFormat.R   10 tests [0;32mOK[0m [0;34m0.7s[0m
test_SpectronauttoMSstatsLiPFormat.R    0 tests    
test_SpectronauttoMSstatsLiPFormat.R    0 tests    FUNCTION DEPRECATION NOTICE: We would like to notify you that the SpectronauttoMSstatsFormat function currently available in both MSstats and MSstatsConvert, will undergo a transition process. Starting from release 3.21 the SpectronauttoMSstatsFormat function in MSstats will be deprecated. Please take the necessary steps to update your codebase and migrate to MSstatsConvert::SpectronauttoMSstatsFormat before release 3.21 to avoid any disruptions to your workflow.
FUNCTION DEPRECATION NOTICE: We would like to notify you that the SpectronauttoMSstatsFormat function currently available in both MSstats and MSstatsConvert, will undergo a transition process. Starting from release 3.21 the SpectronauttoMSstatsFormat function in MSstats will be deprecated. Please take the necessary steps to update your codebase and migrate to MSstatsConvert::SpectronauttoMSstatsFormat before release 3.21 to avoid any disruptions to your workflow.
test_SpectronauttoMSstatsLiPFormat.R    1 tests [0;32mOK[0m FUNCTION DEPRECATION NOTICE: We would like to notify you that the SpectronauttoMSstatsFormat function currently available in both MSstats and MSstatsConvert, will undergo a transition process. Starting from release 3.21 the SpectronauttoMSstatsFormat function in MSstats will be deprecated. Please take the necessary steps to update your codebase and migrate to MSstatsConvert::SpectronauttoMSstatsFormat before release 3.21 to avoid any disruptions to your workflow.
test_SpectronauttoMSstatsLiPFormat.R    2 tests [0;32mOK[0m INFO  [2024-05-09 09:53:39] ** Raw data from Spectronaut imported successfully.
INFO  [2024-05-09 09:53:39] ** Raw data from Spectronaut cleaned successfully.
INFO  [2024-05-09 09:53:39] ** Using annotation extracted from quantification data.
INFO  [2024-05-09 09:53:39] ** Run labels were standardized to remove symbols such as '.' or '%'.
INFO  [2024-05-09 09:53:39] ** The following options are used:
  - Features will be defined by the columns: PeptideSequence, PrecursorCharge, FragmentIon, ProductCharge
  - Shared peptides will be removed.
  - Proteins with single feature will not be removed.
  - Features with less than 3 measurements across runs will be removed.
WARN  [2024-05-09 09:53:39] ** PGQvalue not found in input columns.
INFO  [2024-05-09 09:53:39] ** Intensities with values not smaller than 0.01 in EGQvalue are replaced with 0
INFO  [2024-05-09 09:53:39] ** Features with all missing measurements across runs are removed.
INFO  [2024-05-09 09:53:39] ** Shared peptides are removed.
INFO  [2024-05-09 09:53:39] ** Multiple measurements in a feature and a run are summarized by summaryforMultipleRows: max
INFO  [2024-05-09 09:53:39] ** Features with one or two measurements across runs are removed.
INFO  [2024-05-09 09:53:39] ** Run annotation merged with quantification data.
INFO  [2024-05-09 09:53:39] ** Features with one or two measurements across runs are removed.
INFO  [2024-05-09 09:53:39] ** Fractionation handled.
INFO  [2024-05-09 09:53:39] ** Updated quantification data to make balanced design. Missing values are marked by NA
INFO  [2024-05-09 09:53:39] ** Finished preprocessing. The dataset is ready to be processed by the dataProcess function.
FUNCTION DEPRECATION NOTICE: We would like to notify you that the SpectronauttoMSstatsFormat function currently available in both MSstats and MSstatsConvert, will undergo a transition process. Starting from release 3.21 the SpectronauttoMSstatsFormat function in MSstats will be deprecated. Please take the necessary steps to update your codebase and migrate to MSstatsConvert::SpectronauttoMSstatsFormat before release 3.21 to avoid any disruptions to your workflow.
test_SpectronauttoMSstatsLiPFormat.R    3 tests [0;32mOK[0m 
test_SpectronauttoMSstatsLiPFormat.R    4 tests [0;32mOK[0m 
test_SpectronauttoMSstatsLiPFormat.R    5 tests [0;32mOK[0m 
test_SpectronauttoMSstatsLiPFormat.R    6 tests [0;32mOK[0m INFO  [2024-05-09 09:53:39] ** Raw data from Spectronaut imported successfully.
INFO  [2024-05-09 09:53:39] ** Raw data from Spectronaut cleaned successfully.
INFO  [2024-05-09 09:53:39] ** Using annotation extracted from quantification data.
INFO  [2024-05-09 09:53:40] ** Run labels were standardized to remove symbols such as '.' or '%'.
test_SpectronauttoMSstatsLiPFormat.R    7 tests [0;32mOK[0m 
test_SpectronauttoMSstatsLiPFormat.R    8 tests [0;32mOK[0m 
test_SpectronauttoMSstatsLiPFormat.R    9 tests [0;32mOK[0m [0;34m1.2s[0m
test_dataProcessPlotsLiP.R....    0 tests    
test_dataProcessPlotsLiP.R....    1 tests [0;32mOK[0m 
test_dataProcessPlotsLiP.R....    2 tests [0;32mOK[0m 
test_dataProcessPlotsLiP.R....    3 tests [0;32mOK[0m 
test_dataProcessPlotsLiP.R....    4 tests [0;32mOK[0m 
test_dataProcessPlotsLiP.R....    5 tests [0;32mOK[0m 
test_dataProcessPlotsLiP.R....    6 tests [0;32mOK[0m 
test_dataProcessPlotsLiP.R....    7 tests [0;32mOK[0m 
test_dataProcessPlotsLiP.R....    8 tests [0;32mOK[0m 
test_dataProcessPlotsLiP.R....    9 tests [0;32mOK[0m 
test_dataProcessPlotsLiP.R....   10 tests [0;32mOK[0m Drew the Profile plot for P14164_ILQNDLK (1 of 14)
Drew the Profile plot for P17891_ALQLINQDDADIIGGRDR (2 of 14)
Drew the Profile plot for P17891_DDDTDFLK (3 of 14)
Drew the Profile plot for P36112_SNDLLSGLTGSSQTR (4 of 14)
Drew the Profile plot for P38805_LGQTVGR (5 of 14)
Drew the Profile plot for P46959_DIIGKPYGSQIAIR (6 of 14)
Drew the Profile plot for P52893_SSSQGVEGIRK (7 of 14)
Drew the Profile plot for P52911_TWITEDDFEQIK (8 of 14)
Drew the Profile plot for P53235_ERQAVGDKLEDTQVLK (9 of 14)
Drew the Profile plot for P53858_FLDNHEVDSIVSLER (10 of 14)
Drew the Profile plot for Q02908_ISVISGVGVR (11 of 14)
Drew the Profile plot for Q12248_EFQSVSDLWK (12 of 14)
Drew the Profile plot for P16622_SHLQSNQLYSNQLPLDFALGK (13 of 14)
Drew the Profile plot for P24004_FIGASEQNIR (14 of 14)
Drew the Profile plot for  P14164_ILQNDLK ( 1  of  14 )
Drew the Profile plot for  P17891_ALQLINQDDADIIGGRDR ( 2  of  14 )
Drew the Profile plot for  P17891_DDDTDFLK ( 3  of  14 )
Drew the Profile plot for  P36112_SNDLLSGLTGSSQTR ( 4  of  14 )
Drew the Profile plot for  P38805_LGQTVGR ( 5  of  14 )
Drew the Profile plot for  P46959_DIIGKPYGSQIAIR ( 6  of  14 )
Drew the Profile plot for  P52893_SSSQGVEGIRK ( 7  of  14 )
Drew the Profile plot for  P52911_TWITEDDFEQIK ( 8  of  14 )
Drew the Profile plot for  P53235_ERQAVGDKLEDTQVLK ( 9  of  14 )
Drew the Profile plot for  P53858_FLDNHEVDSIVSLER ( 10  of  14 )
Drew the Profile plot for  Q02908_ISVISGVGVR ( 11  of  14 )
Drew the Profile plot for  Q12248_EFQSVSDLWK ( 12  of  14 )
Drew the Profile plot for  P16622_SHLQSNQLYSNQLPLDFALGK ( 13  of  14 )
Drew the Profile plot for  P24004_FIGASEQNIR ( 14  of  14 )
test_dataProcessPlotsLiP.R....   11 tests [0;32mOK[0m Drew the Quality Contol plot(boxplot) for all ptms/proteins.
Drew the Quality Contol plot(boxplot) for P14164_ILQNDLK (1 of 14)
Drew the Quality Contol plot(boxplot) for P17891_ALQLINQDDADIIGGRDR (2 of 14)
Drew the Quality Contol plot(boxplot) for P17891_DDDTDFLK (3 of 14)
Drew the Quality Contol plot(boxplot) for P36112_SNDLLSGLTGSSQTR (4 of 14)
Drew the Quality Contol plot(boxplot) for P38805_LGQTVGR (5 of 14)
Drew the Quality Contol plot(boxplot) for P46959_DIIGKPYGSQIAIR (6 of 14)
Drew the Quality Contol plot(boxplot) for P52893_SSSQGVEGIRK (7 of 14)
Drew the Quality Contol plot(boxplot) for P52911_TWITEDDFEQIK (8 of 14)
Drew the Quality Contol plot(boxplot) for P53235_ERQAVGDKLEDTQVLK (9 of 14)
Drew the Quality Contol plot(boxplot) for P53858_FLDNHEVDSIVSLER (10 of 14)
Drew the Quality Contol plot(boxplot) for Q02908_ISVISGVGVR (11 of 14)
Drew the Quality Contol plot(boxplot) for Q12248_EFQSVSDLWK (12 of 14)
Drew the Quality Contol plot(boxplot) for P16622_SHLQSNQLYSNQLPLDFALGK (13 of 14)
Drew the Quality Contol plot(boxplot) for P24004_FIGASEQNIR (14 of 14)
test_dataProcessPlotsLiP.R....   12 tests [0;32mOK[0m [0;34m32.5s[0m
test_dataSummarizationLiP.R...    0 tests    
test_dataSummarizationLiP.R...    0 tests    
test_dataSummarizationLiP.R...    1 tests [0;32mOK[0m 
test_dataSummarizationLiP.R...    2 tests [0;32mOK[0m 
test_dataSummarizationLiP.R...    3 tests [0;32mOK[0m 
test_dataSummarizationLiP.R...    4 tests [0;32mOK[0m 
test_dataSummarizationLiP.R...    5 tests [0;32mOK[0m 
test_dataSummarizationLiP.R...    6 tests [0;32mOK[0m 
test_dataSummarizationLiP.R...    7 tests [0;32mOK[0m 
test_dataSummarizationLiP.R...    8 tests [0;32mOK[0m 
test_dataSummarizationLiP.R...    9 tests [0;32mOK[0m 
test_dataSummarizationLiP.R...   10 tests [0;32mOK[0m 
test_dataSummarizationLiP.R...   11 tests [0;32mOK[0m 
test_dataSummarizationLiP.R...   12 tests [0;32mOK[0m 
test_dataSummarizationLiP.R...   13 tests [0;32mOK[0m 
test_dataSummarizationLiP.R...   14 tests [0;32mOK[0m 
test_dataSummarizationLiP.R...   15 tests [0;32mOK[0m 
test_dataSummarizationLiP.R...   16 tests [0;32mOK[0m 
test_dataSummarizationLiP.R...   17 tests [0;32mOK[0m 
test_dataSummarizationLiP.R...   18 tests [0;32mOK[0m 
test_dataSummarizationLiP.R...   19 tests [0;32mOK[0m 
test_dataSummarizationLiP.R...   20 tests [0;32mOK[0m 
test_dataSummarizationLiP.R...   21 tests [0;32mOK[0m 
test_dataSummarizationLiP.R...   22 tests [0;32mOK[0m 
test_dataSummarizationLiP.R...   23 tests [0;32mOK[0m 
test_dataSummarizationLiP.R...   24 tests [0;32mOK[0m 
test_dataSummarizationLiP.R...   25 tests [0;32mOK[0m 
test_dataSummarizationLiP.R...   26 tests [0;32mOK[0m 
test_dataSummarizationLiP.R...   27 tests [0;32mOK[0m 
test_dataSummarizationLiP.R...   28 tests [0;32mOK[0m Starting PTM summarization...
test_dataSummarizationLiP.R...   29 tests [0;32mOK[0m [0;34m0.2s[0m
test_groupComparisonLiP.R.....    0 tests    
test_groupComparisonLiP.R.....    0 tests    
test_groupComparisonLiP.R.....    1 tests [0;32mOK[0m 
test_groupComparisonLiP.R.....    2 tests [0;32mOK[0m Starting PTM modeling...
test_groupComparisonLiP.R.....    3 tests [0;32mOK[0m Starting PTM modeling...
INFO  [2024-05-09 09:54:13]  == Start to test and get inference in whole plot ...
  |                                                                            
  |                                                                      |   0%
  |                                                                            
  |=====                                                                 |   7%
  |                                                                            
  |==========                                                            |  14%
  |                                                                            
  |===============                                                       |  21%
  |                                                                            
  |====================                                                  |  29%
  |                                                                            
  |=========================                                             |  36%
  |                                                                            
  |==============================                                        |  43%
  |                                                                            
  |===================================                                   |  50%
  |                                                                            
  |========================================                              |  57%
  |                                                                            
  |=============================================                         |  64%
  |                                                                            
  |==================================================                    |  71%
  |                                                                            
  |=======================================================               |  79%
  |                                                                            
  |============================================================          |  86%
  |                                                                            
  |=================================================================     |  93%
  |                                                                            
  |======================================================================| 100%
INFO  [2024-05-09 09:54:13]  == Comparisons for all proteins are done.
Starting Protein modeling...
INFO  [2024-05-09 09:54:13]  == Start to test and get inference in whole plot ...
  |                                                                            
  |                                                                      |   0%
  |                                                                            
  |=====                                                                 |   8%
  |                                                                            
  |===========                                                           |  15%
  |                                                                            
  |================                                                      |  23%
  |                                                                            
  |======================                                                |  31%
  |                                                                            
  |===========================                                           |  38%
  |                                                                            
  |================================                                      |  46%
  |                                                                            
  |======================================                                |  54%
  |                                                                            
  |===========================================                           |  62%
  |                                                                            
  |================================================                      |  69%
  |                                                                            
  |======================================================                |  77%
  |                                                                            
  |===========================================================           |  85%
  |                                                                            
  |=================================================================     |  92%
  |                                                                            
  |======================================================================| 100%
INFO  [2024-05-09 09:54:13]  == Comparisons for all proteins are done.
Starting adjustment...
test_groupComparisonLiP.R.....    3 tests [0;32mOK[0m 
test_groupComparisonLiP.R.....    4 tests [0;32mOK[0m 
test_groupComparisonLiP.R.....    5 tests [0;32mOK[0m 
test_groupComparisonLiP.R.....    6 tests [0;32mOK[0m 
test_groupComparisonLiP.R.....    7 tests [0;32mOK[0m 
test_groupComparisonLiP.R.....    8 tests [0;32mOK[0m 
test_groupComparisonLiP.R.....    9 tests [0;32mOK[0m 
test_groupComparisonLiP.R.....   10 tests [0;32mOK[0m [0;34m0.8s[0m
test_groupComparisonPlotsLiP.R    0 tests    
test_groupComparisonPlotsLiP.R    1 tests [0;32mOK[0m 
test_groupComparisonPlotsLiP.R    2 tests [0;32mOK[0m 
test_groupComparisonPlotsLiP.R    3 tests [0;32mOK[0m 
test_groupComparisonPlotsLiP.R    4 tests [0;32mOK[0m 
test_groupComparisonPlotsLiP.R    5 tests [0;32mOK[0m 
test_groupComparisonPlotsLiP.R    6 tests [0;32mOK[0m 
test_groupComparisonPlotsLiP.R    7 tests [0;32mOK[0m 
test_groupComparisonPlotsLiP.R    8 tests [0;32mOK[0m 
test_groupComparisonPlotsLiP.R    9 tests [0;32mOK[0m 
test_groupComparisonPlotsLiP.R   10 tests [0;32mOK[0m 
test_groupComparisonPlotsLiP.R   11 tests [0;32mOK[0m 
test_groupComparisonPlotsLiP.R   12 tests [0;32mOK[0m 
test_groupComparisonPlotsLiP.R   13 tests [0;32mOK[0m 
test_groupComparisonPlotsLiP.R   14 tests [0;32mOK[0m 
test_groupComparisonPlotsLiP.R   15 tests [0;32mOK[0m 
test_groupComparisonPlotsLiP.R   16 tests [0;32mOK[0m [0;34m6.2s[0m
test_trypticHistogramLiP.R....    0 tests    
test_trypticHistogramLiP.R....    0 tests    
test_trypticHistogramLiP.R....    0 tests    
test_trypticHistogramLiP.R....    1 tests [0;32mOK[0m 
test_trypticHistogramLiP.R....    2 tests [0;32mOK[0m 
test_trypticHistogramLiP.R....    3 tests [0;32mOK[0m 
test_trypticHistogramLiP.R....    4 tests [0;32mOK[0m 
test_trypticHistogramLiP.R....    5 tests [0;32mOK[0m 
test_trypticHistogramLiP.R....    6 tests [0;32mOK[0m 
test_trypticHistogramLiP.R....    7 tests [0;32mOK[0m 
test_trypticHistogramLiP.R....    8 tests [0;32mOK[0m 
test_trypticHistogramLiP.R....    9 tests [0;32mOK[0m 
test_trypticHistogramLiP.R....   10 tests [0;32mOK[0m 
test_trypticHistogramLiP.R....   11 tests [0;32mOK[0m 
test_trypticHistogramLiP.R....   12 tests [0;32mOK[0m 
test_trypticHistogramLiP.R....   13 tests [0;32mOK[0m 
test_trypticHistogramLiP.R....   14 tests [0;32mOK[0m 
test_trypticHistogramLiP.R....   15 tests [0;32mOK[0m 
test_trypticHistogramLiP.R....   16 tests [0;32mOK[0m 
test_trypticHistogramLiP.R....   17 tests [0;32mOK[0m 
test_trypticHistogramLiP.R....   18 tests [0;32mOK[0m 
test_trypticHistogramLiP.R....   19 tests [0;32mOK[0m 
test_trypticHistogramLiP.R....   20 tests [0;32mOK[0m 
test_trypticHistogramLiP.R....   21 tests [0;32mOK[0m 
test_trypticHistogramLiP.R....   22 tests [0;32mOK[0m 
test_trypticHistogramLiP.R....   23 tests [0;32mOK[0m 
test_trypticHistogramLiP.R....   24 tests [0;32mOK[0m 
test_trypticHistogramLiP.R....   25 tests [0;32mOK[0m [0;34m11.9s[0m
All ok, 111 results (53.5s)
Warning message:
In max(datafeature.ptm$ABUNDANCE, na.rm = TRUE) :
  no non-missing arguments to max; returning -Inf
> 
> proc.time()
   user  system elapsed 
 59.891   1.412  61.408 
MSstatsLiP.Rcheck/MSstatsLiP-Ex.timings
| name | user | system | elapsed | |
| DIANNtoMSstatsLiPFormat | 0.05 | 0.00 | 0.05 | |
| LiPRawData | 0.012 | 0.000 | 0.012 | |
| MSstatsLiP_Summarized | 0.02 | 0.00 | 0.02 | |
| MSstatsLiP_data | 0.006 | 0.004 | 0.010 | |
| MSstatsLiP_model | 0.02 | 0.00 | 0.02 | |
| PCAPlotLiP | 2.338 | 0.076 | 2.419 | |
| ResistanceBarcodePlotLiP | 0.001 | 0.000 | 0.001 | |
| SkylineTest | 0.008 | 0.000 | 0.008 | |
| SkylinetoMSstatsLiPFormat | 0.01 | 0.00 | 0.01 | |
| SpectronauttoMSstatsLiPFormat | 0.885 | 0.036 | 0.918 | |
| StructuralBarcodePlotLiP | 4.987 | 0.096 | 5.098 | |
| TrPRawData | 0.011 | 0.000 | 0.011 | |
| annotSite | 0.001 | 0.000 | 0.001 | |
| calculateProteolyticResistance | 0.011 | 0.000 | 0.011 | |
| calculateTrypticity | 0.02 | 0.00 | 0.02 | |
| correlationPlotLiP | 0.360 | 0.012 | 0.372 | |
| dataProcessPlotsLiP | 30.683 | 0.287 | 31.039 | |
| dataSummarizationLiP | 1.290 | 0.048 | 1.339 | |
| groupComparisonLiP | 0.509 | 0.000 | 0.510 | |
| groupComparisonPlotsLiP | 2.147 | 0.040 | 2.192 | |
| locateMod | 0 | 0 | 0 | |
| locatePTM | 0.081 | 0.000 | 0.081 | |
| raw_lip | 0.069 | 0.008 | 0.077 | |
| raw_prot | 0.08 | 0.00 | 0.08 | |
| tidyFasta | 0.035 | 0.000 | 0.035 | |
| trypticHistogramLiP | 0.385 | 0.000 | 0.387 | |