| Back to Multiple platform build/check report for BioC 3.19: simplified long |
|
This page was generated on 2024-06-28 17:41 -0400 (Fri, 28 Jun 2024).
| Hostname | OS | Arch (*) | R version | Installed pkgs |
|---|---|---|---|---|
| nebbiolo1 | Linux (Ubuntu 22.04.3 LTS) | x86_64 | 4.4.0 (2024-04-24) -- "Puppy Cup" | 4760 |
| palomino3 | Windows Server 2022 Datacenter | x64 | 4.4.0 (2024-04-24 ucrt) -- "Puppy Cup" | 4494 |
| merida1 | macOS 12.7.4 Monterey | x86_64 | 4.4.0 (2024-04-24) -- "Puppy Cup" | 4508 |
| kjohnson1 | macOS 13.6.6 Ventura | arm64 | 4.4.0 (2024-04-24) -- "Puppy Cup" | 4466 |
| palomino7 | Windows Server 2022 Datacenter | x64 | 4.4.1 (2024-06-14 ucrt) -- "Race for Your Life" | 4362 |
| Click on any hostname to see more info about the system (e.g. compilers) (*) as reported by 'uname -p', except on Windows and Mac OS X | ||||
| Package 1114/2300 | Hostname | OS / Arch | INSTALL | BUILD | CHECK | BUILD BIN | ||||||||
| LinkHD 1.18.0 (landing page) "Laura M Zingaretti"
| nebbiolo1 | Linux (Ubuntu 22.04.3 LTS) / x86_64 | OK | OK | OK | |||||||||
| palomino3 | Windows Server 2022 Datacenter / x64 | OK | OK | OK | OK | |||||||||
| merida1 | macOS 12.7.4 Monterey / x86_64 | OK | OK | OK | OK | |||||||||
| kjohnson1 | macOS 13.6.6 Ventura / arm64 | OK | OK | OK | OK | |||||||||
| palomino7 | Windows Server 2022 Datacenter / x64 | OK | OK | OK | OK | |||||||||
|
To the developers/maintainers of the LinkHD package: - Allow up to 24 hours (and sometimes 48 hours) for your latest push to git@git.bioconductor.org:packages/LinkHD.git to reflect on this report. See Troubleshooting Build Report for more information. - Use the following Renviron settings to reproduce errors and warnings. - If 'R CMD check' started to fail recently on the Linux builder(s) over a missing dependency, add the missing dependency to 'Suggests:' in your DESCRIPTION file. See Renviron.bioc for more information. |
| Package: LinkHD |
| Version: 1.18.0 |
| Command: F:\biocbuild\bbs-3.19-bioc\R\bin\R.exe CMD check --no-multiarch --install=check:LinkHD.install-out.txt --library=F:\biocbuild\bbs-3.19-bioc\R\library --no-vignettes --timings LinkHD_1.18.0.tar.gz |
| StartedAt: 2024-06-27 03:03:30 -0400 (Thu, 27 Jun 2024) |
| EndedAt: 2024-06-27 03:07:39 -0400 (Thu, 27 Jun 2024) |
| EllapsedTime: 249.0 seconds |
| RetCode: 0 |
| Status: OK |
| CheckDir: LinkHD.Rcheck |
| Warnings: 0 |
##############################################################################
##############################################################################
###
### Running command:
###
### F:\biocbuild\bbs-3.19-bioc\R\bin\R.exe CMD check --no-multiarch --install=check:LinkHD.install-out.txt --library=F:\biocbuild\bbs-3.19-bioc\R\library --no-vignettes --timings LinkHD_1.18.0.tar.gz
###
##############################################################################
##############################################################################
* using log directory 'F:/biocbuild/bbs-3.19-bioc/meat/LinkHD.Rcheck'
* using R version 4.4.0 (2024-04-24 ucrt)
* using platform: x86_64-w64-mingw32
* R was compiled by
gcc.exe (GCC) 13.2.0
GNU Fortran (GCC) 13.2.0
* running under: Windows Server 2022 x64 (build 20348)
* using session charset: UTF-8
* using option '--no-vignettes'
* checking for file 'LinkHD/DESCRIPTION' ... OK
* checking extension type ... Package
* this is package 'LinkHD' version '1.18.0'
* package encoding: UTF-8
* checking package namespace information ... OK
* checking package dependencies ... OK
* checking if this is a source package ... OK
* checking if there is a namespace ... OK
* checking for hidden files and directories ... OK
* checking for portable file names ... OK
* checking whether package 'LinkHD' can be installed ... OK
* checking installed package size ... OK
* checking package directory ... OK
* checking 'build' directory ... OK
* checking DESCRIPTION meta-information ... OK
* checking top-level files ... OK
* checking for left-over files ... OK
* checking index information ... OK
* checking package subdirectories ... OK
* checking code files for non-ASCII characters ... OK
* checking R files for syntax errors ... OK
* checking whether the package can be loaded ... OK
* checking whether the package can be loaded with stated dependencies ... OK
* checking whether the package can be unloaded cleanly ... OK
* checking whether the namespace can be loaded with stated dependencies ... OK
* checking whether the namespace can be unloaded cleanly ... OK
* checking dependencies in R code ... OK
* checking S3 generic/method consistency ... OK
* checking replacement functions ... OK
* checking foreign function calls ... OK
* checking R code for possible problems ... OK
* checking Rd files ... NOTE
checkRd: (-1) VarSelection.Rd:40: Lost braces; missing escapes or markup?
40 | a general linear regression into the $X$ matrix (${Y_hat}=X(X'X)^(-1)X'Y$) and the matrix $X(X'X)^(-1)X'$ is the projection matrix
| ^
* checking Rd metadata ... OK
* checking Rd cross-references ... OK
* checking for missing documentation entries ... OK
* checking for code/documentation mismatches ... OK
* checking Rd \usage sections ... OK
* checking Rd contents ... OK
* checking for unstated dependencies in examples ... OK
* checking contents of 'data' directory ... OK
* checking data for non-ASCII characters ... OK
* checking LazyData ... OK
* checking data for ASCII and uncompressed saves ... OK
* checking files in 'vignettes' ... OK
* checking examples ... OK
* checking for unstated dependencies in vignettes ... OK
* checking package vignettes ... OK
* checking running R code from vignettes ... SKIPPED
* checking re-building of vignette outputs ... SKIPPED
* checking PDF version of manual ... OK
* DONE
Status: 1 NOTE
See
'F:/biocbuild/bbs-3.19-bioc/meat/LinkHD.Rcheck/00check.log'
for details.
LinkHD.Rcheck/00install.out
############################################################################## ############################################################################## ### ### Running command: ### ### F:\biocbuild\bbs-3.19-bioc\R\bin\R.exe CMD INSTALL LinkHD ### ############################################################################## ############################################################################## * installing to library 'F:/biocbuild/bbs-3.19-bioc/R/library' * installing *source* package 'LinkHD' ... ** using staged installation ** R ** data *** moving datasets to lazyload DB ** byte-compile and prepare package for lazy loading ** help *** installing help indices ** building package indices ** installing vignettes ** testing if installed package can be loaded from temporary location ** testing if installed package can be loaded from final location ** testing if installed package keeps a record of temporary installation path * DONE (LinkHD)
LinkHD.Rcheck/LinkHD-Ex.timings
| name | user | system | elapsed | |
| Compromise_matrix-methods | 0.68 | 0.17 | 0.86 | |
| DataProcessing | 0.02 | 0.00 | 0.02 | |
| DistStatis-Class | 0 | 0 | 0 | |
| DistStatis-CompromisePlot | 1.40 | 0.04 | 1.45 | |
| DistStatis-CorrelationPlot | 1.11 | 0.07 | 1.17 | |
| DistStatis-GlobalPlot | 1.06 | 0.03 | 1.09 | |
| Euclid_Im-methods | 0.58 | 0.02 | 0.59 | |
| Inertia_RV-methods | 0.50 | 0.03 | 0.54 | |
| Inertia_comp-methods | 0.46 | 0.05 | 0.50 | |
| LinkData-LinkData | 0.54 | 0.00 | 0.54 | |
| OTU2Taxa-OTU2Taxa | 3.57 | 0.11 | 3.69 | |
| RQO-methods | 1.12 | 0.01 | 1.14 | |
| Read_Data | 0 | 0 | 0 | |
| Ruminotypes | 0.00 | 0.00 | 0.02 | |
| Taraoceans | 0.00 | 0.02 | 0.01 | |
| Trajectories-methods | 1.25 | 0.19 | 1.44 | |
| VarSelection-Class | 0 | 0 | 0 | |
| VarSelection | 2.27 | 0.11 | 2.37 | |
| VarTable-methods | 2.39 | 0.10 | 2.50 | |
| Var_coordinates-methods | 2.45 | 0.02 | 2.47 | |
| Variables-methods | 2.19 | 0.11 | 2.30 | |
| compromise_coords-methods | 0.53 | 0.05 | 0.58 | |
| correl-methods | 0.39 | 0.04 | 0.44 | |
| dAB-dAB | 0.91 | 0.00 | 0.90 | |
| sign_values-methods | 2.25 | 0.10 | 2.35 | |