| Back to Multiple platform build/check report for BioC 3.19: simplified long |
|
This page was generated on 2024-10-18 20:38 -0400 (Fri, 18 Oct 2024).
| Hostname | OS | Arch (*) | R version | Installed pkgs |
|---|---|---|---|---|
| nebbiolo1 | Linux (Ubuntu 22.04.3 LTS) | x86_64 | 4.4.1 (2024-06-14) -- "Race for Your Life" | 4763 |
| palomino7 | Windows Server 2022 Datacenter | x64 | 4.4.1 (2024-06-14 ucrt) -- "Race for Your Life" | 4500 |
| merida1 | macOS 12.7.5 Monterey | x86_64 | 4.4.1 (2024-06-14) -- "Race for Your Life" | 4530 |
| kjohnson1 | macOS 13.6.6 Ventura | arm64 | 4.4.1 (2024-06-14) -- "Race for Your Life" | 4480 |
| Click on any hostname to see more info about the system (e.g. compilers) (*) as reported by 'uname -p', except on Windows and Mac OS X | ||||
| Package 1092/2300 | Hostname | OS / Arch | INSTALL | BUILD | CHECK | BUILD BIN | ||||||||
| KEGGlincs 1.30.0 (landing page) Shana White
| nebbiolo1 | Linux (Ubuntu 22.04.3 LTS) / x86_64 | OK | OK | OK | |||||||||
| palomino7 | Windows Server 2022 Datacenter / x64 | OK | OK | OK | OK | |||||||||
| merida1 | macOS 12.7.5 Monterey / x86_64 | OK | OK | OK | OK | |||||||||
| kjohnson1 | macOS 13.6.6 Ventura / arm64 | OK | OK | OK | OK | |||||||||
|
To the developers/maintainers of the KEGGlincs package: - Allow up to 24 hours (and sometimes 48 hours) for your latest push to git@git.bioconductor.org:packages/KEGGlincs.git to reflect on this report. See Troubleshooting Build Report for more information. - Use the following Renviron settings to reproduce errors and warnings. - If 'R CMD check' started to fail recently on the Linux builder(s) over a missing dependency, add the missing dependency to 'Suggests:' in your DESCRIPTION file. See Renviron.bioc for more information. |
| Package: KEGGlincs |
| Version: 1.30.0 |
| Command: /home/biocbuild/bbs-3.19-bioc/R/bin/R CMD check --install=check:KEGGlincs.install-out.txt --library=/home/biocbuild/bbs-3.19-bioc/R/site-library --timings KEGGlincs_1.30.0.tar.gz |
| StartedAt: 2024-10-17 01:49:00 -0400 (Thu, 17 Oct 2024) |
| EndedAt: 2024-10-17 01:52:38 -0400 (Thu, 17 Oct 2024) |
| EllapsedTime: 218.4 seconds |
| RetCode: 0 |
| Status: OK |
| CheckDir: KEGGlincs.Rcheck |
| Warnings: 0 |
##############################################################################
##############################################################################
###
### Running command:
###
### /home/biocbuild/bbs-3.19-bioc/R/bin/R CMD check --install=check:KEGGlincs.install-out.txt --library=/home/biocbuild/bbs-3.19-bioc/R/site-library --timings KEGGlincs_1.30.0.tar.gz
###
##############################################################################
##############################################################################
* using log directory ‘/home/biocbuild/bbs-3.19-bioc/meat/KEGGlincs.Rcheck’
* using R version 4.4.1 (2024-06-14)
* using platform: x86_64-pc-linux-gnu
* R was compiled by
gcc (Ubuntu 11.4.0-1ubuntu1~22.04) 11.4.0
GNU Fortran (Ubuntu 11.4.0-1ubuntu1~22.04) 11.4.0
* running under: Ubuntu 22.04.5 LTS
* using session charset: UTF-8
* checking for file ‘KEGGlincs/DESCRIPTION’ ... OK
* checking extension type ... Package
* this is package ‘KEGGlincs’ version ‘1.30.0’
* checking package namespace information ... OK
* checking package dependencies ... OK
* checking if this is a source package ... OK
* checking if there is a namespace ... OK
* checking for hidden files and directories ... OK
* checking for portable file names ... OK
* checking for sufficient/correct file permissions ... OK
* checking whether package ‘KEGGlincs’ can be installed ... OK
* checking installed package size ... OK
* checking package directory ... OK
* checking ‘build’ directory ... OK
* checking DESCRIPTION meta-information ... OK
* checking top-level files ... OK
* checking for left-over files ... OK
* checking index information ... OK
* checking package subdirectories ... OK
* checking code files for non-ASCII characters ... OK
* checking R files for syntax errors ... OK
* checking whether the package can be loaded ... OK
* checking whether the package can be loaded with stated dependencies ... OK
* checking whether the package can be unloaded cleanly ... OK
* checking whether the namespace can be loaded with stated dependencies ... OK
* checking whether the namespace can be unloaded cleanly ... OK
* checking loading without being on the library search path ... OK
* checking dependencies in R code ... NOTE
Namespace in Imports field not imported from: ‘XML’
All declared Imports should be used.
* checking S3 generic/method consistency ... OK
* checking replacement functions ... OK
* checking foreign function calls ... OK
* checking R code for possible problems ... OK
* checking Rd files ... OK
* checking Rd metadata ... OK
* checking Rd cross-references ... OK
* checking for missing documentation entries ... OK
* checking for code/documentation mismatches ... OK
* checking Rd \usage sections ... OK
* checking Rd contents ... OK
* checking for unstated dependencies in examples ... OK
* checking files in ‘vignettes’ ... OK
* checking examples ... OK
Examples with CPU (user + system) or elapsed time > 5s
user system elapsed
overlap_info 19.952 0.796 21.175
add_edge_data 19.254 1.112 21.475
path_genes_by_cell_type 13.091 0.732 14.024
refine_mappings 12.937 0.328 13.467
edge_mapping_info 12.792 0.404 13.752
get_graph_object 11.765 0.360 12.505
* checking for unstated dependencies in vignettes ... OK
* checking package vignettes ... OK
* checking re-building of vignette outputs ... OK
* checking PDF version of manual ... OK
* DONE
Status: 1 NOTE
See
‘/home/biocbuild/bbs-3.19-bioc/meat/KEGGlincs.Rcheck/00check.log’
for details.
KEGGlincs.Rcheck/00install.out
############################################################################## ############################################################################## ### ### Running command: ### ### /home/biocbuild/bbs-3.19-bioc/R/bin/R CMD INSTALL KEGGlincs ### ############################################################################## ############################################################################## * installing to library ‘/home/biocbuild/bbs-3.19-bioc/R/site-library’ * installing *source* package ‘KEGGlincs’ ... ** using staged installation ** R ** inst ** byte-compile and prepare package for lazy loading ** help *** installing help indices ** building package indices ** installing vignettes ** testing if installed package can be loaded from temporary location ** testing if installed package can be loaded from final location ** testing if installed package keeps a record of temporary installation path * DONE (KEGGlincs)
KEGGlincs.Rcheck/KEGGlincs-Ex.timings
| name | user | system | elapsed | |
| KEGG_lincs | 0.000 | 0.000 | 0.001 | |
| KL_compare | 0 | 0 | 0 | |
| add_edge_data | 19.254 | 1.112 | 21.475 | |
| cyto_vis | 0.313 | 0.000 | 1.097 | |
| edge_mapping_info | 12.792 | 0.404 | 13.752 | |
| expand_KEGG_edges | 0.171 | 0.000 | 0.955 | |
| expand_KEGG_mappings | 0.104 | 0.000 | 0.661 | |
| generate_mappings | 0.001 | 0.000 | 0.000 | |
| get_KGML | 0.260 | 0.020 | 1.591 | |
| get_fisher_info | 0.003 | 0.000 | 0.003 | |
| get_graph_object | 11.765 | 0.360 | 12.505 | |
| keggerize_edges | 0 | 0 | 0 | |
| node_mapping_info | 0.139 | 0.000 | 0.516 | |
| overlap_info | 19.952 | 0.796 | 21.175 | |
| path_genes_by_cell_type | 13.091 | 0.732 | 14.024 | |
| refine_mappings | 12.937 | 0.328 | 13.467 | |
| tidy_edge | 0.000 | 0.000 | 0.001 | |