| Back to Multiple platform build/check report for BioC 3.19: simplified long |
|
This page was generated on 2023-11-07 11:36:53 -0500 (Tue, 07 Nov 2023).
| Hostname | OS | Arch (*) | R version | Installed pkgs |
|---|---|---|---|---|
| nebbiolo1 | Linux (Ubuntu 22.04.2 LTS) | x86_64 | R Under development (unstable) (2023-10-22 r85388) -- "Unsuffered Consequences" | 4602 |
| palomino3 | Windows Server 2022 Datacenter | x64 | R Under development (unstable) (2023-10-23 r85389 ucrt) -- "Unsuffered Consequences" | 4355 |
| merida1 | macOS 12.7.1 Monterey | x86_64 | R Under development (unstable) (2023-10-31 r85450) -- "Unsuffered Consequences" | 4333 |
| Click on any hostname to see more info about the system (e.g. compilers) (*) as reported by 'uname -p', except on Windows and Mac OS X | ||||
| Package 994/2221 | Hostname | OS / Arch | INSTALL | BUILD | CHECK | BUILD BIN | ||||||||
| ImmuneSpaceR 1.31.0 (landing page) ImmuneSpace Package Maintainer
| nebbiolo1 | Linux (Ubuntu 22.04.2 LTS) / x86_64 | OK | OK | OK | |||||||||
| palomino3 | Windows Server 2022 Datacenter / x64 | OK | OK | OK | OK | |||||||||
| merida1 | macOS 12.7.1 Monterey / x86_64 | OK | OK | OK | OK | |||||||||
|
To the developers/maintainers of the ImmuneSpaceR package: - Allow up to 24 hours (and sometimes 48 hours) for your latest push to git@git.bioconductor.org:packages/ImmuneSpaceR.git to reflect on this report. See Troubleshooting Build Report for more information. - Use the following Renviron settings to reproduce errors and warnings. - If 'R CMD check' started to fail recently on the Linux builder(s) over a missing dependency, add the missing dependency to 'Suggests:' in your DESCRIPTION file. See Renviron.bioc for more information. |
| Package: ImmuneSpaceR |
| Version: 1.31.0 |
| Command: /Library/Frameworks/R.framework/Resources/bin/R CMD check --install=check:ImmuneSpaceR.install-out.txt --library=/Library/Frameworks/R.framework/Resources/library --no-vignettes --timings ImmuneSpaceR_1.31.0.tar.gz |
| StartedAt: 2023-11-07 03:33:29 -0500 (Tue, 07 Nov 2023) |
| EndedAt: 2023-11-07 03:37:55 -0500 (Tue, 07 Nov 2023) |
| EllapsedTime: 265.6 seconds |
| RetCode: 0 |
| Status: OK |
| CheckDir: ImmuneSpaceR.Rcheck |
| Warnings: 0 |
##############################################################################
##############################################################################
###
### Running command:
###
### /Library/Frameworks/R.framework/Resources/bin/R CMD check --install=check:ImmuneSpaceR.install-out.txt --library=/Library/Frameworks/R.framework/Resources/library --no-vignettes --timings ImmuneSpaceR_1.31.0.tar.gz
###
##############################################################################
##############################################################################
* using log directory ‘/Users/biocbuild/bbs-3.19-bioc/meat/ImmuneSpaceR.Rcheck’
* using R Under development (unstable) (2023-10-31 r85450)
* using platform: x86_64-apple-darwin20
* R was compiled by
Apple clang version 14.0.3 (clang-1403.0.22.14.1)
GNU Fortran (GCC) 12.2.0
* running under: macOS Monterey 12.7.1
* using session charset: UTF-8
* using option ‘--no-vignettes’
* checking for file ‘ImmuneSpaceR/DESCRIPTION’ ... OK
* checking extension type ... Package
* this is package ‘ImmuneSpaceR’ version ‘1.31.0’
* package encoding: UTF-8
* checking package namespace information ... OK
* checking package dependencies ... OK
* checking if this is a source package ... OK
* checking if there is a namespace ... OK
* checking for hidden files and directories ... OK
* checking for portable file names ... OK
* checking for sufficient/correct file permissions ... OK
* checking whether package ‘ImmuneSpaceR’ can be installed ... OK
* checking installed package size ... OK
* checking package directory ... OK
* checking ‘build’ directory ... OK
* checking DESCRIPTION meta-information ... OK
* checking top-level files ... OK
* checking for left-over files ... OK
* checking index information ... OK
* checking package subdirectories ... OK
* checking R files for non-ASCII characters ... OK
* checking R files for syntax errors ... OK
* checking whether the package can be loaded ... OK
* checking whether the package can be loaded with stated dependencies ... OK
* checking whether the package can be unloaded cleanly ... OK
* checking whether the namespace can be loaded with stated dependencies ... OK
* checking whether the namespace can be unloaded cleanly ... OK
* checking whether startup messages can be suppressed ... OK
* checking dependencies in R code ... NOTE
':::' call which should be '::': ‘Rlabkey:::labkey.getRequestOptions’
See the note in ?`:::` about the use of this operator.
Unexported object imported by a ':::' call: ‘Rlabkey:::.lkdefaults’
See the note in ?`:::` about the use of this operator.
* checking S3 generic/method consistency ... OK
* checking replacement functions ... OK
* checking foreign function calls ... OK
* checking R code for possible problems ... OK
* checking Rd files ... OK
* checking Rd metadata ... OK
* checking Rd cross-references ... OK
* checking for missing documentation entries ... OK
* checking for code/documentation mismatches ... OK
* checking Rd \usage sections ... OK
* checking Rd contents ... OK
* checking for unstated dependencies in examples ... OK
* checking files in ‘vignettes’ ... OK
* checking examples ... OK
Examples with CPU (user + system) or elapsed time > 5s
user system elapsed
CreateConnection 0.07 0.016 6.396
* checking for unstated dependencies in ‘tests’ ... OK
* checking tests ...
Running ‘testthat.R’
OK
* checking for unstated dependencies in vignettes ... OK
* checking package vignettes in ‘inst/doc’ ... OK
* checking running R code from vignettes ... SKIPPED
* checking re-building of vignette outputs ... SKIPPED
* checking PDF version of manual ... OK
* DONE
Status: 1 NOTE
See
‘/Users/biocbuild/bbs-3.19-bioc/meat/ImmuneSpaceR.Rcheck/00check.log’
for details.
ImmuneSpaceR.Rcheck/00install.out
############################################################################## ############################################################################## ### ### Running command: ### ### /Library/Frameworks/R.framework/Resources/bin/R CMD INSTALL ImmuneSpaceR ### ############################################################################## ############################################################################## * installing to library ‘/Library/Frameworks/R.framework/Versions/4.4-x86_64/Resources/library’ * installing *source* package ‘ImmuneSpaceR’ ... ** using staged installation ** R ** inst ** byte-compile and prepare package for lazy loading ** help *** installing help indices *** copying figures ** building package indices ** installing vignettes ** testing if installed package can be loaded from temporary location ** testing if installed package can be loaded from final location ** testing if installed package keeps a record of temporary installation path * DONE (ImmuneSpaceR)
ImmuneSpaceR.Rcheck/tests/testthat.Rout
R Under development (unstable) (2023-10-31 r85450) -- "Unsuffered Consequences"
Copyright (C) 2023 The R Foundation for Statistical Computing
Platform: x86_64-apple-darwin20
R is free software and comes with ABSOLUTELY NO WARRANTY.
You are welcome to redistribute it under certain conditions.
Type 'license()' or 'licence()' for distribution details.
R is a collaborative project with many contributors.
Type 'contributors()' for more information and
'citation()' on how to cite R or R packages in publications.
Type 'demo()' for some demos, 'help()' for on-line help, or
'help.start()' for an HTML browser interface to help.
Type 'q()' to quit R.
> library(testthat)
> library(ImmuneSpaceR)
>
> if (Sys.info()["user"] != "biocbuild") test_check("ImmuneSpaceR")
>
> proc.time()
user system elapsed
7.579 0.671 11.586
ImmuneSpaceR.Rcheck/ImmuneSpaceR-Ex.timings
| name | user | system | elapsed | |
| CreateConnection | 0.070 | 0.016 | 6.396 | |
| ISpalette | 0.006 | 0.002 | 0.009 | |
| ImmuneSpaceConnection | 0.018 | 0.004 | 0.074 | |
| check_netrc | 0.001 | 0.000 | 0.001 | |
| interactive_netrc | 0.000 | 0.000 | 0.001 | |
| loadConnection | 0.096 | 0.005 | 0.101 | |
| template_IS | 0.043 | 0.042 | 0.139 | |
| theme_IS | 1.043 | 0.041 | 1.428 | |
| write_netrc | 0.000 | 0.001 | 0.002 | |