| Back to Multiple platform build/check report for BioC 3.19: simplified long |
|
This page was generated on 2024-10-18 20:40 -0400 (Fri, 18 Oct 2024).
| Hostname | OS | Arch (*) | R version | Installed pkgs |
|---|---|---|---|---|
| nebbiolo1 | Linux (Ubuntu 22.04.3 LTS) | x86_64 | 4.4.1 (2024-06-14) -- "Race for Your Life" | 4763 |
| palomino7 | Windows Server 2022 Datacenter | x64 | 4.4.1 (2024-06-14 ucrt) -- "Race for Your Life" | 4500 |
| merida1 | macOS 12.7.5 Monterey | x86_64 | 4.4.1 (2024-06-14) -- "Race for Your Life" | 4530 |
| kjohnson1 | macOS 13.6.6 Ventura | arm64 | 4.4.1 (2024-06-14) -- "Race for Your Life" | 4480 |
| Click on any hostname to see more info about the system (e.g. compilers) (*) as reported by 'uname -p', except on Windows and Mac OS X | ||||
| Package 966/2300 | Hostname | OS / Arch | INSTALL | BUILD | CHECK | BUILD BIN | ||||||||
| HiCExperiment 1.4.0 (landing page) Jacques Serizay
| nebbiolo1 | Linux (Ubuntu 22.04.3 LTS) / x86_64 | OK | OK | OK | |||||||||
| palomino7 | Windows Server 2022 Datacenter / x64 | OK | OK | OK | OK | |||||||||
| merida1 | macOS 12.7.5 Monterey / x86_64 | OK | OK | OK | OK | |||||||||
| kjohnson1 | macOS 13.6.6 Ventura / arm64 | OK | OK | OK | OK | |||||||||
|
To the developers/maintainers of the HiCExperiment package: - Allow up to 24 hours (and sometimes 48 hours) for your latest push to git@git.bioconductor.org:packages/HiCExperiment.git to reflect on this report. See Troubleshooting Build Report for more information. - Use the following Renviron settings to reproduce errors and warnings. - If 'R CMD check' started to fail recently on the Linux builder(s) over a missing dependency, add the missing dependency to 'Suggests:' in your DESCRIPTION file. See Renviron.bioc for more information. |
| Package: HiCExperiment |
| Version: 1.4.0 |
| Command: /Library/Frameworks/R.framework/Resources/bin/R CMD check --install=check:HiCExperiment.install-out.txt --library=/Library/Frameworks/R.framework/Resources/library --no-vignettes --timings HiCExperiment_1.4.0.tar.gz |
| StartedAt: 2024-10-17 06:39:50 -0400 (Thu, 17 Oct 2024) |
| EndedAt: 2024-10-17 07:00:32 -0400 (Thu, 17 Oct 2024) |
| EllapsedTime: 1241.7 seconds |
| RetCode: 0 |
| Status: OK |
| CheckDir: HiCExperiment.Rcheck |
| Warnings: 0 |
##############################################################################
##############################################################################
###
### Running command:
###
### /Library/Frameworks/R.framework/Resources/bin/R CMD check --install=check:HiCExperiment.install-out.txt --library=/Library/Frameworks/R.framework/Resources/library --no-vignettes --timings HiCExperiment_1.4.0.tar.gz
###
##############################################################################
##############################################################################
* using log directory ‘/Users/biocbuild/bbs-3.19-bioc/meat/HiCExperiment.Rcheck’
* using R version 4.4.1 (2024-06-14)
* using platform: x86_64-apple-darwin20
* R was compiled by
Apple clang version 14.0.0 (clang-1400.0.29.202)
GNU Fortran (GCC) 12.2.0
* running under: macOS Monterey 12.7.6
* using session charset: UTF-8
* using option ‘--no-vignettes’
* checking for file ‘HiCExperiment/DESCRIPTION’ ... OK
* this is package ‘HiCExperiment’ version ‘1.4.0’
* package encoding: UTF-8
* checking package namespace information ... OK
* checking package dependencies ... OK
* checking if this is a source package ... OK
* checking if there is a namespace ... OK
* checking for hidden files and directories ... OK
* checking for portable file names ... OK
* checking for sufficient/correct file permissions ... OK
* checking whether package ‘HiCExperiment’ can be installed ... OK
* checking installed package size ... OK
* checking package directory ... OK
* checking ‘build’ directory ... OK
* checking DESCRIPTION meta-information ... OK
* checking top-level files ... OK
* checking for left-over files ... OK
* checking index information ... OK
* checking package subdirectories ... OK
* checking code files for non-ASCII characters ... OK
* checking R files for syntax errors ... OK
* checking whether the package can be loaded ... OK
* checking whether the package can be loaded with stated dependencies ... OK
* checking whether the package can be unloaded cleanly ... OK
* checking whether the namespace can be loaded with stated dependencies ... OK
* checking whether the namespace can be unloaded cleanly ... OK
* checking whether startup messages can be suppressed ... OK
* checking dependencies in R code ... OK
* checking S3 generic/method consistency ... OK
* checking replacement functions ... OK
* checking foreign function calls ... NOTE
Foreign function call to a different package:
.Call("_H5Fis_hdf5", ..., PACKAGE = "rhdf5")
See chapter ‘System and foreign language interfaces’ in the ‘Writing R
Extensions’ manual.
* checking R code for possible problems ... NOTE
File ‘HiCExperiment/R/zzz.R’:
.onLoad calls:
packageStartupMessage("Consider using the `HiContacts` package to perform advanced genomic operations \non `HiCExperiment` objects.\n\nRead \"Orchestrating Hi-C analysis with Bioconductor\" online book to learn more:\nhttps://js2264.github.io/OHCA/")
See section ‘Good practice’ in '?.onAttach'.
.pairs2gi: no visible global function definition for ‘read.delim’
.pairs2gi: no visible global function definition for ‘tail’
Undefined global functions or variables:
read.delim tail
Consider adding
importFrom("utils", "read.delim", "tail")
to your NAMESPACE file.
* checking Rd files ... OK
* checking Rd metadata ... OK
* checking Rd cross-references ... OK
* checking for missing documentation entries ... OK
* checking for code/documentation mismatches ... OK
* checking Rd \usage sections ... OK
* checking Rd contents ... OK
* checking for unstated dependencies in examples ... OK
* checking contents of ‘data’ directory ... OK
* checking data for non-ASCII characters ... OK
* checking data for ASCII and uncompressed saves ... OK
* checking files in ‘vignettes’ ... OK
* checking examples ... OK
Examples with CPU (user + system) or elapsed time > 5s
user system elapsed
import-methods 84.861 6.477 103.518
HiCExperiment 26.336 1.946 33.922
AggrHiCExperiment 19.144 2.607 25.158
HicproFile-class 7.535 0.668 10.563
export-methods 6.062 0.654 7.918
CoolFile-class 5.187 0.676 7.532
HicFile-class 4.972 0.482 7.150
data 4.774 0.375 6.283
as 4.542 0.339 6.220
* checking for unstated dependencies in ‘tests’ ... OK
* checking tests ...
Running ‘testthat.R’
OK
* checking for unstated dependencies in vignettes ... OK
* checking package vignettes ... OK
* checking running R code from vignettes ... SKIPPED
* checking re-building of vignette outputs ... SKIPPED
* checking PDF version of manual ... OK
* DONE
Status: 2 NOTEs
See
‘/Users/biocbuild/bbs-3.19-bioc/meat/HiCExperiment.Rcheck/00check.log’
for details.
HiCExperiment.Rcheck/00install.out
############################################################################## ############################################################################## ### ### Running command: ### ### /Library/Frameworks/R.framework/Resources/bin/R CMD INSTALL HiCExperiment ### ############################################################################## ############################################################################## * installing to library ‘/Library/Frameworks/R.framework/Versions/4.4-x86_64/Resources/library’ * installing *source* package ‘HiCExperiment’ ... ** using staged installation ** R ** data ** inst ** byte-compile and prepare package for lazy loading ** help *** installing help indices *** copying figures ** building package indices ** installing vignettes ** testing if installed package can be loaded from temporary location ** testing if installed package can be loaded from final location ** testing if installed package keeps a record of temporary installation path * DONE (HiCExperiment)
HiCExperiment.Rcheck/tests/testthat.Rout
R version 4.4.1 (2024-06-14) -- "Race for Your Life"
Copyright (C) 2024 The R Foundation for Statistical Computing
Platform: x86_64-apple-darwin20
R is free software and comes with ABSOLUTELY NO WARRANTY.
You are welcome to redistribute it under certain conditions.
Type 'license()' or 'licence()' for distribution details.
R is a collaborative project with many contributors.
Type 'contributors()' for more information and
'citation()' on how to cite R or R packages in publications.
Type 'demo()' for some demos, 'help()' for on-line help, or
'help.start()' for an HTML browser interface to help.
Type 'q()' to quit R.
> # This file is part of the standard setup for testthat.
> # It is recommended that you do not modify it.
> #
> # Where should you do additional test configuration?
> # Learn more about the roles of various files in:
> # * https://r-pkgs.org/tests.html
> # * https://testthat.r-lib.org/reference/test_package.html#special-files
>
> library(testthat)
> library(HiCExperiment)
Consider using the `HiContacts` package to perform advanced genomic operations
on `HiCExperiment` objects.
Read "Orchestrating Hi-C analysis with Bioconductor" online book to learn more:
https://js2264.github.io/OHCA/
>
> test_check("HiCExperiment")
see ?HiContactsData and browseVignettes('HiContactsData') for documentation
loading from cache
see ?HiContactsData and browseVignettes('HiContactsData') for documentation
loading from cache
see ?HiContactsData and browseVignettes('HiContactsData') for documentation
loading from cache
see ?HiContactsData and browseVignettes('HiContactsData') for documentation
loading from cache
see ?HiContactsData and browseVignettes('HiContactsData') for documentation
loading from cache
see ?HiContactsData and browseVignettes('HiContactsData') for documentation
loading from cache
resolutions(1): 1000
resolutions(5): 1000 2000 4000 8000 16000
resolutions(1): 1000
resolutions(5): 1000 2000 4000 8000 16000
CoolFile object
.mcool file: /Users/biocbuild/Library/Caches/org.R-project.R/R/ExperimentHub/aa0fc5436e7_7751
resolution: 1000
pairs file:
metadata(0):
see ?HiContactsData and browseVignettes('HiContactsData') for documentation
loading from cache
`HiCExperiment` object with 8,757,906 contacts over 763 regions
-------
fileName: "/Users/biocbuild/Library/Caches/org.R-project.R/R/ExperimentHub/aa0f6caaa029_7752"
focus: "II"
resolutions(5): 1000 2000 4000 8000 16000
active resolution: 16000
interactions: 267709
scores(3): count balanced test
topologicalFeatures: compartments(0) borders(0) loops(0) viewpoints(0) centromeres(16) test(0)
pairsFile: /Users/biocbuild/Library/Caches/org.R-project.R/R/ExperimentHub/aa0f6712ecd_7753
metadata(1): test
resolutions(5): 1000 2000 4000 8000 16000
resolutions(5): 1000 2000 4000 8000 16000
HicFile object
.hic file: /Users/biocbuild/Library/Caches/org.R-project.R/R/ExperimentHub/aa0f68a8af7f_7836
resolution: 1000
pairs file:
metadata(0):
HicproFile object
HiC-Pro files:
$ matrix: /Users/biocbuild/Library/Caches/org.R-project.R/R/ExperimentHub/aa0f1a99f087_7837
$ regions: /Users/biocbuild/Library/Caches/org.R-project.R/R/ExperimentHub/aa0f707e3cb5_7838
resolution: 1000
pairs file:
metadata(0):
Going through preflight checklist...
Parsing the entire contact matrice as a sparse matrix...
Modeling distance decay...
Filtering for contacts within provided targets...
`AggrHiCExperiment` object over 2 targets
-------
fileName: "/Users/biocbuild/Library/Caches/org.R-project.R/R/ExperimentHub/aa0f6caaa029_7752"
focus: 2 targets
resolutions(5): 1000 2000 4000 8000 16000
active resolution: 8000
interactions: 10201
scores(4): count balanced expected detrended
slices(4): count balanced expected detrended
topologicalFeatures: targets(2)
pairsFile: N/A
metadata(0):
[ FAIL 0 | WARN 0 | SKIP 0 | PASS 243 ]
>
> proc.time()
user system elapsed
485.946 33.830 571.242
HiCExperiment.Rcheck/HiCExperiment-Ex.timings
| name | user | system | elapsed | |
| AggrHiCExperiment | 19.144 | 2.607 | 25.158 | |
| CoolFile-class | 5.187 | 0.676 | 7.532 | |
| HiCExperiment | 26.336 | 1.946 | 33.922 | |
| HicFile-class | 4.972 | 0.482 | 7.150 | |
| HicproFile-class | 7.535 | 0.668 | 10.563 | |
| PairsFile-class | 2.533 | 0.223 | 3.549 | |
| as | 4.542 | 0.339 | 6.220 | |
| bin-methods | 2.678 | 0.232 | 3.726 | |
| data | 4.774 | 0.375 | 6.283 | |
| export-methods | 6.062 | 0.654 | 7.918 | |
| import-methods | 84.861 | 6.477 | 103.518 | |