| Back to Multiple platform build/check report for BioC 3.19: simplified long |
|
This page was generated on 2024-06-28 17:41 -0400 (Fri, 28 Jun 2024).
| Hostname | OS | Arch (*) | R version | Installed pkgs |
|---|---|---|---|---|
| nebbiolo1 | Linux (Ubuntu 22.04.3 LTS) | x86_64 | 4.4.0 (2024-04-24) -- "Puppy Cup" | 4760 |
| palomino3 | Windows Server 2022 Datacenter | x64 | 4.4.0 (2024-04-24 ucrt) -- "Puppy Cup" | 4494 |
| merida1 | macOS 12.7.4 Monterey | x86_64 | 4.4.0 (2024-04-24) -- "Puppy Cup" | 4508 |
| kjohnson1 | macOS 13.6.6 Ventura | arm64 | 4.4.0 (2024-04-24) -- "Puppy Cup" | 4466 |
| palomino7 | Windows Server 2022 Datacenter | x64 | 4.4.1 (2024-06-14 ucrt) -- "Race for Your Life" | 4362 |
| Click on any hostname to see more info about the system (e.g. compilers) (*) as reported by 'uname -p', except on Windows and Mac OS X | ||||
| Package 800/2300 | Hostname | OS / Arch | INSTALL | BUILD | CHECK | BUILD BIN | ||||||||
| GeneBreak 1.34.0 (landing page) Evert van den Broek
| nebbiolo1 | Linux (Ubuntu 22.04.3 LTS) / x86_64 | OK | OK | OK | |||||||||
| palomino3 | Windows Server 2022 Datacenter / x64 | OK | OK | OK | OK | |||||||||
| merida1 | macOS 12.7.4 Monterey / x86_64 | OK | OK | OK | OK | |||||||||
| kjohnson1 | macOS 13.6.6 Ventura / arm64 | OK | OK | OK | OK | |||||||||
| palomino7 | Windows Server 2022 Datacenter / x64 | OK | OK | OK | OK | |||||||||
|
To the developers/maintainers of the GeneBreak package: - Allow up to 24 hours (and sometimes 48 hours) for your latest push to git@git.bioconductor.org:packages/GeneBreak.git to reflect on this report. See Troubleshooting Build Report for more information. - Use the following Renviron settings to reproduce errors and warnings. - If 'R CMD check' started to fail recently on the Linux builder(s) over a missing dependency, add the missing dependency to 'Suggests:' in your DESCRIPTION file. See Renviron.bioc for more information. |
| Package: GeneBreak |
| Version: 1.34.0 |
| Command: F:\biocbuild\bbs-3.19-bioc\R\bin\R.exe CMD check --no-multiarch --install=check:GeneBreak.install-out.txt --library=F:\biocbuild\bbs-3.19-bioc\R\library --no-vignettes --timings GeneBreak_1.34.0.tar.gz |
| StartedAt: 2024-06-27 01:54:27 -0400 (Thu, 27 Jun 2024) |
| EndedAt: 2024-06-27 01:58:00 -0400 (Thu, 27 Jun 2024) |
| EllapsedTime: 212.7 seconds |
| RetCode: 0 |
| Status: OK |
| CheckDir: GeneBreak.Rcheck |
| Warnings: 0 |
##############################################################################
##############################################################################
###
### Running command:
###
### F:\biocbuild\bbs-3.19-bioc\R\bin\R.exe CMD check --no-multiarch --install=check:GeneBreak.install-out.txt --library=F:\biocbuild\bbs-3.19-bioc\R\library --no-vignettes --timings GeneBreak_1.34.0.tar.gz
###
##############################################################################
##############################################################################
* using log directory 'F:/biocbuild/bbs-3.19-bioc/meat/GeneBreak.Rcheck'
* using R version 4.4.0 (2024-04-24 ucrt)
* using platform: x86_64-w64-mingw32
* R was compiled by
gcc.exe (GCC) 13.2.0
GNU Fortran (GCC) 13.2.0
* running under: Windows Server 2022 x64 (build 20348)
* using session charset: UTF-8
* using option '--no-vignettes'
* checking for file 'GeneBreak/DESCRIPTION' ... OK
* checking extension type ... Package
* this is package 'GeneBreak' version '1.34.0'
* checking package namespace information ... OK
* checking package dependencies ... OK
* checking if this is a source package ... OK
* checking if there is a namespace ... OK
* checking for hidden files and directories ... OK
* checking for portable file names ... OK
* checking whether package 'GeneBreak' can be installed ... OK
* checking installed package size ... OK
* checking package directory ... OK
* checking 'build' directory ... OK
* checking DESCRIPTION meta-information ... OK
* checking top-level files ... OK
* checking for left-over files ... OK
* checking index information ... OK
* checking package subdirectories ... OK
* checking code files for non-ASCII characters ... OK
* checking R files for syntax errors ... OK
* checking whether the package can be loaded ... OK
* checking whether the package can be loaded with stated dependencies ... OK
* checking whether the package can be unloaded cleanly ... OK
* checking whether the namespace can be loaded with stated dependencies ... OK
* checking whether the namespace can be unloaded cleanly ... OK
* checking dependencies in R code ... OK
* checking S3 generic/method consistency ... OK
* checking replacement functions ... OK
* checking foreign function calls ... OK
* checking R code for possible problems ... NOTE
.glmbreak: no visible global function definition for 'glm'
.glmbreak: no visible global function definition for 'predict'
addGeneAnnotation,CopyNumberBreakPoints: no visible global function
definition for 'head'
bpStats,CopyNumberBreakPoints: no visible global function definition
for 'sd'
bpStats,CopyNumberBreakPoints: no visible global function definition
for 'p.adjust'
Undefined global functions or variables:
glm head p.adjust predict sd
Consider adding
importFrom("stats", "glm", "p.adjust", "predict", "sd")
importFrom("utils", "head")
to your NAMESPACE file.
* checking Rd files ... OK
* checking Rd metadata ... OK
* checking Rd cross-references ... OK
* checking for missing documentation entries ... OK
* checking for code/documentation mismatches ... OK
* checking Rd \usage sections ... OK
* checking Rd contents ... OK
* checking for unstated dependencies in examples ... OK
* checking contents of 'data' directory ... OK
* checking data for non-ASCII characters ... OK
* checking data for ASCII and uncompressed saves ... OK
* checking sizes of PDF files under 'inst/doc' ... OK
* checking files in 'vignettes' ... OK
* checking examples ... OK
Examples with CPU (user + system) or elapsed time > 5s
user system elapsed
CopyNumberBreakPointGenes-class 7.85 1.20 9.04
bpPlot-CopyNumberBreakPoints-method 6.52 1.12 7.64
bpStats-CopyNumberBreakPoints-method 6.34 1.30 7.64
recurrentGenes-CopyNumberBreakPointGenes-method 5.53 1.06 6.61
* checking for unstated dependencies in vignettes ... OK
* checking package vignettes ... OK
* checking running R code from vignettes ... SKIPPED
* checking re-building of vignette outputs ... SKIPPED
* checking PDF version of manual ... OK
* DONE
Status: 1 NOTE
See
'F:/biocbuild/bbs-3.19-bioc/meat/GeneBreak.Rcheck/00check.log'
for details.
GeneBreak.Rcheck/00install.out
############################################################################## ############################################################################## ### ### Running command: ### ### F:\biocbuild\bbs-3.19-bioc\R\bin\R.exe CMD INSTALL GeneBreak ### ############################################################################## ############################################################################## * installing to library 'F:/biocbuild/bbs-3.19-bioc/R/library' * installing *source* package 'GeneBreak' ... ** using staged installation ** R ** data ** byte-compile and prepare package for lazy loading Creating a new generic function for 'segmentData' in package 'GeneBreak' ** help *** installing help indices ** building package indices ** installing vignettes ** testing if installed package can be loaded from temporary location ** testing if installed package can be loaded from final location ** testing if installed package keeps a record of temporary installation path * DONE (GeneBreak)
GeneBreak.Rcheck/GeneBreak-Ex.timings
| name | user | system | elapsed | |
| CopyNumberBreakPointGenes-class | 7.85 | 1.20 | 9.04 | |
| CopyNumberBreakPoints-class | 2.06 | 0.27 | 2.32 | |
| accessOptions-CopyNumberBreakPoints-method | 1.10 | 0.15 | 1.25 | |
| addGeneAnnotation-CopyNumberBreakPoints-method | 2.00 | 0.36 | 2.36 | |
| bpFilter-CopyNumberBreakPoints-method | 1.66 | 0.41 | 2.06 | |
| bpGenes-CopyNumberBreakPointGenes-method | 2.45 | 0.41 | 2.86 | |
| bpPlot-CopyNumberBreakPoints-method | 6.52 | 1.12 | 7.64 | |
| bpStats-CopyNumberBreakPoints-method | 6.34 | 1.30 | 7.64 | |
| breakpointData-CopyNumberBreakPoints-method | 1.77 | 0.53 | 2.30 | |
| breakpointsPerGene-CopyNumberBreakPointGenes-method | 2.08 | 0.72 | 2.80 | |
| callData-CopyNumberBreakPoints-method | 1.18 | 0.61 | 1.79 | |
| featureChromosomes-CopyNumberBreakPoints-method | 1.00 | 0.20 | 1.21 | |
| featureInfo-CopyNumberBreakPoints-method | 2.68 | 0.48 | 3.15 | |
| featuresPerGene-CopyNumberBreakPointGenes-method | 2.15 | 0.43 | 2.58 | |
| geneChromosomes-CopyNumberBreakPointGenes-method | 2.30 | 0.31 | 2.61 | |
| geneInfo-CopyNumberBreakPointGenes-method | 1.86 | 0.34 | 2.20 | |
| getBreakpoints | 1.36 | 0.33 | 1.69 | |
| namesFeatures-CopyNumberBreakPoints-method | 0.98 | 0.17 | 1.17 | |
| recurrentGenes-CopyNumberBreakPointGenes-method | 5.53 | 1.06 | 6.61 | |
| sampleNames-CopyNumberBreakPoints-method | 0.86 | 0.09 | 0.95 | |
| segmentData-CopyNumberBreakPoints-method | 1.38 | 0.43 | 1.80 | |