| Back to Multiple platform build/check report for BioC 3.19: simplified long |
|
This page was generated on 2024-06-28 17:41 -0400 (Fri, 28 Jun 2024).
| Hostname | OS | Arch (*) | R version | Installed pkgs |
|---|---|---|---|---|
| nebbiolo1 | Linux (Ubuntu 22.04.3 LTS) | x86_64 | 4.4.0 (2024-04-24) -- "Puppy Cup" | 4760 |
| palomino3 | Windows Server 2022 Datacenter | x64 | 4.4.0 (2024-04-24 ucrt) -- "Puppy Cup" | 4494 |
| merida1 | macOS 12.7.4 Monterey | x86_64 | 4.4.0 (2024-04-24) -- "Puppy Cup" | 4508 |
| kjohnson1 | macOS 13.6.6 Ventura | arm64 | 4.4.0 (2024-04-24) -- "Puppy Cup" | 4466 |
| palomino7 | Windows Server 2022 Datacenter | x64 | 4.4.1 (2024-06-14 ucrt) -- "Race for Your Life" | 4362 |
| Click on any hostname to see more info about the system (e.g. compilers) (*) as reported by 'uname -p', except on Windows and Mac OS X | ||||
| Package 794/2300 | Hostname | OS / Arch | INSTALL | BUILD | CHECK | BUILD BIN | ||||||||
| GeDi 1.0.1 (landing page) Annekathrin Nedwed
| nebbiolo1 | Linux (Ubuntu 22.04.3 LTS) / x86_64 | OK | OK | OK | |||||||||
| palomino3 | Windows Server 2022 Datacenter / x64 | OK | OK | OK | OK | |||||||||
| merida1 | macOS 12.7.4 Monterey / x86_64 | OK | OK | OK | OK | |||||||||
| kjohnson1 | macOS 13.6.6 Ventura / arm64 | OK | OK | ERROR | OK | |||||||||
| palomino7 | Windows Server 2022 Datacenter / x64 | OK | OK | OK | OK | |||||||||
|
To the developers/maintainers of the GeDi package: - Allow up to 24 hours (and sometimes 48 hours) for your latest push to git@git.bioconductor.org:packages/GeDi.git to reflect on this report. See Troubleshooting Build Report for more information. - Use the following Renviron settings to reproduce errors and warnings. - If 'R CMD check' started to fail recently on the Linux builder(s) over a missing dependency, add the missing dependency to 'Suggests:' in your DESCRIPTION file. See Renviron.bioc for more information. |
| Package: GeDi |
| Version: 1.0.1 |
| Command: F:\biocbuild\bbs-3.19-bioc\R\bin\R.exe CMD check --no-multiarch --install=check:GeDi.install-out.txt --library=F:\biocbuild\bbs-3.19-bioc\R\library --no-vignettes --timings GeDi_1.0.1.tar.gz |
| StartedAt: 2024-06-27 01:53:03 -0400 (Thu, 27 Jun 2024) |
| EndedAt: 2024-06-27 02:05:51 -0400 (Thu, 27 Jun 2024) |
| EllapsedTime: 768.1 seconds |
| RetCode: 0 |
| Status: OK |
| CheckDir: GeDi.Rcheck |
| Warnings: 0 |
##############################################################################
##############################################################################
###
### Running command:
###
### F:\biocbuild\bbs-3.19-bioc\R\bin\R.exe CMD check --no-multiarch --install=check:GeDi.install-out.txt --library=F:\biocbuild\bbs-3.19-bioc\R\library --no-vignettes --timings GeDi_1.0.1.tar.gz
###
##############################################################################
##############################################################################
* using log directory 'F:/biocbuild/bbs-3.19-bioc/meat/GeDi.Rcheck'
* using R version 4.4.0 (2024-04-24 ucrt)
* using platform: x86_64-w64-mingw32
* R was compiled by
gcc.exe (GCC) 13.2.0
GNU Fortran (GCC) 13.2.0
* running under: Windows Server 2022 x64 (build 20348)
* using session charset: UTF-8
* using option '--no-vignettes'
* checking for file 'GeDi/DESCRIPTION' ... OK
* this is package 'GeDi' version '1.0.1'
* package encoding: UTF-8
* checking package namespace information ... OK
* checking package dependencies ... OK
* checking if this is a source package ... OK
* checking if there is a namespace ... OK
* checking for hidden files and directories ... OK
* checking for portable file names ... OK
* checking whether package 'GeDi' can be installed ... OK
* checking installed package size ... OK
* checking package directory ... OK
* checking 'build' directory ... OK
* checking DESCRIPTION meta-information ... OK
* checking top-level files ... OK
* checking for left-over files ... OK
* checking index information ... OK
* checking package subdirectories ... OK
* checking code files for non-ASCII characters ... OK
* checking R files for syntax errors ... OK
* checking whether the package can be loaded ... OK
* checking whether the package can be loaded with stated dependencies ... OK
* checking whether the package can be unloaded cleanly ... OK
* checking whether the namespace can be loaded with stated dependencies ... OK
* checking whether the namespace can be unloaded cleanly ... OK
* checking whether startup messages can be suppressed ... OK
* checking dependencies in R code ... OK
* checking S3 generic/method consistency ... OK
* checking replacement functions ... OK
* checking foreign function calls ... OK
* checking R code for possible problems ... OK
* checking Rd files ... OK
* checking Rd metadata ... OK
* checking Rd cross-references ... OK
* checking for missing documentation entries ... OK
* checking for code/documentation mismatches ... OK
* checking Rd \usage sections ... OK
* checking Rd contents ... OK
* checking for unstated dependencies in examples ... OK
* checking contents of 'data' directory ... OK
* checking data for non-ASCII characters ... OK
* checking data for ASCII and uncompressed saves ... OK
* checking files in 'vignettes' ... OK
* checking examples ... OK
Examples with CPU (user + system) or elapsed time > 5s
user system elapsed
getAnnotation 131.45 6.75 145.77
getPPI 94.75 4.10 99.14
goSimilarity 6.66 0.71 19.93
scaleGO 5.55 0.55 6.08
* checking for unstated dependencies in 'tests' ... OK
* checking tests ...
Running 'testthat.R'
OK
* checking for unstated dependencies in vignettes ... OK
* checking package vignettes ... OK
* checking running R code from vignettes ... SKIPPED
* checking re-building of vignette outputs ... SKIPPED
* checking PDF version of manual ... OK
* DONE
Status: OK
GeDi.Rcheck/00install.out
############################################################################## ############################################################################## ### ### Running command: ### ### F:\biocbuild\bbs-3.19-bioc\R\bin\R.exe CMD INSTALL GeDi ### ############################################################################## ############################################################################## * installing to library 'F:/biocbuild/bbs-3.19-bioc/R/library' * installing *source* package 'GeDi' ... ** using staged installation ** R ** data ** inst ** byte-compile and prepare package for lazy loading ** help *** installing help indices *** copying figures ** building package indices ** installing vignettes ** testing if installed package can be loaded from temporary location ** testing if installed package can be loaded from final location ** testing if installed package keeps a record of temporary installation path * DONE (GeDi)
GeDi.Rcheck/tests/testthat.Rout
R version 4.4.0 (2024-04-24 ucrt) -- "Puppy Cup"
Copyright (C) 2024 The R Foundation for Statistical Computing
Platform: x86_64-w64-mingw32/x64
R is free software and comes with ABSOLUTELY NO WARRANTY.
You are welcome to redistribute it under certain conditions.
Type 'license()' or 'licence()' for distribution details.
R is a collaborative project with many contributors.
Type 'contributors()' for more information and
'citation()' on how to cite R or R packages in publications.
Type 'demo()' for some demos, 'help()' for on-line help, or
'help.start()' for an HTML browser interface to help.
Type 'q()' to quit R.
> library(testthat)
> library(GeDi)
>
> test_check("GeDi")
trying URL 'https://stringdb-downloads.org/download/protein.aliases.v12.0/9606.protein.aliases.v12.0.txt.gz'
Content type 'application/octet-stream' length 19777800 bytes (18.9 MB)
==================================================
downloaded 18.9 MB
trying URL 'https://stringdb-downloads.org/download/protein.info.v12.0/9606.protein.info.v12.0.txt.gz'
Content type 'application/octet-stream' length 1970090 bytes (1.9 MB)
==================================================
downloaded 1.9 MB
trying URL 'https://stringdb-downloads.org/download/protein.links.v12.0/9606.protein.links.v12.0.txt.gz'
Content type 'application/octet-stream' length 83164437 bytes (79.3 MB)
==================================================
downloaded 79.3 MB
preparing gene to GO mapping data...
preparing gene to GO mapping data...
[ FAIL 0 | WARN 0 | SKIP 0 | PASS 182 ]
>
> proc.time()
user system elapsed
154.29 9.32 171.90
GeDi.Rcheck/GeDi-Ex.timings
| name | user | system | elapsed | |
| GeDi | 0 | 0 | 0 | |
| buildClusterGraph | 0.24 | 0.00 | 0.23 | |
| buildGraph | 0.02 | 0.00 | 0.01 | |
| buildHistogramData | 0.01 | 0.00 | 0.02 | |
| calculateJaccard | 0.00 | 0.02 | 0.01 | |
| calculateKappa | 0.07 | 0.00 | 0.07 | |
| calculateSorensenDice | 0 | 0 | 0 | |
| checkInclusion | 0.02 | 0.00 | 0.02 | |
| clustering | 0.14 | 0.02 | 0.17 | |
| distanceDendro | 0.2 | 0.0 | 0.2 | |
| distanceHeatmap | 0.22 | 0.09 | 0.25 | |
| enrichmentWordcloud | 0.66 | 0.39 | 0.55 | |
| fuzzyClustering | 0 | 0 | 0 | |
| getAdjacencyMatrix | 0.13 | 0.09 | 0.11 | |
| getAnnotation | 131.45 | 6.75 | 145.77 | |
| getBipartiteGraph | 0.01 | 0.00 | 0.01 | |
| getClusterAdjacencyMatrix | 0.04 | 0.00 | 0.03 | |
| getGenes | 0.03 | 0.00 | 0.03 | |
| getGraphTitle | 0 | 0 | 0 | |
| getId | 0.15 | 0.02 | 1.68 | |
| getInteractionScore | 0.03 | 0.03 | 0.06 | |
| getJaccardMatrix | 0.61 | 0.00 | 0.61 | |
| getKappaMatrix | 1.55 | 0.33 | 1.87 | |
| getMeetMinMatrix | 1.56 | 0.09 | 1.66 | |
| getPPI | 94.75 | 4.10 | 99.14 | |
| getSorensenDiceMatrix | 0.53 | 0.00 | 0.54 | |
| getStringDB | 0.11 | 0.00 | 1.14 | |
| getpMMMatrix | 0.94 | 0.02 | 0.95 | |
| goSimilarity | 6.66 | 0.71 | 19.93 | |
| gsHistogram | 0.04 | 0.00 | 0.05 | |
| kNN_clustering | 0.07 | 0.00 | 0.06 | |
| pMMlocal | 0.06 | 0.00 | 0.06 | |
| scaleGO | 5.55 | 0.55 | 6.08 | |
| seedFinding | 0.01 | 0.00 | 0.02 | |