| Back to Multiple platform build/check report for BioC 3.19: simplified long | 
  | 
This page was generated on 2024-06-11 14:42 -0400 (Tue, 11 Jun 2024).
| Hostname | OS | Arch (*) | R version | Installed pkgs | 
|---|---|---|---|---|
| nebbiolo1 | Linux (Ubuntu 22.04.3 LTS) | x86_64 | 4.4.0 (2024-04-24) -- "Puppy Cup" | 4757 | 
| palomino3 | Windows Server 2022 Datacenter | x64 | 4.4.0 (2024-04-24 ucrt) -- "Puppy Cup" | 4491 | 
| lconway | macOS 12.7.1 Monterey | x86_64 | 4.4.0 (2024-04-24) -- "Puppy Cup" | 4522 | 
| kjohnson3 | macOS 13.6.5 Ventura | arm64 | 4.4.0 (2024-04-24) -- "Puppy Cup" | 4468 | 
| Click on any hostname to see more info about the system (e.g. compilers) (*) as reported by 'uname -p', except on Windows and Mac OS X | ||||
| Package 927/2300 | Hostname | OS / Arch | INSTALL | BUILD | CHECK | BUILD BIN | ||||||||
| GSgalgoR 1.14.0  (landing page) Carlos Catania 
  | nebbiolo1 | Linux (Ubuntu 22.04.3 LTS) / x86_64 | OK | OK | OK | |||||||||
| palomino3 | Windows Server 2022 Datacenter / x64 | OK | OK | OK | OK | |||||||||
| lconway | macOS 12.7.1 Monterey / x86_64 | OK | OK | OK | OK | |||||||||
| kjohnson3 | macOS 13.6.5 Ventura / arm64 | OK | OK | OK | OK | |||||||||
| 
To the developers/maintainers of the GSgalgoR package: - Allow up to 24 hours (and sometimes 48 hours) for your latest push to git@git.bioconductor.org:packages/GSgalgoR.git to reflect on this report. See Troubleshooting Build Report for more information. - Use the following Renviron settings to reproduce errors and warnings. - If 'R CMD check' started to fail recently on the Linux builder(s) over a missing dependency, add the missing dependency to 'Suggests:' in your DESCRIPTION file. See Renviron.bioc for more information.  | 
| Package: GSgalgoR | 
| Version: 1.14.0 | 
| Command: /Library/Frameworks/R.framework/Resources/bin/R CMD check --install=check:GSgalgoR.install-out.txt --library=/Library/Frameworks/R.framework/Resources/library --no-vignettes --timings GSgalgoR_1.14.0.tar.gz | 
| StartedAt: 2024-06-09 20:47:02 -0400 (Sun, 09 Jun 2024) | 
| EndedAt: 2024-06-09 20:50:39 -0400 (Sun, 09 Jun 2024) | 
| EllapsedTime: 216.6 seconds | 
| RetCode: 0 | 
| Status: OK | 
| CheckDir: GSgalgoR.Rcheck | 
| Warnings: 0 | 
##############################################################################
##############################################################################
###
### Running command:
###
###   /Library/Frameworks/R.framework/Resources/bin/R CMD check --install=check:GSgalgoR.install-out.txt --library=/Library/Frameworks/R.framework/Resources/library --no-vignettes --timings GSgalgoR_1.14.0.tar.gz
###
##############################################################################
##############################################################################
* using log directory ‘/Users/biocbuild/bbs-3.19-bioc/meat/GSgalgoR.Rcheck’
* using R version 4.4.0 (2024-04-24)
* using platform: x86_64-apple-darwin20
* R was compiled by
    Apple clang version 14.0.0 (clang-1400.0.29.202)
    GNU Fortran (GCC) 12.2.0
* running under: macOS Monterey 12.7.1
* using session charset: UTF-8
* using option ‘--no-vignettes’
* checking for file ‘GSgalgoR/DESCRIPTION’ ... OK
* checking extension type ... Package
* this is package ‘GSgalgoR’ version ‘1.14.0’
* package encoding: UTF-8
* checking package namespace information ... OK
* checking package dependencies ... OK
* checking if this is a source package ... OK
* checking if there is a namespace ... OK
* checking for hidden files and directories ... OK
* checking for portable file names ... OK
* checking for sufficient/correct file permissions ... OK
* checking whether package ‘GSgalgoR’ can be installed ... OK
* checking installed package size ... OK
* checking package directory ... OK
* checking ‘build’ directory ... OK
* checking DESCRIPTION meta-information ... OK
* checking top-level files ... OK
* checking for left-over files ... OK
* checking index information ... OK
* checking package subdirectories ... OK
* checking code files for non-ASCII characters ... OK
* checking R files for syntax errors ... OK
* checking whether the package can be loaded ... OK
* checking whether the package can be loaded with stated dependencies ... OK
* checking whether the package can be unloaded cleanly ... OK
* checking whether the namespace can be loaded with stated dependencies ... OK
* checking whether the namespace can be unloaded cleanly ... OK
* checking dependencies in R code ... OK
* checking S3 generic/method consistency ... OK
* checking replacement functions ... OK
* checking foreign function calls ... OK
* checking R code for possible problems ... OK
* checking Rd files ... OK
* checking Rd metadata ... OK
* checking Rd cross-references ... OK
* checking for missing documentation entries ... OK
* checking for code/documentation mismatches ... OK
* checking Rd \usage sections ... OK
* checking Rd contents ... OK
* checking for unstated dependencies in examples ... OK
* checking files in ‘vignettes’ ... OK
* checking examples ... OK
Examples with CPU (user + system) or elapsed time > 5s
                          user system elapsed
plot_pareto              2.743  0.096   6.719
classify_multiple        2.501  0.264   9.413
callback_base_report     2.402  0.216   8.604
create_centroids         1.970  0.063   5.722
callback_no_report       1.768  0.156   8.167
non_dominated_summary    1.862  0.059   5.706
to_list                  1.842  0.038   5.628
callback_default         1.728  0.141   7.875
to_dataframe             1.830  0.038   5.643
callback_base_return_pop 1.723  0.143   8.015
galgo                    1.713  0.041   5.621
* checking for unstated dependencies in ‘tests’ ... OK
* checking tests ...
  Running ‘testthat.R’
 OK
* checking for unstated dependencies in vignettes ... OK
* checking package vignettes ... OK
* checking running R code from vignettes ... SKIPPED
* checking re-building of vignette outputs ... SKIPPED
* checking PDF version of manual ... OK
* DONE
Status: OK
GSgalgoR.Rcheck/00install.out
############################################################################## ############################################################################## ### ### Running command: ### ### /Library/Frameworks/R.framework/Resources/bin/R CMD INSTALL GSgalgoR ### ############################################################################## ############################################################################## * installing to library ‘/Library/Frameworks/R.framework/Versions/4.4-x86_64/Resources/library’ * installing *source* package ‘GSgalgoR’ ... ** using staged installation ** R ** inst ** byte-compile and prepare package for lazy loading ** help *** installing help indices ** building package indices ** installing vignettes ** testing if installed package can be loaded from temporary location ** testing if installed package can be loaded from final location ** testing if installed package keeps a record of temporary installation path * DONE (GSgalgoR)
GSgalgoR.Rcheck/tests/testthat.Rout
R version 4.4.0 (2024-04-24) -- "Puppy Cup"
Copyright (C) 2024 The R Foundation for Statistical Computing
Platform: x86_64-apple-darwin20
R is free software and comes with ABSOLUTELY NO WARRANTY.
You are welcome to redistribute it under certain conditions.
Type 'license()' or 'licence()' for distribution details.
R is a collaborative project with many contributors.
Type 'contributors()' for more information and
'citation()' on how to cite R or R packages in publications.
Type 'demo()' for some demos, 'help()' for on-line help, or
'help.start()' for an HTML browser interface to help.
Type 'q()' to quit R.
> library(testthat)
> library(GSgalgoR)
> 
> test_check("GSgalgoR")
..........         k                      rnkIndex   CrowD
result.1 8 0.02212350 201.10126        1     Inf
result.3 9 0.02402496 160.41638        1 1.37352
result.4 8 0.03651880  48.37265        1     Inf
         k                      rnkIndex    CrowD
result.1 8 0.02212350 201.10126        1      Inf
result.3 2 0.11803624  30.01863        1      Inf
result.4 4 0.04509859 173.43985        1 1.798893
......[ FAIL 0 | WARN 0 | SKIP 0 | PASS 13 ]
> 
> proc.time()
   user  system elapsed 
 17.859   1.811  97.079 
GSgalgoR.Rcheck/GSgalgoR-Ex.timings
| name | user | system | elapsed | |
| calculate_distance | 2.313 | 0.125 | 2.450 | |
| callback_base_report | 2.402 | 0.216 | 8.604 | |
| callback_base_return_pop | 1.723 | 0.143 | 8.015 | |
| callback_default | 1.728 | 0.141 | 7.875 | |
| callback_no_report | 1.768 | 0.156 | 8.167 | |
| classify_multiple | 2.501 | 0.264 | 9.413 | |
| cluster_algorithm | 1.128 | 0.054 | 1.185 | |
| cluster_classify | 0.731 | 0.157 | 0.894 | |
| cosine_similarity | 0.000 | 0.000 | 0.001 | |
| create_centroids | 1.970 | 0.063 | 5.722 | |
| galgo | 1.713 | 0.041 | 5.621 | |
| k_centroids | 1.135 | 0.040 | 1.182 | |
| non_dominated_summary | 1.862 | 0.059 | 5.706 | |
| plot_pareto | 2.743 | 0.096 | 6.719 | |
| surv_fitness | 0.584 | 0.021 | 0.616 | |
| to_dataframe | 1.830 | 0.038 | 5.643 | |
| to_list | 1.842 | 0.038 | 5.628 | |