| Back to Multiple platform build/check report for BioC 3.19: simplified long |
|
This page was generated on 2024-10-18 20:39 -0400 (Fri, 18 Oct 2024).
| Hostname | OS | Arch (*) | R version | Installed pkgs |
|---|---|---|---|---|
| nebbiolo1 | Linux (Ubuntu 22.04.3 LTS) | x86_64 | 4.4.1 (2024-06-14) -- "Race for Your Life" | 4763 |
| palomino7 | Windows Server 2022 Datacenter | x64 | 4.4.1 (2024-06-14 ucrt) -- "Race for Your Life" | 4500 |
| merida1 | macOS 12.7.5 Monterey | x86_64 | 4.4.1 (2024-06-14) -- "Race for Your Life" | 4530 |
| kjohnson1 | macOS 13.6.6 Ventura | arm64 | 4.4.1 (2024-06-14) -- "Race for Your Life" | 4480 |
| Click on any hostname to see more info about the system (e.g. compilers) (*) as reported by 'uname -p', except on Windows and Mac OS X | ||||
| Package 617/2300 | Hostname | OS / Arch | INSTALL | BUILD | CHECK | BUILD BIN | ||||||||
| Dune 1.16.0 (landing page) Hector Roux de Bezieux
| nebbiolo1 | Linux (Ubuntu 22.04.3 LTS) / x86_64 | OK | OK | OK | |||||||||
| palomino7 | Windows Server 2022 Datacenter / x64 | OK | OK | OK | OK | |||||||||
| merida1 | macOS 12.7.5 Monterey / x86_64 | OK | OK | OK | OK | |||||||||
| kjohnson1 | macOS 13.6.6 Ventura / arm64 | OK | OK | ERROR | OK | |||||||||
|
To the developers/maintainers of the Dune package: - Allow up to 24 hours (and sometimes 48 hours) for your latest push to git@git.bioconductor.org:packages/Dune.git to reflect on this report. See Troubleshooting Build Report for more information. - Use the following Renviron settings to reproduce errors and warnings. - If 'R CMD check' started to fail recently on the Linux builder(s) over a missing dependency, add the missing dependency to 'Suggests:' in your DESCRIPTION file. See Renviron.bioc for more information. |
| Package: Dune |
| Version: 1.16.0 |
| Command: E:\biocbuild\bbs-3.19-bioc\R\bin\R.exe CMD check --no-multiarch --install=check:Dune.install-out.txt --library=E:\biocbuild\bbs-3.19-bioc\R\library --no-vignettes --timings Dune_1.16.0.tar.gz |
| StartedAt: 2024-10-17 01:05:22 -0400 (Thu, 17 Oct 2024) |
| EndedAt: 2024-10-17 01:10:51 -0400 (Thu, 17 Oct 2024) |
| EllapsedTime: 329.6 seconds |
| RetCode: 0 |
| Status: OK |
| CheckDir: Dune.Rcheck |
| Warnings: 0 |
##############################################################################
##############################################################################
###
### Running command:
###
### E:\biocbuild\bbs-3.19-bioc\R\bin\R.exe CMD check --no-multiarch --install=check:Dune.install-out.txt --library=E:\biocbuild\bbs-3.19-bioc\R\library --no-vignettes --timings Dune_1.16.0.tar.gz
###
##############################################################################
##############################################################################
* using log directory 'E:/biocbuild/bbs-3.19-bioc/meat/Dune.Rcheck'
* using R version 4.4.1 (2024-06-14 ucrt)
* using platform: x86_64-w64-mingw32
* R was compiled by
gcc.exe (GCC) 13.2.0
GNU Fortran (GCC) 13.2.0
* running under: Windows Server 2022 x64 (build 20348)
* using session charset: UTF-8
* using option '--no-vignettes'
* checking for file 'Dune/DESCRIPTION' ... OK
* this is package 'Dune' version '1.16.0'
* package encoding: UTF-8
* checking package namespace information ... NOTE
Found export directive that requires package 'methods':
'exportMethods'
Remove all such namespace directives (if obsolete) or ensure that the
DESCRIPTION Depends or Imports field contains 'methods'.
* checking package dependencies ... OK
* checking if this is a source package ... OK
* checking if there is a namespace ... OK
* checking for hidden files and directories ... OK
* checking for portable file names ... OK
* checking whether package 'Dune' can be installed ... OK
* checking installed package size ... OK
* checking package directory ... OK
* checking 'build' directory ... OK
* checking DESCRIPTION meta-information ... OK
* checking top-level files ... OK
* checking for left-over files ... OK
* checking index information ... OK
* checking package subdirectories ... OK
* checking code files for non-ASCII characters ... OK
* checking R files for syntax errors ... OK
* checking whether the package can be loaded ... OK
* checking whether the package can be loaded with stated dependencies ... OK
* checking whether the package can be unloaded cleanly ... OK
* checking whether the namespace can be loaded with stated dependencies ... OK
* checking whether the namespace can be unloaded cleanly ... OK
* checking whether startup messages can be suppressed ... OK
* checking dependencies in R code ... NOTE
package 'methods' is used but not declared
* checking S3 generic/method consistency ... OK
* checking replacement functions ... OK
* checking foreign function calls ... OK
* checking R code for possible problems ... NOTE
.metricTrend: no visible binding for global variable '.'
.metricTrend: no visible binding for global variable 'step'
.metricTrend: no visible binding for global variable 'change'
.metricTrend: no visible binding for global variable 'value'
.plotMetric: no visible binding for global variable 'label2'
.plotMetric: no visible binding for global variable 'metric'
.plotMetric: no visible binding for global variable 'label1'
ARIImp : f: no visible binding for global variable 'cells'
ConfusionEvolution : <anonymous>: no visible binding for global
variable 'Freq'
ConfusionEvolution : <anonymous>: no visible binding for global
variable 'total_x'
ConfusionEvolution : <anonymous>: no visible binding for global
variable 'total_y'
ConfusionEvolution: no visible binding for global variable 'overlap'
ConfusionEvolution: no visible binding for global variable 'Freq'
ConfusionEvolution: no visible binding for global variable 'step'
ConfusionPlot: no visible binding for global variable 'Freq'
ConfusionPlot: no visible binding for global variable 'total_x'
ConfusionPlot: no visible binding for global variable 'total_y'
ConfusionPlot: no visible binding for global variable 'overlap'
NMIImp : f: no visible binding for global variable 'cells'
intermediateMat: no visible binding for global variable 'cells'
plotPrePost: no visible binding for global variable 'Nb'
Undefined global functions or variables:
. Freq Nb cells change label1 label2 metric overlap step total_x
total_y value
Consider adding
importFrom("stats", "step")
to your NAMESPACE file.
* checking Rd files ... OK
* checking Rd metadata ... OK
* checking Rd cross-references ... OK
* checking for missing documentation entries ... OK
* checking for code/documentation mismatches ... OK
* checking Rd \usage sections ... OK
* checking Rd contents ... OK
* checking for unstated dependencies in examples ... OK
* checking contents of 'data' directory ... OK
* checking data for non-ASCII characters ... OK
* checking LazyData ... OK
* checking data for ASCII and uncompressed saves ... OK
* checking files in 'vignettes' ... OK
* checking examples ... OK
Examples with CPU (user + system) or elapsed time > 5s
user system elapsed
Dune 6.52 0.03 6.55
ARIImp 4.93 0.71 5.31
* checking for unstated dependencies in 'tests' ... OK
* checking tests ...
Running 'testthat.R'
OK
* checking for unstated dependencies in vignettes ... OK
* checking package vignettes ... OK
* checking running R code from vignettes ... SKIPPED
* checking re-building of vignette outputs ... SKIPPED
* checking PDF version of manual ... OK
* DONE
Status: 3 NOTEs
See
'E:/biocbuild/bbs-3.19-bioc/meat/Dune.Rcheck/00check.log'
for details.
Dune.Rcheck/00install.out
############################################################################## ############################################################################## ### ### Running command: ### ### E:\biocbuild\bbs-3.19-bioc\R\bin\R.exe CMD INSTALL Dune ### ############################################################################## ############################################################################## * installing to library 'E:/biocbuild/bbs-3.19-bioc/R/library' * installing *source* package 'Dune' ... ** using staged installation ** R ** data *** moving datasets to lazyload DB ** inst ** byte-compile and prepare package for lazy loading ** help *** installing help indices ** building package indices ** installing vignettes ** testing if installed package can be loaded from temporary location ** testing if installed package can be loaded from final location ** testing if installed package keeps a record of temporary installation path * DONE (Dune)
Dune.Rcheck/tests/testthat.Rout
R version 4.4.1 (2024-06-14 ucrt) -- "Race for Your Life"
Copyright (C) 2024 The R Foundation for Statistical Computing
Platform: x86_64-w64-mingw32/x64
R is free software and comes with ABSOLUTELY NO WARRANTY.
You are welcome to redistribute it under certain conditions.
Type 'license()' or 'licence()' for distribution details.
R is a collaborative project with many contributors.
Type 'contributors()' for more information and
'citation()' on how to cite R or R packages in publications.
Type 'demo()' for some demos, 'help()' for on-line help, or
'help.start()' for an HTML browser interface to help.
Type 'q()' to quit R.
> library(testthat)
> library(Dune)
Dune now uses the Normalized Mutual Informationinstead of the adjusted Rand Index. You can restore the old option bysetting metric'ARI' in the Dune function.
>
> test_check("Dune")
[ FAIL 0 | WARN 2 | SKIP 0 | PASS 452 ]
[ FAIL 0 | WARN 2 | SKIP 0 | PASS 452 ]
>
> proc.time()
user system elapsed
81.98 2.06 83.79
Dune.Rcheck/Dune-Ex.timings
| name | user | system | elapsed | |
| ARIImp | 4.93 | 0.71 | 5.31 | |
| ARIs | 0.01 | 0.00 | 0.07 | |
| ARItrend | 3.23 | 0.03 | 3.44 | |
| ConfusionEvolution | 0 | 0 | 0 | |
| ConfusionPlot | 0.42 | 0.00 | 0.42 | |
| Dune | 6.52 | 0.03 | 6.55 | |
| NMIImp | 3.94 | 0.01 | 3.95 | |
| NMIs | 0.01 | 0.00 | 0.01 | |
| NMItrend | 4.55 | 0.07 | 4.61 | |
| clusterConversion | 3.41 | 0.04 | 3.46 | |
| functionTracking | 3.46 | 0.00 | 3.47 | |
| intermediateMat | 3.20 | 0.02 | 3.25 | |
| plotARIs | 4.28 | 0.02 | 4.30 | |
| plotNMIs | 4.27 | 0.01 | 4.28 | |
| plotPrePost | 3.62 | 0.03 | 3.67 | |
| whenToStop | 3.30 | 0.02 | 3.33 | |