| Back to Multiple platform build/check report for BioC 3.19: simplified long |
|
This page was generated on 2024-10-18 20:39 -0400 (Fri, 18 Oct 2024).
| Hostname | OS | Arch (*) | R version | Installed pkgs |
|---|---|---|---|---|
| nebbiolo1 | Linux (Ubuntu 22.04.3 LTS) | x86_64 | 4.4.1 (2024-06-14) -- "Race for Your Life" | 4763 |
| palomino7 | Windows Server 2022 Datacenter | x64 | 4.4.1 (2024-06-14 ucrt) -- "Race for Your Life" | 4500 |
| merida1 | macOS 12.7.5 Monterey | x86_64 | 4.4.1 (2024-06-14) -- "Race for Your Life" | 4530 |
| kjohnson1 | macOS 13.6.6 Ventura | arm64 | 4.4.1 (2024-06-14) -- "Race for Your Life" | 4480 |
| Click on any hostname to see more info about the system (e.g. compilers) (*) as reported by 'uname -p', except on Windows and Mac OS X | ||||
| Package 57/2300 | Hostname | OS / Arch | INSTALL | BUILD | CHECK | BUILD BIN | ||||||||
| AlpsNMR 4.6.0 (landing page) Sergio Oller Moreno
| nebbiolo1 | Linux (Ubuntu 22.04.3 LTS) / x86_64 | OK | OK | OK | |||||||||
| palomino7 | Windows Server 2022 Datacenter / x64 | OK | OK | OK | OK | |||||||||
| merida1 | macOS 12.7.5 Monterey / x86_64 | OK | OK | OK | OK | |||||||||
| kjohnson1 | macOS 13.6.6 Ventura / arm64 | OK | OK | OK | OK | |||||||||
|
To the developers/maintainers of the AlpsNMR package: - Allow up to 24 hours (and sometimes 48 hours) for your latest push to git@git.bioconductor.org:packages/AlpsNMR.git to reflect on this report. See Troubleshooting Build Report for more information. - Use the following Renviron settings to reproduce errors and warnings. - If 'R CMD check' started to fail recently on the Linux builder(s) over a missing dependency, add the missing dependency to 'Suggests:' in your DESCRIPTION file. See Renviron.bioc for more information. |
| Package: AlpsNMR |
| Version: 4.6.0 |
| Command: E:\biocbuild\bbs-3.19-bioc\R\bin\R.exe CMD check --no-multiarch --install=check:AlpsNMR.install-out.txt --library=E:\biocbuild\bbs-3.19-bioc\R\library --no-vignettes --timings AlpsNMR_4.6.0.tar.gz |
| StartedAt: 2024-10-16 22:47:15 -0400 (Wed, 16 Oct 2024) |
| EndedAt: 2024-10-16 22:55:48 -0400 (Wed, 16 Oct 2024) |
| EllapsedTime: 513.3 seconds |
| RetCode: 0 |
| Status: OK |
| CheckDir: AlpsNMR.Rcheck |
| Warnings: 0 |
##############################################################################
##############################################################################
###
### Running command:
###
### E:\biocbuild\bbs-3.19-bioc\R\bin\R.exe CMD check --no-multiarch --install=check:AlpsNMR.install-out.txt --library=E:\biocbuild\bbs-3.19-bioc\R\library --no-vignettes --timings AlpsNMR_4.6.0.tar.gz
###
##############################################################################
##############################################################################
* using log directory 'E:/biocbuild/bbs-3.19-bioc/meat/AlpsNMR.Rcheck'
* using R version 4.4.1 (2024-06-14 ucrt)
* using platform: x86_64-w64-mingw32
* R was compiled by
gcc.exe (GCC) 13.2.0
GNU Fortran (GCC) 13.2.0
* running under: Windows Server 2022 x64 (build 20348)
* using session charset: UTF-8
* using option '--no-vignettes'
* checking for file 'AlpsNMR/DESCRIPTION' ... OK
* checking extension type ... Package
* this is package 'AlpsNMR' version '4.6.0'
* package encoding: UTF-8
* checking package namespace information ... OK
* checking package dependencies ... OK
* checking if this is a source package ... OK
* checking if there is a namespace ... OK
* checking for hidden files and directories ... OK
* checking for portable file names ... OK
* checking whether package 'AlpsNMR' can be installed ... OK
* checking installed package size ... OK
* checking package directory ... OK
* checking 'build' directory ... OK
* checking DESCRIPTION meta-information ... OK
* checking top-level files ... OK
* checking for left-over files ... OK
* checking index information ... OK
* checking package subdirectories ... OK
* checking code files for non-ASCII characters ... OK
* checking R files for syntax errors ... OK
* checking whether the package can be loaded ... OK
* checking whether the package can be loaded with stated dependencies ... OK
* checking whether the package can be unloaded cleanly ... OK
* checking whether the namespace can be loaded with stated dependencies ... OK
* checking whether the namespace can be unloaded cleanly ... OK
* checking dependencies in R code ... OK
* checking S3 generic/method consistency ... OK
* checking replacement functions ... OK
* checking foreign function calls ... OK
* checking R code for possible problems ... OK
* checking Rd files ... OK
* checking Rd metadata ... OK
* checking Rd cross-references ... OK
* checking for missing documentation entries ... OK
* checking for code/documentation mismatches ... OK
* checking Rd \usage sections ... OK
* checking Rd contents ... OK
* checking for unstated dependencies in examples ... OK
* checking contents of 'data' directory ... OK
* checking data for non-ASCII characters ... OK
* checking data for ASCII and uncompressed saves ... OK
* checking sizes of PDF files under 'inst/doc' ... OK
* checking files in 'vignettes' ... OK
* checking examples ... OK
Examples with CPU (user + system) or elapsed time > 5s
user system elapsed
SummarizedExperiment_to_nmr_data_1r 6.85 0.28 11.03
nmr_pca_outliers_robust 6.16 0.16 9.79
plsda_auroc_vip_compare 3.16 0.03 16.25
Peak_detection 2.60 0.08 26.34
permutation_test_model 2.26 0.01 14.27
bp_VIP_analysis 2.19 0.05 12.80
nmr_pca_build_model 2.07 0.10 9.52
permutation_test_plot 2.11 0.03 18.97
nmr_meta_add 1.92 0.05 8.91
nmr_interpolate_1D 1.88 0.03 9.31
validate_nmr_dataset 1.75 0.05 9.28
nmr_read_samples 1.73 0.01 8.61
nmr_data_analysis 1.56 0.01 8.26
AlpsNMR-package 1.43 0.08 5.22
bp_kfold_VIP_analysis 1.50 0.00 8.44
plot_plsda_multimodel 1.41 0.06 7.65
SummarizedExperiment_to_nmr_dataset_peak_table 1.32 0.06 5.28
models_stability_plot_plsda 1.34 0.00 8.31
plot_plsda_samples 1.32 0.00 8.20
nmr_dataset_peak_table_to_SummarizedExperiment 1.24 0.05 5.03
sub-.nmr_dataset 0.97 0.03 5.15
* checking for unstated dependencies in 'tests' ... OK
* checking tests ...
Running 'testthat.R'
OK
* checking for unstated dependencies in vignettes ... OK
* checking package vignettes ... OK
* checking running R code from vignettes ... SKIPPED
* checking re-building of vignette outputs ... SKIPPED
* checking PDF version of manual ... OK
* DONE
Status: OK
AlpsNMR.Rcheck/00install.out
############################################################################## ############################################################################## ### ### Running command: ### ### E:\biocbuild\bbs-3.19-bioc\R\bin\R.exe CMD INSTALL AlpsNMR ### ############################################################################## ############################################################################## * installing to library 'E:/biocbuild/bbs-3.19-bioc/R/library' * installing *source* package 'AlpsNMR' ... ** using staged installation ** R ** data ** inst ** byte-compile and prepare package for lazy loading ** help *** installing help indices *** copying figures ** building package indices ** installing vignettes ** testing if installed package can be loaded from temporary location ** testing if installed package can be loaded from final location ** testing if installed package keeps a record of temporary installation path * DONE (AlpsNMR)
AlpsNMR.Rcheck/tests/testthat.Rout
R version 4.4.1 (2024-06-14 ucrt) -- "Race for Your Life"
Copyright (C) 2024 The R Foundation for Statistical Computing
Platform: x86_64-w64-mingw32/x64
R is free software and comes with ABSOLUTELY NO WARRANTY.
You are welcome to redistribute it under certain conditions.
Type 'license()' or 'licence()' for distribution details.
R is a collaborative project with many contributors.
Type 'contributors()' for more information and
'citation()' on how to cite R or R packages in publications.
Type 'demo()' for some demos, 'help()' for on-line help, or
'help.start()' for an HTML browser interface to help.
Type 'q()' to quit R.
> library(testthat)
> library(AlpsNMR)
Loading required package: future
Attaching package: 'AlpsNMR'
The following object is masked from 'package:stats':
filter
>
> test_check("AlpsNMR")
[ FAIL 0 | WARN 0 | SKIP 1 | PASS 91 ]
══ Skipped tests (1) ═══════════════════════════════════════════════════════════
• On Bioconductor (1): 'test_rDolphin.R:2:5'
[ FAIL 0 | WARN 0 | SKIP 1 | PASS 91 ]
>
> proc.time()
user system elapsed
10.85 0.75 56.35
AlpsNMR.Rcheck/AlpsNMR-Ex.timings
| name | user | system | elapsed | |
| AlpsNMR-package | 1.43 | 0.08 | 5.22 | |
| HMDB_blood | 0.00 | 0.01 | 0.02 | |
| HMDB_cell | 0 | 0 | 0 | |
| HMDB_urine | 0.00 | 0.02 | 0.02 | |
| Parameters_blood | 0.02 | 0.00 | 0.01 | |
| Parameters_cell | 0 | 0 | 0 | |
| Parameters_urine | 0.01 | 0.00 | 0.02 | |
| Peak_detection | 2.60 | 0.08 | 26.34 | |
| Pipelines | 0 | 0 | 0 | |
| ROI_blood | 0 | 0 | 0 | |
| ROI_cell | 0 | 0 | 0 | |
| ROI_urine | 0.00 | 0.02 | 0.01 | |
| SummarizedExperiment_to_nmr_data_1r | 6.85 | 0.28 | 11.03 | |
| SummarizedExperiment_to_nmr_dataset_peak_table | 1.32 | 0.06 | 5.28 | |
| bp_VIP_analysis | 2.19 | 0.05 | 12.80 | |
| bp_kfold_VIP_analysis | 1.50 | 0.00 | 8.44 | |
| download_MTBLS242 | 0 | 0 | 0 | |
| file_lister | 0.05 | 0.00 | 0.04 | |
| files_to_rDolphin | 0 | 0 | 0 | |
| filter.nmr_dataset_family | 0.89 | 0.03 | 4.72 | |
| format.nmr_dataset | 0.80 | 0.02 | 4.42 | |
| format.nmr_dataset_1D | 0.94 | 0.00 | 4.52 | |
| format.nmr_dataset_peak_table | 0.97 | 0.03 | 4.61 | |
| get_integration_with_metadata | 0.03 | 0.00 | 0.03 | |
| hmdb | 0.05 | 0.15 | 0.20 | |
| is.nmr_dataset | 0.87 | 0.04 | 4.30 | |
| is.nmr_dataset_1D | 0.86 | 0.01 | 4.56 | |
| is.nmr_dataset_peak_table | 1.00 | 0.03 | 4.73 | |
| load_and_save_functions | 0.81 | 0.00 | 4.43 | |
| models_stability_plot_bootstrap | 0 | 0 | 0 | |
| models_stability_plot_plsda | 1.34 | 0.00 | 8.31 | |
| new_nmr_dataset | 0 | 0 | 0 | |
| new_nmr_dataset_1D | 0 | 0 | 0 | |
| new_nmr_dataset_peak_table | 0.99 | 0.05 | 4.63 | |
| nmr_baseline_estimation | 0.14 | 0.02 | 0.17 | |
| nmr_baseline_removal | 0.01 | 0.00 | 0.02 | |
| nmr_baseline_threshold | 0 | 0 | 0 | |
| nmr_baseline_threshold_plot | 0.24 | 0.03 | 0.26 | |
| nmr_batman | 0.01 | 0.00 | 0.02 | |
| nmr_batman_options | 0 | 0 | 0 | |
| nmr_build_peak_table | 0.03 | 0.00 | 0.03 | |
| nmr_data | 0.08 | 0.00 | 0.08 | |
| nmr_data_1r_to_SummarizedExperiment | 1.25 | 0.03 | 4.86 | |
| nmr_data_analysis | 1.56 | 0.01 | 8.26 | |
| nmr_dataset | 0 | 0 | 0 | |
| nmr_dataset_1D | 0 | 0 | 0 | |
| nmr_dataset_peak_table_to_SummarizedExperiment | 1.24 | 0.05 | 5.03 | |
| nmr_exclude_region | 0.01 | 0.00 | 0.01 | |
| nmr_export_data_1r | 1.00 | 0.03 | 4.66 | |
| nmr_get_peak_distances | 0.02 | 0.00 | 0.02 | |
| nmr_identify_regions_blood | 0.02 | 0.00 | 0.01 | |
| nmr_identify_regions_cell | 0.01 | 0.00 | 0.02 | |
| nmr_identify_regions_urine | 0.02 | 0.00 | 0.01 | |
| nmr_integrate_regions | 0.01 | 0.00 | 0.02 | |
| nmr_interpolate_1D | 1.88 | 0.03 | 9.31 | |
| nmr_meta_add | 1.92 | 0.05 | 8.91 | |
| nmr_meta_export | 0.73 | 0.03 | 4.72 | |
| nmr_meta_get | 0.85 | 0.02 | 4.42 | |
| nmr_meta_get_column | 0.89 | 0.03 | 4.69 | |
| nmr_meta_groups | 0.90 | 0.01 | 4.42 | |
| nmr_normalize | 0.29 | 0.00 | 0.28 | |
| nmr_pca_build_model | 2.07 | 0.10 | 9.52 | |
| nmr_pca_outliers | 1.01 | 0.05 | 4.95 | |
| nmr_pca_outliers_filter | 1.05 | 0.04 | 4.62 | |
| nmr_pca_outliers_plot | 0 | 0 | 0 | |
| nmr_pca_outliers_robust | 6.16 | 0.16 | 9.79 | |
| nmr_pca_plots | 0.36 | 0.00 | 0.35 | |
| nmr_peak_clustering | 0.06 | 0.00 | 0.07 | |
| nmr_ppm_resolution | 0.02 | 0.00 | 0.01 | |
| nmr_read_bruker_fid | 0 | 0 | 0 | |
| nmr_read_samples | 1.73 | 0.01 | 8.61 | |
| nmr_zip_bruker_samples | 0.00 | 0.04 | 0.42 | |
| peaklist_accept_peaks | 0.02 | 0.00 | 0.02 | |
| permutation_test_model | 2.26 | 0.01 | 14.27 | |
| permutation_test_plot | 2.11 | 0.03 | 18.97 | |
| plot.nmr_dataset_1D | 0 | 0 | 0 | |
| plot_bootstrap_multimodel | 0 | 0 | 0 | |
| plot_interactive | 0.95 | 0.03 | 4.87 | |
| plot_plsda_multimodel | 1.41 | 0.06 | 7.65 | |
| plot_plsda_samples | 1.32 | 0.00 | 8.20 | |
| plot_vip_scores | 0 | 0 | 0 | |
| plot_webgl | 0 | 0 | 0 | |
| plsda_auroc_vip_compare | 3.16 | 0.03 | 16.25 | |
| plsda_auroc_vip_method | 0 | 0 | 0 | |
| ppm_resolution | 0.00 | 0.00 | 0.11 | |
| print.nmr_dataset | 0.84 | 0.00 | 4.64 | |
| print.nmr_dataset_1D | 1.02 | 0.05 | 4.69 | |
| print.nmr_dataset_peak_table | 1.01 | 0.03 | 4.69 | |
| random_subsampling | 0.00 | 0.02 | 0.01 | |
| save_files_to_rDolphin | 0 | 0 | 0 | |
| save_profiling_output | 0 | 0 | 0 | |
| sub-.nmr_dataset | 0.97 | 0.03 | 5.15 | |
| sub-.nmr_dataset_1D | 0.93 | 0.03 | 4.62 | |
| sub-.nmr_dataset_peak_table | 0.89 | 0.05 | 4.67 | |
| tidy.nmr_dataset_1D | 1.00 | 0.00 | 4.78 | |
| to_ChemoSpec | 1.21 | 0.07 | 4.96 | |
| validate_nmr_dataset | 1.75 | 0.05 | 9.28 | |
| validate_nmr_dataset_family | 1.02 | 0.06 | 4.75 | |
| validate_nmr_dataset_peak_table | 0 | 0 | 0 | |
| zzz | 0.00 | 0.00 | 2.01 | |