Back to First build/check report with an "external build node"

This page was generated on 2023-06-01 18:17:19 -0400 (Thu, 01 Jun 2023).

HostnameOSArch (*)R versionInstalled pkgs
xps15Linux (Ubuntu 23.04)x86_644.3.0 Patched (2023-05-23 r84466) -- "Already Tomorrow" 544
Click on any hostname to see more info about the system (e.g. compilers)      (*) as reported by 'uname -p', except on Windows and Mac OS X

CHECK results for geneplotter on xps15


To the developers/maintainers of the geneplotter package:
Use the following Renviron settings to reproduce errors and warnings.

Note: If "R CMD check" recently failed on the Linux builder over a missing dependency, add the missing dependency to "Suggests" in your DESCRIPTION file. See the Renviron.bioc for details.

raw results

Package 39/91HostnameOS / ArchINSTALLBUILDCHECKBUILD BIN
geneplotter 1.79.0  (landing page)
Bioconductor Package Maintainer
Snapshot Date: 2023-06-01 15:10:15 -0400 (Thu, 01 Jun 2023)
git_url: https://git.bioconductor.org/packages/geneplotter
git_branch: devel
git_last_commit: 8c99dd3
git_last_commit_date: 2023-04-25 09:38:21 -0400 (Tue, 25 Apr 2023)
xps15Linux (Ubuntu 23.04) / x86_64  OK    OK    OK  

Summary

Package: geneplotter
Version: 1.79.0
Command: /home/hpages/bbs-3.18-bioc/R/bin/R CMD check --install=check:geneplotter.install-out.txt --library=/home/hpages/bbs-3.18-bioc-testing/Rlibs --timings geneplotter_1.79.0.tar.gz
StartedAt: 2023-06-01 13:04:55 -0700 (Thu, 01 Jun 2023)
EndedAt: 2023-06-01 13:07:44 -0700 (Thu, 01 Jun 2023)
EllapsedTime: 169.1 seconds
RetCode: 0
Status:   OK  
CheckDir: geneplotter.Rcheck
Warnings: 0

Command output

##############################################################################
##############################################################################
###
### Running command:
###
###   /home/hpages/bbs-3.18-bioc/R/bin/R CMD check --install=check:geneplotter.install-out.txt --library=/home/hpages/bbs-3.18-bioc-testing/Rlibs --timings geneplotter_1.79.0.tar.gz
###
##############################################################################
##############################################################################


* using log directory ‘/home/hpages/bbs-3.18-bioc-testing/meat/geneplotter.Rcheck’
* using R version 4.3.0 Patched (2023-05-23 r84466)
* using platform: x86_64-pc-linux-gnu (64-bit)
* R was compiled by
    gcc (Ubuntu 12.2.0-17ubuntu1) 12.2.0
    GNU Fortran (Ubuntu 12.2.0-17ubuntu1) 12.2.0
* running under: Ubuntu 23.04
* using session charset: UTF-8
* checking for file ‘geneplotter/DESCRIPTION’ ... OK
* this is package ‘geneplotter’ version ‘1.79.0’
* checking package namespace information ... OK
* checking package dependencies ... OK
* checking if this is a source package ... OK
* checking if there is a namespace ... OK
* checking for hidden files and directories ... OK
* checking for portable file names ... OK
* checking for sufficient/correct file permissions ... OK
* checking whether package ‘geneplotter’ can be installed ... OK
* checking installed package size ... OK
* checking package directory ... OK
* checking ‘build’ directory ... OK
* checking DESCRIPTION meta-information ... NOTE
Malformed Description field: should contain one or more complete sentences.
* checking top-level files ... OK
* checking for left-over files ... OK
* checking index information ... OK
* checking package subdirectories ... OK
* checking R files for non-ASCII characters ... OK
* checking R files for syntax errors ... OK
* checking whether the package can be loaded ... OK
* checking whether the package can be loaded with stated dependencies ... OK
* checking whether the package can be unloaded cleanly ... OK
* checking whether the namespace can be loaded with stated dependencies ... OK
* checking whether the namespace can be unloaded cleanly ... OK
* checking loading without being on the library search path ... OK
* checking startup messages can be suppressed ... OK
* checking dependencies in R code ... NOTE
'library' or 'require' call to ‘annotate’ which was already attached by Depends.
  Please remove these calls from your code.
'library' or 'require' call to ‘Rgraphviz’ in package code.
  Please use :: or requireNamespace() instead.
  See section 'Suggested packages' in the 'Writing R Extensions' manual.
Package in Depends field not imported from: ‘lattice’
  These packages need to be imported from (in the NAMESPACE file)
  for when this namespace is loaded but not attached.
* checking S3 generic/method consistency ... OK
* checking replacement functions ... OK
* checking foreign function calls ... OK
* checking R code for possible problems ... NOTE
plotExpressionGraph: no visible global function definition for
  ‘selectMethod’
Undefined global functions or variables:
  selectMethod
Consider adding
  importFrom("methods", "selectMethod")
to your NAMESPACE file (and ensure that your DESCRIPTION Imports field
contains 'methods').
* checking Rd files ... OK
* checking Rd metadata ... OK
* checking Rd cross-references ... NOTE
Unknown package ‘prada’ in Rd xrefs
* checking for missing documentation entries ... OK
* checking for code/documentation mismatches ... OK
* checking Rd \usage sections ... OK
* checking Rd contents ... OK
* checking for unstated dependencies in examples ... OK
* checking contents of ‘data’ directory ... OK
* checking data for non-ASCII characters ... OK
* checking data for ASCII and uncompressed saves ... OK
* checking files in ‘vignettes’ ... OK
* checking examples ... OK
* checking for unstated dependencies in vignettes ... OK
* checking package vignettes in ‘inst/doc’ ... OK
* checking running R code from vignettes ...
  ‘byChroms.Rnw’... OK
  ‘visualize.Rnw’... OK
 OK
* checking re-building of vignette outputs ... OK
* checking PDF version of manual ... OK
* DONE

Status: 4 NOTEs
See
  ‘/home/hpages/bbs-3.18-bioc-testing/meat/geneplotter.Rcheck/00check.log’
for details.



Installation output

geneplotter.Rcheck/00install.out

##############################################################################
##############################################################################
###
### Running command:
###
###   /home/hpages/bbs-3.18-bioc/R/bin/R CMD INSTALL geneplotter
###
##############################################################################
##############################################################################


* installing to library ‘/home/hpages/bbs-3.18-bioc-testing/Rlibs’
* installing *source* package ‘geneplotter’ ...
** using staged installation
** R
** data
** inst
** byte-compile and prepare package for lazy loading
** help
*** installing help indices
** building package indices
** installing vignettes
** testing if installed package can be loaded from temporary location
** testing if installed package can be loaded from final location
** testing if installed package keeps a record of temporary installation path
* DONE (geneplotter)

Tests output


Example timings

geneplotter.Rcheck/geneplotter-Ex.timings

nameusersystemelapsed
GetColor0.0030.0000.003
Makesense2.2710.0442.329
alongChrom1.0240.0161.040
amplicon.plot0.0010.0000.000
cColor0.9530.0120.966
cPlot0.7480.0040.753
cScale0.7570.0040.761
eset133a0.2320.0040.236
groupedHeatmap0.0280.0000.028
histStack0.0180.0040.022
imageMap0.0560.0120.092
make.chromOrd0.1950.0160.211
multiecdf0.0840.0000.084
openHtmlPage0.0020.0000.001
plotChr1.2380.0241.262
plotExpressionGraph1.5320.0161.563
plotMA0.0410.0000.040
savepng0.1670.0040.173