| Back to Mac ARM64 build report for BioC 3.18 |
|
This page was generated on 2024-04-15 11:32:24 -0400 (Mon, 15 Apr 2024).
| Hostname | OS | Arch (*) | R version | Installed pkgs |
|---|---|---|---|---|
| kjohnson1 | macOS 13.6.1 Ventura | arm64 | 4.3.3 (2024-02-29) -- "Angel Food Cake" | 4388 |
| Click on any hostname to see more info about the system (e.g. compilers) (*) as reported by 'uname -p', except on Windows and Mac OS X | ||||
| Package 2247/2266 | Hostname | OS / Arch | INSTALL | BUILD | CHECK | BUILD BIN | ||||||||
| wpm 1.12.0 (landing page) Helene Borges
| kjohnson1 | macOS 13.6.1 Ventura / arm64 | OK | OK | OK | OK | ||||||||
|
To the developers/maintainers of the wpm package: - Use the following Renviron settings to reproduce errors and warnings. - If 'R CMD check' started to fail recently on the Linux builder(s) over a missing dependency, add the missing dependency to 'Suggests:' in your DESCRIPTION file. See Renviron.bioc for more information. |
| Package: wpm |
| Version: 1.12.0 |
| Command: rm -rf wpm.buildbin-libdir && mkdir wpm.buildbin-libdir && /Users/biocbuild/BBS/utils/build-universal.sh wpm_1.12.0.tar.gz /Library/Frameworks/R.framework/Resources/bin/R wpm.buildbin-libdir |
| StartedAt: 2024-04-15 10:57:15 -0400 (Mon, 15 Apr 2024) |
| EndedAt: 2024-04-15 10:57:22 -0400 (Mon, 15 Apr 2024) |
| EllapsedTime: 6.8 seconds |
| RetCode: 0 |
| Status: OK |
| PackageFile: wpm_1.12.0.tgz |
| PackageFileSize: 1.943 MiB |
##############################################################################
##############################################################################
###
### Running command:
###
### rm -rf wpm.buildbin-libdir && mkdir wpm.buildbin-libdir && /Users/biocbuild/BBS/utils/build-universal.sh wpm_1.12.0.tar.gz /Library/Frameworks/R.framework/Resources/bin/R wpm.buildbin-libdir
###
##############################################################################
##############################################################################
>>>>>>>
>>>>>>> INSTALLATION WITH 'R CMD INSTALL --preclean --no-multiarch --library=wpm.buildbin-libdir wpm_1.12.0.tar.gz'
>>>>>>>
* installing *source* package ‘wpm’ ...
** using staged installation
** R
** data
** inst
** byte-compile and prepare package for lazy loading
** help
*** installing help indices
** building package indices
** installing vignettes
** testing if installed package can be loaded from temporary location
── This is the Well-Plate Maker package. ───────────────────────────────────────
If you want to use the shiny application, then simply run: `wpm()`.If you want
to see the Tutorial vignette and use WPM in command line, run:
`browseVignettes('wpm')`.
** testing if installed package can be loaded from final location
── This is the Well-Plate Maker package. ───────────────────────────────────────
If you want to use the shiny application, then simply run: `wpm()`.If you want
to see the Tutorial vignette and use WPM in command line, run:
`browseVignettes('wpm')`.
** testing if installed package keeps a record of temporary installation path
* DONE (wpm)