| Back to Multiple platform build/check report for BioC 3.17 |
|
This page was generated on 2023-04-12 10:55:24 -0400 (Wed, 12 Apr 2023).
| Hostname | OS | Arch (*) | R version | Installed pkgs |
|---|---|---|---|---|
| nebbiolo1 | Linux (Ubuntu 22.04.1 LTS) | x86_64 | 4.3.0 alpha (2023-04-03 r84154) | 4547 |
| nebbiolo2 | Linux (Ubuntu 20.04.5 LTS) | x86_64 | R Under development (unstable) (2023-02-14 r83833) -- "Unsuffered Consequences" | 4333 |
| Click on any hostname to see more info about the system (e.g. compilers) (*) as reported by 'uname -p', except on Windows and Mac OS X | ||||
|
To the developers/maintainers of the flowGraph package: - Allow up to 24 hours (and sometimes 48 hours) for your latest push to git@git.bioconductor.org:packages/flowGraph.git to reflect on this report. See Troubleshooting Build Report for more information. - Use the following Renviron settings to reproduce errors and warnings. Note: If "R CMD check" recently failed on the Linux builder over a missing dependency, add the missing dependency to "Suggests" in your DESCRIPTION file. See the Renviron.bioc for details. |
| Package 711/2207 | Hostname | OS / Arch | INSTALL | BUILD | CHECK | BUILD BIN | ||||||||
| flowGraph 1.7.0 (landing page) Alice Yue
| nebbiolo1 | Linux (Ubuntu 22.04.1 LTS) / x86_64 | OK | OK | OK | |||||||||
| nebbiolo2 | Linux (Ubuntu 20.04.5 LTS) / x86_64 | OK | OK | OK | ||||||||||
| Package: flowGraph |
| Version: 1.7.0 |
| Command: /home/biocbuild/bbs-3.17-bioc/R/bin/R CMD check --install=check:flowGraph.install-out.txt --library=/home/biocbuild/bbs-3.17-bioc/R/site-library --timings flowGraph_1.7.0.tar.gz |
| StartedAt: 2023-04-11 20:21:19 -0400 (Tue, 11 Apr 2023) |
| EndedAt: 2023-04-11 20:25:27 -0400 (Tue, 11 Apr 2023) |
| EllapsedTime: 247.8 seconds |
| RetCode: 0 |
| Status: OK |
| CheckDir: flowGraph.Rcheck |
| Warnings: 0 |
##############################################################################
##############################################################################
###
### Running command:
###
### /home/biocbuild/bbs-3.17-bioc/R/bin/R CMD check --install=check:flowGraph.install-out.txt --library=/home/biocbuild/bbs-3.17-bioc/R/site-library --timings flowGraph_1.7.0.tar.gz
###
##############################################################################
##############################################################################
* using log directory ‘/home/biocbuild/bbs-3.17-bioc/meat/flowGraph.Rcheck’
* using R version 4.3.0 alpha (2023-04-03 r84154)
* using platform: x86_64-pc-linux-gnu (64-bit)
* R was compiled by
gcc (Ubuntu 11.3.0-1ubuntu1~22.04) 11.3.0
GNU Fortran (Ubuntu 11.3.0-1ubuntu1~22.04) 11.3.0
* running under: Ubuntu 22.04.2 LTS
* using session charset: UTF-8
* checking for file ‘flowGraph/DESCRIPTION’ ... OK
* checking extension type ... Package
* this is package ‘flowGraph’ version ‘1.7.0’
* checking package namespace information ... OK
* checking package dependencies ... OK
* checking if this is a source package ... OK
* checking if there is a namespace ... OK
* checking for hidden files and directories ... OK
* checking for portable file names ... OK
* checking for sufficient/correct file permissions ... OK
* checking whether package ‘flowGraph’ can be installed ... OK
* checking installed package size ... OK
* checking package directory ... OK
* checking ‘build’ directory ... OK
* checking DESCRIPTION meta-information ... OK
* checking top-level files ... OK
* checking for left-over files ... OK
* checking index information ... OK
* checking package subdirectories ... OK
* checking R files for non-ASCII characters ... OK
* checking R files for syntax errors ... OK
* checking whether the package can be loaded ... OK
* checking whether the package can be loaded with stated dependencies ... OK
* checking whether the package can be unloaded cleanly ... OK
* checking whether the namespace can be loaded with stated dependencies ... OK
* checking whether the namespace can be unloaded cleanly ... OK
* checking loading without being on the library search path ... OK
* checking dependencies in R code ... OK
* checking S3 generic/method consistency ... OK
* checking replacement functions ... OK
* checking foreign function calls ... OK
* checking R code for possible problems ... NOTE
get_child: no visible binding for global variable ‘no_cores’
get_paren: no visible binding for global variable ‘no_cores’
ms_psig: no visible binding for global variable ‘meta’
Undefined global functions or variables:
meta no_cores
* checking Rd files ... OK
* checking Rd metadata ... OK
* checking Rd cross-references ... OK
* checking for missing documentation entries ... OK
* checking for code/documentation mismatches ... OK
* checking Rd \usage sections ... OK
* checking Rd contents ... OK
* checking for unstated dependencies in examples ... OK
* checking contents of ‘data’ directory ... OK
* checking data for non-ASCII characters ... OK
* checking data for ASCII and uncompressed saves ... OK
* checking files in ‘vignettes’ ... OK
* checking examples ... OK
Examples with CPU (user + system) or elapsed time > 5s
user system elapsed
fg_save_plots 41.870 0.840 42.710
fg_save 41.761 0.804 42.565
fg_load 40.658 0.892 41.455
* checking for unstated dependencies in ‘tests’ ... OK
* checking tests ...
Running ‘testthat.R’
OK
* checking for unstated dependencies in vignettes ... OK
* checking package vignettes in ‘inst/doc’ ... OK
* checking running R code from vignettes ...
‘flowGraph.Rmd’ using ‘UTF-8’... OK
NONE
* checking re-building of vignette outputs ... OK
* checking PDF version of manual ... OK
* DONE
Status: 1 NOTE
See
‘/home/biocbuild/bbs-3.17-bioc/meat/flowGraph.Rcheck/00check.log’
for details.
flowGraph.Rcheck/00install.out
############################################################################## ############################################################################## ### ### Running command: ### ### /home/biocbuild/bbs-3.17-bioc/R/bin/R CMD INSTALL flowGraph ### ############################################################################## ############################################################################## * installing to library ‘/home/biocbuild/bbs-3.17-bioc/R/site-library’ * installing *source* package ‘flowGraph’ ... ** using staged installation ** R ** data ** inst ** byte-compile and prepare package for lazy loading ** help Loading required namespace: flowGraph *** installing help indices ** building package indices ** installing vignettes ** testing if installed package can be loaded from temporary location ** testing if installed package can be loaded from final location ** testing if installed package keeps a record of temporary installation path * DONE (flowGraph)
flowGraph.Rcheck/tests/testthat.Rout
R version 4.3.0 alpha (2023-04-03 r84154)
Copyright (C) 2023 The R Foundation for Statistical Computing
Platform: x86_64-pc-linux-gnu (64-bit)
R is free software and comes with ABSOLUTELY NO WARRANTY.
You are welcome to redistribute it under certain conditions.
Type 'license()' or 'licence()' for distribution details.
R is a collaborative project with many contributors.
Type 'contributors()' for more information and
'citation()' on how to cite R or R packages in publications.
Type 'demo()' for some demos, 'help()' for on-line help, or
'help.start()' for an HTML browser interface to help.
Type 'q()' to quit R.
> library(testthat)
> library(flowGraph)
>
> test_check("flowGraph")
[ FAIL 0 | WARN 0 | SKIP 0 | PASS 34 ]
>
> proc.time()
user system elapsed
4.772 0.161 4.924
flowGraph.Rcheck/flowGraph-Ex.timings
| name | user | system | elapsed | |
| cell_type_layers | 0.003 | 0.000 | 0.003 | |
| fg_add_feature | 0.325 | 0.012 | 0.337 | |
| fg_add_summary | 0.781 | 0.008 | 0.789 | |
| fg_clean_phen | 0.000 | 0.001 | 0.000 | |
| fg_clear_features | 0.819 | 0.003 | 0.822 | |
| fg_clear_summary | 0.322 | 0.000 | 0.323 | |
| fg_extract_phenotypes | 0.253 | 0.002 | 0.254 | |
| fg_extract_raw | 0.735 | 0.018 | 0.753 | |
| fg_extract_samples | 0.259 | 0.004 | 0.263 | |
| fg_feat_cumsum | 0.257 | 0.000 | 0.257 | |
| fg_feat_edge_specenr | 0.364 | 0.004 | 0.368 | |
| fg_feat_mean_class | 0.252 | 0.000 | 0.252 | |
| fg_feat_node_prop | 0.263 | 0.004 | 0.267 | |
| fg_feat_node_specenr | 0.372 | 0.004 | 0.376 | |
| fg_feat_prop_edge | 0.264 | 0.000 | 0.264 | |
| fg_get_feature | 0.253 | 0.000 | 0.254 | |
| fg_get_feature_desc | 0.773 | 0.012 | 0.785 | |
| fg_get_feature_means | 1.142 | 0.000 | 1.142 | |
| fg_get_graph | 0.284 | 0.000 | 0.285 | |
| fg_get_markers | 0.255 | 0.004 | 0.259 | |
| fg_get_meta | 0.276 | 0.000 | 0.276 | |
| fg_get_summary | 1.655 | 0.004 | 1.659 | |
| fg_get_summary_desc | 0.987 | 0.040 | 1.027 | |
| fg_get_summary_index | 1.456 | 0.020 | 1.476 | |
| fg_get_summary_tables | 1.023 | 0.012 | 1.034 | |
| fg_gsub_ids | 0.238 | 0.000 | 0.239 | |
| fg_gsub_markers | 0.275 | 0.004 | 0.279 | |
| fg_load | 40.658 | 0.892 | 41.455 | |
| fg_merge | 0.304 | 0.028 | 0.332 | |
| fg_merge_samples | 0.295 | 0.004 | 0.299 | |
| fg_plot | 0.402 | 0.004 | 0.406 | |
| fg_plot_box | 0.689 | 0.004 | 0.693 | |
| fg_plot_pVSdiff | 0.418 | 0.008 | 0.426 | |
| fg_plot_qq | 1.225 | 0.008 | 1.233 | |
| fg_replace_meta | 0.277 | 0.004 | 0.281 | |
| fg_rm_feature | 0.834 | 0.004 | 0.838 | |
| fg_rm_summary | 0.376 | 0.000 | 0.376 | |
| fg_save | 41.761 | 0.804 | 42.565 | |
| fg_save_plots | 41.87 | 0.84 | 42.71 | |
| fg_set_layout | 0.311 | 0.008 | 0.319 | |
| fg_summary | 0.368 | 0.000 | 0.368 | |
| flowGraph-class | 0.001 | 0.000 | 0.001 | |
| flowGraph | 1.252 | 0.032 | 1.284 | |
| flowGraphSubset | 0.000 | 0.000 | 0.001 | |
| flowGraphSubset_summary_adjust | 0.001 | 0.000 | 0.001 | |
| flowGraphSubset_summary_pars | 0.001 | 0.000 | 0.000 | |
| get_phen_list | 0.014 | 0.000 | 0.013 | |
| get_phen_meta | 0.002 | 0.000 | 0.002 | |
| ggdf | 0.287 | 0.004 | 0.292 | |
| loop_ind_f | 0.000 | 0.000 | 0.001 | |
| meandiff | 0.000 | 0.000 | 0.001 | |
| plot_gr | 1.481 | 0.008 | 1.491 | |
| set_layout_graph | 0.279 | 0.031 | 0.310 | |
| summary_table | 0.003 | 0.000 | 0.003 | |
| time_output | 0.001 | 0.000 | 0.001 | |
| tstr | 0 | 0 | 0 | |