| Back to Multiple platform build/check report for BioC 3.17 |
|
This page was generated on 2023-04-12 10:55:41 -0400 (Wed, 12 Apr 2023).
| Hostname | OS | Arch (*) | R version | Installed pkgs |
|---|---|---|---|---|
| nebbiolo1 | Linux (Ubuntu 22.04.1 LTS) | x86_64 | 4.3.0 alpha (2023-04-03 r84154) | 4547 |
| nebbiolo2 | Linux (Ubuntu 20.04.5 LTS) | x86_64 | R Under development (unstable) (2023-02-14 r83833) -- "Unsuffered Consequences" | 4333 |
| Click on any hostname to see more info about the system (e.g. compilers) (*) as reported by 'uname -p', except on Windows and Mac OS X | ||||
|
To the developers/maintainers of the ScreenR package: - Allow up to 24 hours (and sometimes 48 hours) for your latest push to git@git.bioconductor.org:packages/ScreenR.git to reflect on this report. See Troubleshooting Build Report for more information. - Use the following Renviron settings to reproduce errors and warnings. Note: If "R CMD check" recently failed on the Linux builder over a missing dependency, add the missing dependency to "Suggests" in your DESCRIPTION file. See the Renviron.bioc for details. |
| Package 1840/2207 | Hostname | OS / Arch | INSTALL | BUILD | CHECK | BUILD BIN | ||||||||
| ScreenR 1.1.0 (landing page) Emanuel Michele Soda
| nebbiolo1 | Linux (Ubuntu 22.04.1 LTS) / x86_64 | OK | OK | OK | |||||||||
| nebbiolo2 | Linux (Ubuntu 20.04.5 LTS) / x86_64 | OK | OK | OK | ||||||||||
| Package: ScreenR |
| Version: 1.1.0 |
| Command: /home/biocbuild/bbs-3.17-bioc/R/bin/R CMD check --install=check:ScreenR.install-out.txt --library=/home/biocbuild/bbs-3.17-bioc/R/site-library --timings ScreenR_1.1.0.tar.gz |
| StartedAt: 2023-04-12 09:13:59 -0400 (Wed, 12 Apr 2023) |
| EndedAt: 2023-04-12 09:18:17 -0400 (Wed, 12 Apr 2023) |
| EllapsedTime: 257.6 seconds |
| RetCode: 0 |
| Status: OK |
| CheckDir: ScreenR.Rcheck |
| Warnings: 0 |
##############################################################################
##############################################################################
###
### Running command:
###
### /home/biocbuild/bbs-3.17-bioc/R/bin/R CMD check --install=check:ScreenR.install-out.txt --library=/home/biocbuild/bbs-3.17-bioc/R/site-library --timings ScreenR_1.1.0.tar.gz
###
##############################################################################
##############################################################################
* using log directory ‘/home/biocbuild/bbs-3.17-bioc/meat/ScreenR.Rcheck’
* using R Under development (unstable) (2023-02-14 r83833)
* using platform: x86_64-pc-linux-gnu (64-bit)
* R was compiled by
gcc (Ubuntu 9.4.0-1ubuntu1~20.04.1) 9.4.0
GNU Fortran (Ubuntu 9.4.0-1ubuntu1~20.04.1) 9.4.0
* running under: Ubuntu 20.04.6 LTS
* using session charset: UTF-8
* checking for file ‘ScreenR/DESCRIPTION’ ... OK
* checking extension type ... Package
* this is package ‘ScreenR’ version ‘1.1.0’
* package encoding: UTF-8
* checking package namespace information ... OK
* checking package dependencies ... OK
* checking if this is a source package ... OK
* checking if there is a namespace ... OK
* checking for hidden files and directories ... OK
* checking for portable file names ... OK
* checking for sufficient/correct file permissions ... OK
* checking whether package ‘ScreenR’ can be installed ... OK
* checking installed package size ... OK
* checking package directory ... OK
* checking ‘build’ directory ... OK
* checking DESCRIPTION meta-information ... OK
* checking top-level files ... OK
* checking for left-over files ... OK
* checking index information ... OK
* checking package subdirectories ... OK
* checking R files for non-ASCII characters ... OK
* checking R files for syntax errors ... OK
* checking whether the package can be loaded ... OK
* checking whether the package can be loaded with stated dependencies ... OK
* checking whether the package can be unloaded cleanly ... OK
* checking whether the namespace can be loaded with stated dependencies ... OK
* checking whether the namespace can be unloaded cleanly ... OK
* checking loading without being on the library search path ... OK
* checking dependencies in R code ... OK
* checking S3 generic/method consistency ... OK
* checking replacement functions ... OK
* checking foreign function calls ... OK
* checking R code for possible problems ... OK
* checking Rd files ... OK
* checking Rd metadata ... OK
* checking Rd cross-references ... OK
* checking for missing documentation entries ... OK
* checking for code/documentation mismatches ... OK
* checking Rd \usage sections ... OK
* checking Rd contents ... OK
* checking for unstated dependencies in examples ... OK
* checking contents of ‘data’ directory ... OK
* checking data for non-ASCII characters ... OK
* checking data for ASCII and uncompressed saves ... OK
* checking R/sysdata.rda ... OK
* checking files in ‘vignettes’ ... OK
* checking examples ... OK
Examples with CPU (user + system) or elapsed time > 5s
user system elapsed
plot_zscore_distribution 44.073 1.131 45.211
plot_barcode_trend 41.593 0.539 42.135
compute_metrics 28.767 2.072 30.845
find_zscore_hit 19.816 0.244 20.060
find_robust_zscore_hit 19.188 0.508 19.696
* checking for unstated dependencies in ‘tests’ ... OK
* checking tests ...
Running ‘testthat.R’
OK
* checking for unstated dependencies in vignettes ... OK
* checking package vignettes in ‘inst/doc’ ... OK
* checking running R code from vignettes ...
‘Analysis_Example.Rmd’ using ‘UTF-8’... OK
NONE
* checking re-building of vignette outputs ... OK
* checking PDF version of manual ... OK
* DONE
Status: OK
ScreenR.Rcheck/00install.out
############################################################################## ############################################################################## ### ### Running command: ### ### /home/biocbuild/bbs-3.17-bioc/R/bin/R CMD INSTALL ScreenR ### ############################################################################## ############################################################################## * installing to library ‘/home/biocbuild/bbs-3.17-bioc/R/site-library’ * installing *source* package ‘ScreenR’ ... ** using staged installation ** R ** data ** inst ** byte-compile and prepare package for lazy loading ** help *** installing help indices *** copying figures ** building package indices ** installing vignettes ** testing if installed package can be loaded from temporary location ** testing if installed package can be loaded from final location ** testing if installed package keeps a record of temporary installation path * DONE (ScreenR)
ScreenR.Rcheck/tests/testthat.Rout
R Under development (unstable) (2023-02-14 r83833) -- "Unsuffered Consequences"
Copyright (C) 2023 The R Foundation for Statistical Computing
Platform: x86_64-pc-linux-gnu (64-bit)
R is free software and comes with ABSOLUTELY NO WARRANTY.
You are welcome to redistribute it under certain conditions.
Type 'license()' or 'licence()' for distribution details.
R is a collaborative project with many contributors.
Type 'contributors()' for more information and
'citation()' on how to cite R or R packages in publications.
Type 'demo()' for some demos, 'help()' for on-line help, or
'help.start()' for an HTML browser interface to help.
Type 'q()' to quit R.
> library(testthat)
> library(ScreenR)
Welcome to ScreenR
--------------------------
See ?ScreenR for a list of
available functions.
Enjoy!
>
> test_check("ScreenR")
ScreenR count table containing:
5320 rows
15 columns
ScreenR annotation table containing:
5320 rows
5 columns
ScreenR normalized count table containing:
5320 rows
15 columns
ScreenR normalized data table containing:
74480 rows
9 columns
ScreenR annotation table containing:
5320 rows
5 columns
ScreenR annotation table containing:
5320 rows
5 columns
ScreenR count table containing:
5320 rows
15 columns
ScreenR count table containing:
5320 rows
15 columns
ScreenR normalized count table containing:
5320 rows
15 columns
ScreenR normalized count table containing:
5320 rows
15 columns
ScreenR normalized data table containing:
74480 rows
9 columns
ScreenR normalized data table containing:
74480 rows
9 columns
Using classic mode.
[ FAIL 0 | WARN 253 | SKIP 0 | PASS 64 ]
[ FAIL 0 | WARN 253 | SKIP 0 | PASS 64 ]
>
> proc.time()
user system elapsed
28.698 0.749 29.433
ScreenR.Rcheck/ScreenR-Ex.timings
| name | user | system | elapsed | |
| barcode_lost | 0.239 | 0.052 | 0.291 | |
| compute_data_table | 0.262 | 0.008 | 0.269 | |
| compute_explained_variance | 0.031 | 0.004 | 0.035 | |
| compute_metrics | 28.767 | 2.072 | 30.845 | |
| compute_slope | 0.144 | 0.000 | 0.145 | |
| count_mapped_reads | 0.068 | 0.004 | 0.072 | |
| create_edger_obj | 0.046 | 0.000 | 0.046 | |
| create_screenr_object | 0.060 | 0.000 | 0.061 | |
| filter_by_slope | 0.215 | 0.008 | 0.224 | |
| filter_by_variance | 1.255 | 0.004 | 1.260 | |
| find_camera_hit | 1.299 | 0.004 | 1.303 | |
| find_common_hit | 0.097 | 0.004 | 0.101 | |
| find_roast_hit | 1.991 | 0.028 | 2.020 | |
| find_robust_zscore_hit | 19.188 | 0.508 | 19.696 | |
| find_zscore_hit | 19.816 | 0.244 | 20.060 | |
| get_annotation_table | 0.015 | 0.000 | 0.014 | |
| get_count_table | 0.083 | 0.000 | 0.084 | |
| get_data_table | 0.028 | 0.000 | 0.029 | |
| get_groups | 0.000 | 0.000 | 0.001 | |
| get_normalized_count_table | 0.051 | 0.000 | 0.051 | |
| get_replicates | 0.001 | 0.000 | 0.000 | |
| mapped_reads | 0.068 | 0.000 | 0.068 | |
| normalize_data | 0.046 | 0.000 | 0.047 | |
| plot_barcode_hit | 1.274 | 0.000 | 1.274 | |
| plot_barcode_lost | 0.413 | 0.008 | 0.421 | |
| plot_barcode_lost_for_gene | 1.370 | 0.008 | 1.378 | |
| plot_barcode_trend | 41.593 | 0.539 | 42.135 | |
| plot_boxplot | 0.397 | 0.000 | 0.397 | |
| plot_common_hit | 0.231 | 0.001 | 0.231 | |
| plot_explained_variance | 0.374 | 0.000 | 0.374 | |
| plot_mapped_reads | 0.209 | 0.000 | 0.209 | |
| plot_mapped_reads_distribution | 2.355 | 0.000 | 2.355 | |
| plot_mds | 0.483 | 0.000 | 0.483 | |
| plot_trend | 2.131 | 0.008 | 2.139 | |
| plot_zscore_distribution | 44.073 | 1.131 | 45.211 | |
| remove_all_zero_row | 0.016 | 0.000 | 0.016 | |
| set_annotation_table | 0.150 | 0.004 | 0.153 | |
| set_count_table | 0.139 | 0.008 | 0.147 | |
| set_data_table | 0.135 | 0.004 | 0.139 | |
| set_groups | 0.143 | 0.004 | 0.147 | |
| set_normalized_count_table | 0.222 | 0.008 | 0.229 | |
| set_replicates | 0.160 | 0.004 | 0.164 | |