| Back to Multiple platform build/check report for BioC 3.17 |
|
This page was generated on 2023-04-12 10:55:40 -0400 (Wed, 12 Apr 2023).
| Hostname | OS | Arch (*) | R version | Installed pkgs |
|---|---|---|---|---|
| nebbiolo1 | Linux (Ubuntu 22.04.1 LTS) | x86_64 | 4.3.0 alpha (2023-04-03 r84154) | 4547 |
| nebbiolo2 | Linux (Ubuntu 20.04.5 LTS) | x86_64 | R Under development (unstable) (2023-02-14 r83833) -- "Unsuffered Consequences" | 4333 |
| Click on any hostname to see more info about the system (e.g. compilers) (*) as reported by 'uname -p', except on Windows and Mac OS X | ||||
|
To the developers/maintainers of the PhenStat package: - Allow up to 24 hours (and sometimes 48 hours) for your latest push to git@git.bioconductor.org:packages/PhenStat.git to reflect on this report. See Troubleshooting Build Report for more information. - Use the following Renviron settings to reproduce errors and warnings. Note: If "R CMD check" recently failed on the Linux builder over a missing dependency, add the missing dependency to "Suggests" in your DESCRIPTION file. See the Renviron.bioc for details. |
| Package 1495/2207 | Hostname | OS / Arch | INSTALL | BUILD | CHECK | BUILD BIN | ||||||||
| PhenStat 2.35.0 (landing page) Hamed Haselimashhadi
| nebbiolo1 | Linux (Ubuntu 22.04.1 LTS) / x86_64 | OK | OK | OK | |||||||||
| nebbiolo2 | Linux (Ubuntu 20.04.5 LTS) / x86_64 | OK | OK | OK | ||||||||||
| Package: PhenStat |
| Version: 2.35.0 |
| Command: /home/biocbuild/bbs-3.17-bioc/R/bin/R CMD check --install=check:PhenStat.install-out.txt --library=/home/biocbuild/bbs-3.17-bioc/R/site-library --timings PhenStat_2.35.0.tar.gz |
| StartedAt: 2023-04-12 08:20:59 -0400 (Wed, 12 Apr 2023) |
| EndedAt: 2023-04-12 08:24:10 -0400 (Wed, 12 Apr 2023) |
| EllapsedTime: 190.5 seconds |
| RetCode: 0 |
| Status: OK |
| CheckDir: PhenStat.Rcheck |
| Warnings: 0 |
##############################################################################
##############################################################################
###
### Running command:
###
### /home/biocbuild/bbs-3.17-bioc/R/bin/R CMD check --install=check:PhenStat.install-out.txt --library=/home/biocbuild/bbs-3.17-bioc/R/site-library --timings PhenStat_2.35.0.tar.gz
###
##############################################################################
##############################################################################
* using log directory ‘/home/biocbuild/bbs-3.17-bioc/meat/PhenStat.Rcheck’
* using R Under development (unstable) (2023-02-14 r83833)
* using platform: x86_64-pc-linux-gnu (64-bit)
* R was compiled by
gcc (Ubuntu 9.4.0-1ubuntu1~20.04.1) 9.4.0
GNU Fortran (Ubuntu 9.4.0-1ubuntu1~20.04.1) 9.4.0
* running under: Ubuntu 20.04.6 LTS
* using session charset: UTF-8
* checking for file ‘PhenStat/DESCRIPTION’ ... OK
* checking extension type ... Package
* this is package ‘PhenStat’ version ‘2.35.0’
* checking package namespace information ... OK
* checking package dependencies ... OK
* checking if this is a source package ... OK
* checking if there is a namespace ... OK
* checking for hidden files and directories ... OK
* checking for portable file names ... OK
* checking for sufficient/correct file permissions ... OK
* checking whether package ‘PhenStat’ can be installed ... OK
* checking installed package size ... OK
* checking package directory ... OK
* checking ‘build’ directory ... OK
* checking DESCRIPTION meta-information ... OK
* checking top-level files ... OK
* checking for left-over files ... OK
* checking index information ... OK
* checking package subdirectories ... OK
* checking R files for non-ASCII characters ... OK
* checking R files for syntax errors ... OK
* checking whether the package can be loaded ... OK
* checking whether the package can be loaded with stated dependencies ... OK
* checking whether the package can be unloaded cleanly ... OK
* checking whether the namespace can be loaded with stated dependencies ... OK
* checking whether the namespace can be unloaded cleanly ... OK
* checking loading without being on the library search path ... OK
* checking dependencies in R code ... NOTE
Namespace in Imports field not imported from: ‘SmoothWin’
All declared Imports should be used.
* checking S3 generic/method consistency ... OK
* checking replacement functions ... OK
* checking foreign function calls ... OK
* checking R code for possible problems ... OK
* checking Rd files ... OK
* checking Rd metadata ... OK
* checking Rd cross-references ... OK
* checking for missing documentation entries ... OK
* checking for code/documentation mismatches ... OK
* checking Rd \usage sections ... OK
* checking Rd contents ... OK
* checking for unstated dependencies in examples ... OK
* checking installed files from ‘inst/doc’ ... OK
* checking files in ‘vignettes’ ... OK
* checking examples ... OK
* checking for unstated dependencies in ‘tests’ ... OK
* checking tests ...
Running ‘runTests.R’
OK
* checking for unstated dependencies in vignettes ... OK
* checking package vignettes in ‘inst/doc’ ... OK
* checking running R code from vignettes ...
‘PhenStat.Rnw’... OK
OK
* checking re-building of vignette outputs ... OK
* checking PDF version of manual ... OK
* DONE
Status: 1 NOTE
See
‘/home/biocbuild/bbs-3.17-bioc/meat/PhenStat.Rcheck/00check.log’
for details.
PhenStat.Rcheck/00install.out
############################################################################## ############################################################################## ### ### Running command: ### ### /home/biocbuild/bbs-3.17-bioc/R/bin/R CMD INSTALL PhenStat ### ############################################################################## ############################################################################## * installing to library ‘/home/biocbuild/bbs-3.17-bioc/R/site-library’ * installing *source* package ‘PhenStat’ ... ** using staged installation ** R ** inst ** byte-compile and prepare package for lazy loading ** help *** installing help indices ** building package indices ** installing vignettes ** testing if installed package can be loaded from temporary location ** testing if installed package can be loaded from final location ** testing if installed package keeps a record of temporary installation path * DONE (PhenStat)
PhenStat.Rcheck/tests/runTests.Rout
R Under development (unstable) (2023-02-14 r83833) -- "Unsuffered Consequences"
Copyright (C) 2023 The R Foundation for Statistical Computing
Platform: x86_64-pc-linux-gnu (64-bit)
R is free software and comes with ABSOLUTELY NO WARRANTY.
You are welcome to redistribute it under certain conditions.
Type 'license()' or 'licence()' for distribution details.
R is a collaborative project with many contributors.
Type 'contributors()' for more information and
'citation()' on how to cite R or R packages in publications.
Type 'demo()' for some demos, 'help()' for on-line help, or
'help.start()' for an HTML browser interface to help.
Type 'q()' to quit R.
> BiocGenerics:::testPackage("PhenStat")
>=========================================================================<
This version of PhenStat includes *FEWER* functions than the previous ones
You *still* can use the previous functions by using `:::`. For example :
PhenStat:::boxplotSexGenotype or PhenStat:::FisherExactTest
*** Want to know what is new in this version? run PhenStat:::WhatIsNew()
>=========================================================================<
RUNIT TEST PROTOCOL -- Wed Apr 12 08:23:43 2023
***********************************************
Number of test functions: 0
Number of errors: 0
Number of failures: 0
1 Test Suite :
PhenStat RUnit Tests - 0 test functions, 0 errors, 0 failures
Number of test functions: 0
Number of errors: 0
Number of failures: 0
>
> proc.time()
user system elapsed
3.101 0.203 3.288
PhenStat.Rcheck/PhenStat-Ex.timings
| name | user | system | elapsed | |
| FisherExactTest | 0.199 | 0.041 | 0.240 | |
| JSONOutput | 1.216 | 0.008 | 1.224 | |
| LRDataset | 0.044 | 0.000 | 0.045 | |
| PhenList-class | 0.185 | 0.000 | 0.186 | |
| PhenList | 0.168 | 0.000 | 0.168 | |
| PhenStatReport | 0.034 | 0.000 | 0.033 | |
| PhenTestResult-class | 0.675 | 0.028 | 0.703 | |
| PhenTestResult | 0.749 | 0.008 | 0.758 | |
| RRTest | 0.132 | 0.000 | 0.132 | |
| TFDataset | 0.397 | 0.016 | 0.413 | |
| analysedDataset | 1.004 | 0.016 | 1.020 | |
| analysisResults | 0.654 | 0.004 | 0.658 | |
| boxplotResidualBatch | 0.900 | 0.008 | 0.908 | |
| boxplotSexGenotype | 0.08 | 0.00 | 0.08 | |
| boxplotSexGenotypeBatch | 0.122 | 0.000 | 0.122 | |
| boxplotSexGenotypeBatchAdjusted | 0.067 | 0.000 | 0.066 | |
| boxplotSexGenotypeResult | 0.837 | 0.028 | 0.865 | |
| boxplotSexGenotypeWeightBatchAdjusted | 0.064 | 0.000 | 0.064 | |
| categoricalBarplot | 0.126 | 0.000 | 0.126 | |
| checkDataset | 0.033 | 0.000 | 0.034 | |
| classificationTag | 0.898 | 0.024 | 0.922 | |
| determiningLambda | 0.917 | 0.024 | 0.941 | |
| dim | 0.033 | 0.000 | 0.033 | |
| finalLRModel | 0.504 | 0.008 | 0.515 | |
| finalModel | 0.541 | 0.004 | 0.545 | |
| finalTFModel | 0.361 | 0.020 | 0.381 | |
| htestPhenStat-class | 0.103 | 0.000 | 0.102 | |
| modelFormula | 0 | 0 | 0 | |
| modelFormulaLR | 0 | 0 | 0 | |
| parserOutputSummary | 0.646 | 0.000 | 0.645 | |
| parserOutputSummaryLR | 0.394 | 0.000 | 0.394 | |
| parserOutputTFSummary | 0.083 | 0.000 | 0.083 | |
| performReverseTransformation | 0 | 0 | 0 | |
| performTransformation | 0 | 0 | 0 | |
| plot.PhenList | 2.341 | 0.040 | 2.381 | |
| plot.PhenTestResult | 2.451 | 0.056 | 2.506 | |
| plotResidualPredicted | 0.769 | 0.000 | 0.769 | |
| printLROutput | 0.420 | 0.000 | 0.421 | |
| printTabStyle | 0 | 0 | 0 | |
| qqplotGenotype | 0.674 | 0.004 | 0.678 | |
| qqplotRandomEffects | 0.637 | 0.008 | 0.646 | |
| qqplotRotatedResiduals | 4.150 | 0.096 | 4.246 | |
| recommendMethod | 0.345 | 0.004 | 0.348 | |
| scatterplotGenotypeWeight | 0.136 | 0.004 | 0.140 | |
| scatterplotGenotypeWeightResult | 0.927 | 0.020 | 0.947 | |
| scatterplotSexGenotypeBatch | 0.142 | 0.000 | 0.141 | |
| scatterplotSexGenotypeBatchResult | 0.900 | 0.012 | 0.912 | |
| startLRModel | 0.393 | 0.000 | 0.393 | |
| startModel | 0.476 | 0.000 | 0.476 | |
| startTFModel | 0.329 | 0.000 | 0.329 | |
| summaryOutput | 0.742 | 0.012 | 0.754 | |
| summaryPhenListResult | 1.089 | 0.000 | 1.089 | |
| testDataset | 2.100 | 0.044 | 2.144 | |
| testFinalLRModel | 0.405 | 0.028 | 0.433 | |
| testFinalModel | 0.786 | 0.000 | 0.786 | |
| vectorOutput | 0.750 | 0.003 | 0.753 | |
| vectorOutputMatrices | 0.105 | 0.001 | 0.106 | |