| Back to Multiple platform build/check report for BioC 3.17 |
|
This page was generated on 2023-03-22 10:55:29 -0400 (Wed, 22 Mar 2023).
| Hostname | OS | Arch (*) | R version | Installed pkgs |
|---|---|---|---|---|
| nebbiolo1 | Linux (Ubuntu 22.04.1 LTS) | x86_64 | R Under development (unstable) (2023-03-16 r83996) -- "Unsuffered Consequences" | 4508 |
| nebbiolo2 | Linux (Ubuntu 20.04.5 LTS) | x86_64 | R Under development (unstable) (2023-02-14 r83833) -- "Unsuffered Consequences" | 4293 |
| Click on any hostname to see more info about the system (e.g. compilers) (*) as reported by 'uname -p', except on Windows and Mac OS X | ||||
|
To the developers/maintainers of the ORFik package: - Please allow up to 24 hours (and sometimes 48 hours) for your latest push to git@git.bioconductor.org:packages/ORFik.git to reflect on this report. See How and When does the builder pull? When will my changes propagate? for more information. - Make sure to use the following settings in order to reproduce any error or warning you see on this page. |
| Package 1422/2189 | Hostname | OS / Arch | INSTALL | BUILD | CHECK | BUILD BIN | ||||||||
| ORFik 1.19.7 (landing page) Haakon Tjeldnes
| nebbiolo1 | Linux (Ubuntu 22.04.1 LTS) / x86_64 | OK | OK | OK | |||||||||
| nebbiolo2 | Linux (Ubuntu 20.04.5 LTS) / x86_64 | OK | OK | ERROR | ||||||||||
| Package: ORFik |
| Version: 1.19.7 |
| Command: /home/biocbuild/bbs-3.17-bioc/R/bin/R CMD check --install=check:ORFik.install-out.txt --library=/home/biocbuild/bbs-3.17-bioc/R/site-library --timings ORFik_1.19.7.tar.gz |
| StartedAt: 2023-03-21 22:24:53 -0400 (Tue, 21 Mar 2023) |
| EndedAt: 2023-03-21 22:44:23 -0400 (Tue, 21 Mar 2023) |
| EllapsedTime: 1169.6 seconds |
| RetCode: 0 |
| Status: OK |
| CheckDir: ORFik.Rcheck |
| Warnings: 0 |
##############################################################################
##############################################################################
###
### Running command:
###
### /home/biocbuild/bbs-3.17-bioc/R/bin/R CMD check --install=check:ORFik.install-out.txt --library=/home/biocbuild/bbs-3.17-bioc/R/site-library --timings ORFik_1.19.7.tar.gz
###
##############################################################################
##############################################################################
* using log directory ‘/home/biocbuild/bbs-3.17-bioc/meat/ORFik.Rcheck’
* using R Under development (unstable) (2023-03-16 r83996)
* using platform: x86_64-pc-linux-gnu (64-bit)
* R was compiled by
gcc (Ubuntu 11.3.0-1ubuntu1~22.04) 11.3.0
GNU Fortran (Ubuntu 11.3.0-1ubuntu1~22.04) 11.3.0
* running under: Ubuntu 22.04.2 LTS
* using session charset: UTF-8
* checking for file ‘ORFik/DESCRIPTION’ ... OK
* checking extension type ... Package
* this is package ‘ORFik’ version ‘1.19.7’
* package encoding: UTF-8
* checking package namespace information ... OK
* checking package dependencies ... OK
* checking if this is a source package ... OK
* checking if there is a namespace ... OK
* checking for hidden files and directories ... OK
* checking for portable file names ... OK
* checking for sufficient/correct file permissions ... OK
* checking whether package ‘ORFik’ can be installed ... OK
* used C++ compiler: ‘g++ (Ubuntu 11.3.0-1ubuntu1~22.04) 11.3.0’
* checking C++ specification ... NOTE
Specified C++11: please drop specification unless essential
* checking installed package size ... OK
* checking package directory ... OK
* checking ‘build’ directory ... OK
* checking DESCRIPTION meta-information ... OK
* checking top-level files ... OK
* checking for left-over files ... OK
* checking index information ... OK
* checking package subdirectories ... OK
* checking R files for non-ASCII characters ... OK
* checking R files for syntax errors ... OK
* checking whether the package can be loaded ... OK
* checking whether the package can be loaded with stated dependencies ... OK
* checking whether the package can be unloaded cleanly ... OK
* checking whether the namespace can be loaded with stated dependencies ... OK
* checking whether the namespace can be unloaded cleanly ... OK
* checking loading without being on the library search path ... OK
* checking dependencies in R code ... NOTE
Unexported objects imported by ':::' calls:
‘GenomicFeatures:::.merge_seqinfo_and_infer_missing_seqlengths’
‘IRanges:::regroupBySupergroup’ ‘S4Vectors:::normarg_mcols’
‘biomartr:::getENSEMBL.Seq’ ‘biomartr:::getENSEMBL.gtf’
See the note in ?`:::` about the use of this operator.
There are ::: calls to the package's namespace in its code. A package
almost never needs to use ::: for its own objects:
‘find_url_ebi’ ‘revElementsF’ ‘save.fstwig’ ‘trimming.table’
* checking S3 generic/method consistency ... OK
* checking replacement functions ... OK
* checking foreign function calls ... OK
* checking R code for possible problems ... NOTE
DEG.plot.static: no visible binding for global variable ‘Regulation’
DEG.plot.static: no visible binding for global variable ‘meanCounts’
DEG.plot.static: no visible binding for global variable ‘LFC’
DTEG.plot: no visible binding for global variable ‘Regulation’
DTEG.plot: no visible binding for global variable ‘rna’
DTEG.plot: no visible binding for global variable ‘rfp’
QCplots: no visible binding for global variable ‘leaders’
QCplots: no visible binding for global variable ‘trailers’
QCstats.plot: no visible binding for global variable ‘variable’
QCstats.plot: no visible binding for global variable ‘sample_total’
QCstats.plot: no visible binding for global variable ‘value’
QCstats.plot: no visible global function definition for ‘.’
QCstats.plot: no visible binding for global variable ‘sample_id’
QCstats.plot: no visible binding for global variable ‘percentage’
QCstats.plot: no visible binding for global variable
‘perc_of_counts_per_sample’
QCstats.plot: no visible binding for global variable ‘read length’
RiboQC.plot: no visible binding for global variable ‘variable’
RiboQC.plot: no visible binding for global variable ‘sample_total’
RiboQC.plot: no visible binding for global variable ‘value’
RiboQC.plot: no visible global function definition for ‘.’
RiboQC.plot: no visible binding for global variable ‘sample_id’
RiboQC.plot: no visible binding for global variable ‘percentage’
RiboQC.plot: no visible binding for global variable ‘percent’
RiboQC.plot: no visible binding for global variable ‘frame’
STAR.multiQC: no visible binding for global variable ‘sample_id’
STAR.multiQC: no visible binding for global variable ‘value’
TOP.Motif.ecdf: no visible binding for global variable ‘seq1’
TOP.Motif.ecdf: no visible binding for global variable ‘TOP’
alignmentFeatureStatistics : <anonymous>: no visible binding for global
variable ‘percentage_mrna_aligned’
alignmentFeatureStatistics : <anonymous>: no visible binding for global
variable ‘mRNA’
alignmentFeatureStatistics : <anonymous>: no visible binding for global
variable ‘percentage_tx_aligned’
alignmentFeatureStatistics : <anonymous>: no visible binding for global
variable ‘Transcript’
alignmentFeatureStatistics : <anonymous>: no visible binding for global
variable ‘ratio_cds_mrna’
alignmentFeatureStatistics : <anonymous>: no visible binding for global
variable ‘CDS’
alignmentFeatureStatistics : <anonymous>: no visible binding for global
variable ‘ratio_cds_leader’
alignmentFeatureStatistics : <anonymous>: no visible binding for global
variable ‘LEADERS’
allFeaturesHelper: no visible binding for global variable ‘te’
allFeaturesHelper: no visible binding for global variable ‘fpkmRFP’
allFeaturesHelper: no visible binding for global variable ‘fpkmRNA’
allFeaturesHelper: no visible binding for global variable ‘countRFP’
allFeaturesHelper: no visible binding for global variable ‘entropyRFP’
allFeaturesHelper: no visible binding for global variable
‘disengagementScores’
allFeaturesHelper: no visible binding for global variable ‘RRS’
allFeaturesHelper: no visible binding for global variable ‘RSS’
allFeaturesHelper: no visible binding for global variable ‘ORFScores’
allFeaturesHelper: no visible binding for global variable ‘ioScore’
allFeaturesHelper: no visible binding for global variable
‘startCodonCoverage’
allFeaturesHelper: no visible binding for global variable
‘startRegionRelative’
allFeaturesHelper: no visible binding for global variable ‘kozak’
allFeaturesHelper: no visible binding for global variable ‘StartCodons’
allFeaturesHelper: no visible binding for global variable ‘StopCodons’
allFeaturesHelper: no visible binding for global variable
‘fractionLengths’
allFeaturesHelper: no visible binding for global variable ‘distORFCDS’
allFeaturesHelper: no visible binding for global variable ‘inFrameCDS’
allFeaturesHelper: no visible binding for global variable
‘isOverlappingCds’
allFeaturesHelper: no visible binding for global variable ‘rankInTx’
appendZeroes: no visible binding for global variable ‘frame’
appendZeroes: no visible binding for global variable ‘position’
appendZeroes: no visible binding for global variable ‘count’
artificial.orfs: no visible binding for global variable ‘random’
artificial.orfs: no visible binding for global variable ‘pick’
artificial.orfs: no visible global function definition for ‘.’
codon_usage: no visible binding for global variable ‘merged’
codon_usage: no visible binding for global variable ‘AA’
codon_usage: no visible binding for global variable ‘codon’
codon_usage_plot: no visible binding for global variable ‘seqs’
collapse.by.scores: no visible global function definition for ‘.’
collapse.fastq.internal: no visible binding for global variable ‘N’
cor_plot: no visible binding for global variable ‘Var2’
cor_plot: no visible binding for global variable ‘Var1’
cor_plot: no visible binding for global variable ‘Cor’
cor_table: no visible binding for global variable ‘Var1’
cor_table: no visible binding for global variable ‘Var2’
cor_table: no visible binding for global variable ‘Cor’
coverageHeatMap: no visible binding for global variable ‘position’
coverageHeatMap: no visible binding for global variable ‘fraction’
coverageScorings: no visible binding for global variable ‘count’
coverageScorings: no visible binding for global variable ‘zscore’
coverageScorings: no visible binding for global variable ‘windowMean’
coverageScorings: no visible binding for global variable ‘windowSD’
coverageScorings: no visible global function definition for ‘.’
coverageScorings: no visible binding for global variable ‘gene_sum’
coverageScorings: no visible binding for global variable ‘fraction’
coverage_random_access_file: no visible binding for global variable
‘position’
coverage_random_access_file: no visible binding for global variable
‘frame’
coverage_to_dt: no visible binding for global variable ‘frame’
coverage_to_dt: no visible binding for global variable ‘position’
detectRibosomeShifts: no visible global function definition for ‘.’
detectRibosomeShifts: no visible binding for global variable ‘size’
detectRibosomeShifts: no visible binding for global variable ‘fraction’
detectRibosomeShifts: no visible binding for global variable ‘pShifted’
detectRibosomeShifts: no visible binding for global variable
‘sum.count’
detectRibosomeShifts: no visible binding for global variable ‘count’
detectRibosomeShifts: no visible binding for global variable
‘frac.score’
download.SRA.metadata: no visible binding for global variable ‘spots’
download.SRA.metadata: no visible binding for global variable ‘MONTH’
download.SRA.metadata: no visible binding for global variable
‘ReleaseDate’
download.SRA.metadata: no visible binding for global variable ‘YEAR’
entropy: no visible binding for global variable ‘Hx’
entropy: no visible binding for global variable ‘codonSums’
entropy: no visible global function definition for ‘.’
filterExtremePeakGenes: no visible binding for global variable ‘count’
filterExtremePeakGenes: no visible binding for global variable
‘median_per_gene’
filterExtremePeakGenes: no visible global function definition for ‘.’
filterTranscripts: no visible binding for global variable ‘utr5_len’
filterTranscripts: no visible binding for global variable ‘utr3_len’
findNGSPairs: no visible global function definition for ‘.’
findNGSPairs: no visible binding for global variable ‘forward’
findPeaksPerGene: no visible binding for global variable ‘sum_per_gene’
findPeaksPerGene: no visible binding for global variable ‘count’
findPeaksPerGene: no visible binding for global variable
‘mean_per_gene’
findPeaksPerGene: no visible binding for global variable ‘sd_per_gene’
findPeaksPerGene: no visible binding for global variable ‘zscore’
findPeaksPerGene: no visible binding for global variable ‘gene_id’
find_url_ebi_safe: no visible binding for global variable
‘run_accession’
flankPerGroup: no visible global function definition for ‘.’
flankPerGroup: no visible binding for global variable ‘group_name’
floss: no visible binding for global variable ‘ORFGrouping’
floss: no visible binding for global variable ‘widths’
floss: no visible global function definition for ‘.’
floss: no visible binding for global variable ‘CDSGrouping’
floss: no visible binding for global variable ‘fraction.x’
floss: no visible binding for global variable ‘fraction.y’
gSort: no visible binding for global variable ‘grnames’
geneToSymbol: no visible binding for global variable ‘ensembl_gene_id’
getNGenesCoverage: no visible global function definition for ‘.’
getNGenesCoverage: no visible binding for global variable ‘fraction’
get_phix_genome: no visible binding for global variable ‘phix.url’
initiationScore: no visible global function definition for ‘.’
initiationScore: no visible binding for global variable ‘dif’
initiationScore: no visible binding for global variable ‘fraction’
initiationScore: no visible binding for global variable ‘difPer’
isPeriodic: no visible binding for global variable ‘spec’
kozakHeatmap: no visible global function definition for ‘.’
kozakHeatmap: no visible binding for global variable ‘variable’
kozakHeatmap: no visible binding for global variable ‘value’
kozakHeatmap: no visible binding for global variable
‘count_seq_pos_with_count’
kozakHeatmap: no visible binding for global variable ‘median_score’
kozak_IR_ranking: no visible global function definition for ‘.’
kozak_IR_ranking: no visible binding for global variable ‘IR’
kozak_IR_ranking: no visible binding for global variable
‘upstream_kozak_strength’
kozak_IR_ranking: no visible binding for global variable ‘count’
kozak_IR_ranking: no visible binding for global variable ‘mean_IR’
list.genomes: no visible binding for global variable ‘STAR_index’
longestORFs: no visible global function definition for ‘.’
metaWindow: no visible binding for global variable ‘position’
metaWindow: no visible binding for global variable ‘frame’
metadata.autnaming: no visible binding for global variable
‘LIBRARYTYPE’
metadata.autnaming: no visible binding for global variable
‘LibraryStrategy’
orfFrameDistributions : <anonymous>: no visible binding for global
variable ‘fraction’
orfFrameDistributions: no visible binding for global variable ‘percent’
orfFrameDistributions: no visible binding for global variable
‘fraction’
orfFrameDistributions: no visible binding for global variable
‘percent_length’
orfFrameDistributions: no visible global function definition for ‘.’
orfFrameDistributions: no visible binding for global variable
‘best_frame’
orfScore: no visible binding for global variable ‘frame’
orfScore: no visible binding for global variable ‘frame_one_RP’
orfScore: no visible binding for global variable ‘frame_two_RP’
pSitePlot: no visible binding for global variable ‘count’
pSitePlot: no visible binding for global variable ‘frame’
pSitePlot: no visible binding for global variable ‘position’
pcaExperiment: no visible binding for global variable ‘PC1’
pcaExperiment: no visible binding for global variable ‘PC2’
readLengthTable: no visible binding for global variable
‘counts_per_sample’
readLengthTable: no visible binding for global variable
‘perc_of_counts_per_sample’
regionPerReadLength : <anonymous>: no visible binding for global
variable ‘fraction’
remakeTxdbExonIds: no visible global function definition for ‘.’
remakeTxdbExonIds: no visible binding for global variable ‘chr’
removeTxdbExons: no visible binding for global variable ‘exon_rank’
removeTxdbExons: no visible binding for global variable ‘ranks’
ribo_fft: no visible binding for global variable ‘fraction’
ribo_fft_plot: no visible binding for global variable ‘periods’
ribo_fft_plot: no visible binding for global variable ‘amplitude’
rnaNormalize: no visible binding for global variable ‘feature’
sample_info_append_SRA: no visible binding for global variable ‘Run’
scaledWindowPositions: no visible binding for global variable
‘scalingFactor’
scaledWindowPositions: no visible binding for global variable
‘position’
scaledWindowPositions: no visible global function definition for ‘.’
scoreSummarizedExperiment: no visible global function definition for
‘rowSums2’
seq_usage: no visible binding for global variable ‘variable’
seq_usage: no visible binding for global variable ‘codon_sum’
seq_usage: no visible global function definition for ‘.’
seq_usage: no visible binding for global variable ‘gene_sum’
seq_usage: no visible binding for global variable
‘N_AA_of_type_per_gene’
seq_usage: no visible binding for global variable ‘as_prob_normalized’
seq_usage: no visible binding for global variable ‘N_total’
seq_usage: no visible binding for global variable ‘N’
seq_usage: no visible binding for global variable ‘mean_txNorm’
seq_usage: no visible binding for global variable ‘sum_txNorm’
seq_usage: no visible binding for global variable ‘dispersion’
seq_usage: no visible binding for global variable ‘dispersion_txNorm’
seq_usage: no visible binding for global variable ‘var_txNorm’
seq_usage: no visible binding for global variable ‘mean_percentage’
seq_usage: no visible binding for global variable ‘mean_txNorm_prob’
seq_usage: no visible binding for global variable
‘mean_txNorm_percentage’
seq_usage: no visible binding for global variable
‘relative_to_max_score’
shiftPlots : <anonymous>: no visible binding for global variable
‘frame’
shiftPlots : <anonymous>: no visible binding for global variable
‘position’
te.plot: no visible global function definition for ‘rowMin’
te.plot: no visible binding for global variable ‘variable’
te.plot: no visible binding for global variable ‘LFC_TE’
te.plot: no visible binding for global variable ‘rfp_log2’
te.plot: no visible binding for global variable ‘rna_log2’
te.plot: no visible binding for global variable ‘rna_log10’
te.table: no visible global function definition for ‘rowMin’
te.table: no visible binding for global variable ‘variable’
te.table: no visible binding for global variable ‘TE_log2’
te.table: no visible binding for global variable ‘rfp_log2’
te.table: no visible binding for global variable ‘rna_log2’
te_rna.plot: no visible binding for global variable ‘subtitle’
te_rna.plot: no visible binding for global variable ‘rna_log10’
te_rna.plot: no visible binding for global variable ‘TE_log2’
topMotif: no visible binding for global variable ‘seq1’
topMotif: no visible binding for global variable ‘seq2’
topMotif: no visible binding for global variable ‘seq3’
topMotif: no visible binding for global variable ‘seq4’
topMotif: no visible binding for global variable ‘seq5’
transcriptWindow: no visible binding for global variable ‘fractions’
transcriptWindow: no visible binding for global variable ‘feature’
windowCoveragePlot: no visible binding for global variable ‘feature’
windowCoveragePlot: no visible binding for global variable ‘fraction’
windowCoveragePlot: no visible binding for global variable
‘fraction_min’
windowCoveragePlot: no visible binding for global variable ‘position’
collapseDuplicatedReads,GAlignmentPairs: no visible global function
definition for ‘.’
collapseDuplicatedReads,GAlignmentPairs: no visible binding for global
variable ‘start1’
collapseDuplicatedReads,GAlignmentPairs: no visible binding for global
variable ‘start2’
collapseDuplicatedReads,GAlignmentPairs: no visible binding for global
variable ‘cigar1’
collapseDuplicatedReads,GAlignmentPairs: no visible binding for global
variable ‘cigar2’
collapseDuplicatedReads,GAlignments: no visible global function
definition for ‘.’
collapseDuplicatedReads,GRanges: no visible binding for global variable
‘size’
collapseDuplicatedReads,GRanges: no visible global function definition
for ‘.’
collapseDuplicatedReads,data.table: no visible global function
definition for ‘.’
collapseDuplicatedReads,data.table: no visible binding for global
variable ‘size’
design,experiment: no visible binding for global variable ‘..formula’
seqlevels,experiment: no visible binding for global variable ‘df’
show,covRleList: no visible global function definition for ‘head’
Undefined global functions or variables:
. ..formula AA CDS CDSGrouping Cor Hx IR LEADERS LFC LFC_TE
LIBRARYTYPE LibraryStrategy MONTH N N_AA_of_type_per_gene N_total
ORFGrouping ORFScores PC1 PC2 RRS RSS Regulation ReleaseDate Run
STAR_index StartCodons StopCodons TE_log2 TOP Transcript Var1 Var2
YEAR amplitude as_prob_normalized best_frame chr cigar1 cigar2 codon
codonSums codon_sum count countRFP count_seq_pos_with_count
counts_per_sample df dif difPer disengagementScores dispersion
dispersion_txNorm distORFCDS ensembl_gene_id entropyRFP exon_rank
feature forward fpkmRFP fpkmRNA frac.score fraction fraction.x
fraction.y fractionLengths fraction_min fractions frame frame_one_RP
frame_two_RP gene_id gene_sum grnames group_name head inFrameCDS
ioScore isOverlappingCds kozak leaders mRNA meanCounts mean_IR
mean_per_gene mean_percentage mean_txNorm mean_txNorm_percentage
mean_txNorm_prob median_per_gene median_score merged pShifted
perc_of_counts_per_sample percent percent_length percentage
percentage_mrna_aligned percentage_tx_aligned periods phix.url pick
position random rankInTx ranks ratio_cds_leader ratio_cds_mrna read
length relative_to_max_score rfp rfp_log2 rna rna_log10 rna_log2
rowMin rowSums2 run_accession sample_id sample_total scalingFactor
sd_per_gene seq1 seq2 seq3 seq4 seq5 seqs size spec spots start1
start2 startCodonCoverage startRegionRelative subtitle sum.count
sum_per_gene sum_txNorm te trailers upstream_kozak_strength utr3_len
utr5_len value var_txNorm variable widths windowMean windowSD zscore
Consider adding
importFrom("base", "length")
importFrom("graphics", "frame")
importFrom("stats", "df")
importFrom("utils", "head")
to your NAMESPACE file.
* checking Rd files ... OK
* checking Rd metadata ... OK
* checking Rd cross-references ... OK
* checking for missing documentation entries ... OK
* checking for code/documentation mismatches ... OK
* checking Rd \usage sections ... OK
* checking Rd contents ... OK
* checking for unstated dependencies in examples ... OK
* checking line endings in C/C++/Fortran sources/headers ... OK
* checking line endings in Makefiles ... OK
* checking compilation flags in Makevars ... OK
* checking for GNU extensions in Makefiles ... OK
* checking for portable use of $(BLAS_LIBS) and $(LAPACK_LIBS) ... OK
* checking use of PKG_*FLAGS in Makefiles ... OK
* checking compiled code ... NOTE
Note: information on .o files is not available
* checking files in ‘vignettes’ ... OK
* checking examples ... OK
Examples with CPU (user + system) or elapsed time > 5s
user system elapsed
codon_usage_exp 20.168 1.079 28.382
codon_usage_plot 6.928 0.649 10.577
codon_usage 5.110 0.751 5.910
computeFeatures 5.778 0.033 5.794
ribo_fft_plot 5.568 0.190 5.837
ribo_fft 5.032 0.244 5.492
findPeaksPerGene 2.574 0.063 5.513
shiftFootprintsByExperiment 1.667 0.076 6.868
* checking for unstated dependencies in ‘tests’ ... OK
* checking tests ...
Running ‘testthat.R’
OK
* checking for unstated dependencies in vignettes ... OK
* checking package vignettes in ‘inst/doc’ ... OK
* checking running R code from vignettes ...
‘Annotation_Alignment.Rmd’ using ‘UTF-8’... OK
‘ORFikExperiment.Rmd’ using ‘UTF-8’... OK
‘ORFikOverview.Rmd’ using ‘UTF-8’... OK
‘Ribo-seq_pipeline.Rmd’ using ‘UTF-8’... OK
NONE
* checking re-building of vignette outputs ... OK
* checking PDF version of manual ... OK
* DONE
Status: 4 NOTEs
See
‘/home/biocbuild/bbs-3.17-bioc/meat/ORFik.Rcheck/00check.log’
for details.
ORFik.Rcheck/00install.out
##############################################################################
##############################################################################
###
### Running command:
###
### /home/biocbuild/bbs-3.17-bioc/R/bin/R CMD INSTALL ORFik
###
##############################################################################
##############################################################################
* installing to library ‘/home/biocbuild/bbs-3.17-bioc/R/site-library’
* installing *source* package ‘ORFik’ ...
** using staged installation
** libs
using C++ compiler: ‘g++ (Ubuntu 11.3.0-1ubuntu1~22.04) 11.3.0’
using C++11
g++ -std=gnu++11 -I"/home/biocbuild/bbs-3.17-bioc/R/include" -DNDEBUG -I'/home/biocbuild/bbs-3.17-bioc/R/site-library/Rcpp/include' -I/usr/local/include -fpic -g -O2 -Wall -c RcppExports.cpp -o RcppExports.o
g++ -std=gnu++11 -I"/home/biocbuild/bbs-3.17-bioc/R/include" -DNDEBUG -I'/home/biocbuild/bbs-3.17-bioc/R/site-library/Rcpp/include' -I/usr/local/include -fpic -g -O2 -Wall -c findORFsHelpers.cpp -o findORFsHelpers.o
findORFsHelpers.cpp: In function ‘Rcpp::IntegerMatrix orfs_as_matrix(std::string&, std::string, std::string, int)’:
findORFsHelpers.cpp:214:21: warning: comparison of integer expressions of different signedness: ‘int’ and ‘size_t’ {aka ‘long unsigned int’} [-Wsign-compare]
214 | for (int i = 0; i < uorfSize/2; i++) {
| ~~^~~~~~~~~~~~
g++ -std=gnu++11 -I"/home/biocbuild/bbs-3.17-bioc/R/include" -DNDEBUG -I'/home/biocbuild/bbs-3.17-bioc/R/site-library/Rcpp/include' -I/usr/local/include -fpic -g -O2 -Wall -c findOrfs.cpp -o findOrfs.o
g++ -std=gnu++11 -I"/home/biocbuild/bbs-3.17-bioc/R/include" -DNDEBUG -I'/home/biocbuild/bbs-3.17-bioc/R/site-library/Rcpp/include' -I/usr/local/include -fpic -g -O2 -Wall -c findOrfsFasta.cpp -o findOrfsFasta.o
g++ -std=gnu++11 -I"/home/biocbuild/bbs-3.17-bioc/R/include" -DNDEBUG -I'/home/biocbuild/bbs-3.17-bioc/R/site-library/Rcpp/include' -I/usr/local/include -fpic -g -O2 -Wall -c pmapFromTranscripts.cpp -o pmapFromTranscripts.o
pmapFromTranscripts.cpp: In function ‘Rcpp::List pmapFromTranscriptsCPP(const std::vector<int>&, const std::vector<int>&, const std::vector<int>&, const std::vector<int>&, const std::vector<int>&, const char&, bool)’:
pmapFromTranscripts.cpp:151:20: warning: comparison of integer expressions of different signedness: ‘int’ and ‘size_t’ {aka ‘long unsigned int’} [-Wsign-compare]
151 | for(auto i = 0;i < xSize; i++){
| ~~^~~~~~~
pmapFromTranscripts.cpp:155:21: warning: comparison of integer expressions of different signedness: ‘int’ and ‘size_t’ {aka ‘long unsigned int’} [-Wsign-compare]
155 | for(auto i = 0; i < indexSize; i++){
| ~~^~~~~~~~~~~
pmapFromTranscripts.cpp:161:21: warning: comparison of integer expressions of different signedness: ‘int’ and ‘size_t’ {aka ‘long unsigned int’} [-Wsign-compare]
161 | for(auto i = 1; i < indexSize; i++){
| ~~^~~~~~~~~~~
g++ -std=gnu++11 -I"/home/biocbuild/bbs-3.17-bioc/R/include" -DNDEBUG -I'/home/biocbuild/bbs-3.17-bioc/R/site-library/Rcpp/include' -I/usr/local/include -fpic -g -O2 -Wall -c pmapToTranscripts.cpp -o pmapToTranscripts.o
pmapToTranscripts.cpp: In function ‘void pmapToPositive(vi&, const int&, int&, const vi&, const vi&, const vi&, const vi&, const vi&, const vi&, const vi&, const vi&)’:
pmapToTranscripts.cpp:22:7: warning: variable ‘currentWidth’ set but not used [-Wunused-but-set-variable]
22 | int currentWidth = 0;
| ^~~~~~~~~~~~
pmapToTranscripts.cpp: In function ‘void pmapToNegative(vi&, const int&, int&, const vi&, const vi&, const vi&, const vi&, const vi&, const vi&, const vi&, const vi&)’:
pmapToTranscripts.cpp:68:7: warning: variable ‘currentWidth’ set but not used [-Wunused-but-set-variable]
68 | int currentWidth = 0;
| ^~~~~~~~~~~~
pmapToTranscripts.cpp: In function ‘Rcpp::List pmapToTranscriptsCPP(const std::vector<int>&, const std::vector<int>&, const std::vector<int>&, const std::vector<int>&, const std::vector<int>&, const char&, const std::vector<int>&)’:
pmapToTranscripts.cpp:126:20: warning: comparison of integer expressions of different signedness: ‘int’ and ‘size_t’ {aka ‘long unsigned int’} [-Wsign-compare]
126 | for(auto i = 0;i < xSize; i++){ // Width per exon in x
| ~~^~~~~~~
pmapToTranscripts.cpp:130:21: warning: comparison of integer expressions of different signedness: ‘int’ and ‘size_t’ {aka ‘long unsigned int’} [-Wsign-compare]
130 | for(auto i = 0; i < indexSize; i++){ // Width per exon in tx
| ~~^~~~~~~~~~~
pmapToTranscripts.cpp:136:21: warning: comparison of integer expressions of different signedness: ‘int’ and ‘size_t’ {aka ‘long unsigned int’} [-Wsign-compare]
136 | for(auto i = 1; i < indexSize; i++){
| ~~^~~~~~~~~~~
pmapToTranscripts.cpp:147:22: warning: comparison of integer expressions of different signedness: ‘int’ and ‘size_t’ {aka ‘long unsigned int’} [-Wsign-compare]
147 | for (auto i = 1; i < 2 * xSize; i = i + 2) {
| ~~^~~~~~~~~~~
g++ -std=gnu++11 -shared -L/home/biocbuild/bbs-3.17-bioc/R/lib -L/usr/local/lib -o ORFik.so RcppExports.o findORFsHelpers.o findOrfs.o findOrfsFasta.o pmapFromTranscripts.o pmapToTranscripts.o -L/home/biocbuild/bbs-3.17-bioc/R/lib -lR
installing to /home/biocbuild/bbs-3.17-bioc/R/site-library/00LOCK-ORFik/00new/ORFik/libs
** R
** inst
** byte-compile and prepare package for lazy loading
Creating a new generic function for ‘symbols’ in package ‘ORFik’
** help
*** installing help indices
** building package indices
** installing vignettes
** testing if installed package can be loaded from temporary location
** checking absolute paths in shared objects and dynamic libraries
** testing if installed package can be loaded from final location
** testing if installed package keeps a record of temporary installation path
* DONE (ORFik)
ORFik.Rcheck/tests/testthat.Rout
R Under development (unstable) (2023-03-16 r83996) -- "Unsuffered Consequences"
Copyright (C) 2023 The R Foundation for Statistical Computing
Platform: x86_64-pc-linux-gnu (64-bit)
R is free software and comes with ABSOLUTELY NO WARRANTY.
You are welcome to redistribute it under certain conditions.
Type 'license()' or 'licence()' for distribution details.
R is a collaborative project with many contributors.
Type 'contributors()' for more information and
'citation()' on how to cite R or R packages in publications.
Type 'demo()' for some demos, 'help()' for on-line help, or
'help.start()' for an HTML browser interface to help.
Type 'q()' to quit R.
> library(testthat)
> library(ORFik)
Loading required package: IRanges
Loading required package: BiocGenerics
Attaching package: 'BiocGenerics'
The following objects are masked from 'package:stats':
IQR, mad, sd, var, xtabs
The following objects are masked from 'package:base':
Filter, Find, Map, Position, Reduce, anyDuplicated, aperm, append,
as.data.frame, basename, cbind, colnames, dirname, do.call,
duplicated, eval, evalq, get, grep, grepl, intersect, is.unsorted,
lapply, mapply, match, mget, order, paste, pmax, pmax.int, pmin,
pmin.int, rank, rbind, rownames, sapply, setdiff, sort, table,
tapply, union, unique, unsplit, which.max, which.min
Loading required package: S4Vectors
Loading required package: stats4
Attaching package: 'S4Vectors'
The following objects are masked from 'package:base':
I, expand.grid, unname
Loading required package: GenomicRanges
Loading required package: GenomeInfoDb
Loading required package: GenomicAlignments
Loading required package: SummarizedExperiment
Loading required package: MatrixGenerics
Loading required package: matrixStats
Attaching package: 'MatrixGenerics'
The following objects are masked from 'package:matrixStats':
colAlls, colAnyNAs, colAnys, colAvgsPerRowSet, colCollapse,
colCounts, colCummaxs, colCummins, colCumprods, colCumsums,
colDiffs, colIQRDiffs, colIQRs, colLogSumExps, colMadDiffs,
colMads, colMaxs, colMeans2, colMedians, colMins, colOrderStats,
colProds, colQuantiles, colRanges, colRanks, colSdDiffs, colSds,
colSums2, colTabulates, colVarDiffs, colVars, colWeightedMads,
colWeightedMeans, colWeightedMedians, colWeightedSds,
colWeightedVars, rowAlls, rowAnyNAs, rowAnys, rowAvgsPerColSet,
rowCollapse, rowCounts, rowCummaxs, rowCummins, rowCumprods,
rowCumsums, rowDiffs, rowIQRDiffs, rowIQRs, rowLogSumExps,
rowMadDiffs, rowMads, rowMaxs, rowMeans2, rowMedians, rowMins,
rowOrderStats, rowProds, rowQuantiles, rowRanges, rowRanks,
rowSdDiffs, rowSds, rowSums2, rowTabulates, rowVarDiffs, rowVars,
rowWeightedMads, rowWeightedMeans, rowWeightedMedians,
rowWeightedSds, rowWeightedVars
Loading required package: Biobase
Welcome to Bioconductor
Vignettes contain introductory material; view with
'browseVignettes()'. To cite Bioconductor, see
'citation("Biobase")', and for packages 'citation("pkgname")'.
Attaching package: 'Biobase'
The following object is masked from 'package:MatrixGenerics':
rowMedians
The following objects are masked from 'package:matrixStats':
anyMissing, rowMedians
Loading required package: Biostrings
Loading required package: XVector
Attaching package: 'Biostrings'
The following object is masked from 'package:base':
strsplit
Loading required package: Rsamtools
Attaching package: 'ORFik'
The following object is masked from 'package:graphics':
symbols
>
> test_check("ORFik")
Regulation
No change
6
widths group.size
Min. : 6 Min. :1.000
1st Qu.: 9 1st Qu.:1.500
Median :12 Median :2.000
Mean :12 Mean :1.667
3rd Qu.:15 3rd Qu.:2.000
Max. :18 Max. :2.000
[1] "CAGE_Mutant_r1"
[1] "CAGE_Mutant_r2"
[1] "CAGE_WT_r1"
[1] "CAGE_WT_r2"
[1] "PAS_Mutant_r1"
[1] "PAS_Mutant_r2"
[1] "PAS_WT_r1"
[1] "PAS_WT_r2"
[1] "RFP_Mutant_r1"
[1] "RFP_Mutant_r2"
[1] "RFP_WT_r1"
[1] "RFP_WT_r2"
[1] "RNA_Mutant_r1"
[1] "RNA_Mutant_r2"
[1] "RNA_WT_r1"
[1] "RNA_WT_r2"
[1] "RFP"
[1] "RFP"
[1] "RFP"
[1] "RFP"
[ FAIL 0 | WARN 0 | SKIP 0 | PASS 407 ]
>
> proc.time()
user system elapsed
129.027 6.952 145.468
ORFik.Rcheck/ORFik-Ex.timings
| name | user | system | elapsed | |
| DEG.analysis | 1.313 | 0.008 | 2.136 | |
| DEG.plot.static | 0.714 | 0.108 | 0.821 | |
| DTEG.analysis | 0.697 | 0.024 | 0.720 | |
| DTEG.plot | 0.627 | 0.008 | 0.635 | |
| ORFik.template.experiment | 0.700 | 0.008 | 0.708 | |
| ORFik.template.experiment.zf | 0.108 | 0.000 | 0.137 | |
| ORFikQC | 0.558 | 0.036 | 0.594 | |
| QCreport | 0.716 | 0.020 | 0.738 | |
| QCstats | 0.657 | 0.020 | 0.677 | |
| QCstats.plot | 2.731 | 0.447 | 3.243 | |
| RiboQC.plot | 0.761 | 0.047 | 0.824 | |
| STAR.align.folder | 0.001 | 0.000 | 0.001 | |
| STAR.align.single | 0.000 | 0.001 | 0.001 | |
| STAR.index | 0 | 0 | 0 | |
| STAR.install | 0.000 | 0.000 | 0.001 | |
| STAR.remove.crashed.genome | 0 | 0 | 0 | |
| TOP.Motif.ecdf | 0.000 | 0.001 | 0.001 | |
| artificial.orfs | 0.729 | 0.046 | 0.776 | |
| asTX | 1.304 | 0.192 | 1.497 | |
| assignTSSByCage | 0.001 | 0.002 | 0.004 | |
| bamVarName | 1.120 | 0.150 | 1.927 | |
| codon_usage | 5.110 | 0.751 | 5.910 | |
| codon_usage_exp | 20.168 | 1.079 | 28.382 | |
| codon_usage_plot | 6.928 | 0.649 | 10.577 | |
| collapse.by.scores | 0.205 | 0.012 | 0.205 | |
| collapse.fastq | 0.001 | 0.000 | 0.000 | |
| collapseDuplicatedReads-GAlignmentPairs-method | 0.158 | 0.008 | 0.166 | |
| collapseDuplicatedReads-GAlignments-method | 0.047 | 0.004 | 0.051 | |
| collapseDuplicatedReads-GRanges-method | 0.048 | 0.000 | 0.048 | |
| collapseDuplicatedReads-data.table-method | 0.054 | 0.000 | 0.055 | |
| collapseDuplicatedReads | 0.048 | 0.000 | 0.048 | |
| combn.pairs | 0.631 | 0.008 | 0.640 | |
| computeFeatures | 5.778 | 0.033 | 5.794 | |
| computeFeaturesCage | 0.000 | 0.000 | 0.001 | |
| config | 0 | 0 | 0 | |
| config.exper | 0 | 0 | 0 | |
| config.save | 0.000 | 0.000 | 0.001 | |
| convertLibs | 0.416 | 0.008 | 0.424 | |
| convertToOneBasedRanges | 0.269 | 0.000 | 0.272 | |
| convert_bam_to_ofst | 0.522 | 0.019 | 0.610 | |
| convert_to_bigWig | 2.197 | 0.004 | 2.359 | |
| convert_to_covRle | 0.761 | 0.016 | 0.780 | |
| convert_to_covRleList | 1.162 | 0.036 | 1.198 | |
| countOverlapsW | 0.12 | 0.00 | 0.12 | |
| countTable | 0.593 | 0.008 | 0.601 | |
| countTable_regions | 0.578 | 0.000 | 0.578 | |
| covRle | 0.08 | 0.00 | 0.08 | |
| covRleFromGR | 0.142 | 0.000 | 0.142 | |
| covRleList | 0.028 | 0.000 | 0.029 | |
| coverageHeatMap | 1.602 | 0.004 | 1.707 | |
| coveragePerTiling | 1.448 | 0.004 | 1.452 | |
| coverageScorings | 0.067 | 0.000 | 0.067 | |
| create.experiment | 0.643 | 0.004 | 0.647 | |
| defineTrailer | 0.257 | 0.000 | 0.256 | |
| design-experiment-method | 0.625 | 0.004 | 0.630 | |
| detectRibosomeShifts | 0.001 | 0.002 | 0.004 | |
| disengagementScore | 0.936 | 0.013 | 0.949 | |
| distToCds | 0.387 | 0.020 | 0.408 | |
| distToTSS | 0.377 | 0.000 | 0.382 | |
| download.SRA | 0 | 0 | 0 | |
| download.SRA.metadata | 0.816 | 0.035 | 2.874 | |
| entropy | 1.625 | 0.008 | 1.712 | |
| experiment-class | 0.690 | 0.019 | 0.745 | |
| export.bed12 | 0.042 | 0.000 | 0.041 | |
| export.bigWig | 0.074 | 0.000 | 0.076 | |
| export.fstwig | 0.134 | 0.004 | 0.138 | |
| export.ofst-GAlignmentPairs-method | 0.154 | 0.020 | 0.174 | |
| export.ofst-GAlignments-method | 0.150 | 0.012 | 0.162 | |
| export.ofst-GRanges-method | 0.141 | 0.008 | 0.149 | |
| export.ofst | 0.159 | 0.008 | 0.167 | |
| export.wiggle | 0.079 | 0.008 | 0.086 | |
| extendLeaders | 2.218 | 0.150 | 3.377 | |
| extendTrailers | 1.500 | 0.100 | 3.722 | |
| filepath | 0.964 | 0.020 | 2.341 | |
| filterTranscripts | 2.740 | 0.150 | 4.273 | |
| fimport | 0.623 | 0.024 | 1.164 | |
| findFa | 0.007 | 0.000 | 0.007 | |
| findMapORFs | 1.322 | 0.044 | 2.797 | |
| findORFs | 0.444 | 0.016 | 1.100 | |
| findORFsFasta | 0.217 | 0.009 | 0.434 | |
| findPeaksPerGene | 2.574 | 0.063 | 5.513 | |
| findUORFs | 0.002 | 0.000 | 0.002 | |
| find_url_ebi | 0.276 | 0.036 | 3.842 | |
| firstEndPerGroup | 0.138 | 0.008 | 0.283 | |
| firstExonPerGroup | 0.141 | 0.024 | 0.342 | |
| firstStartPerGroup | 0.186 | 0.031 | 0.291 | |
| flankPerGroup | 0.222 | 0.024 | 0.437 | |
| floss | 0.637 | 0.063 | 1.148 | |
| fpkm | 0.309 | 0.064 | 0.569 | |
| fractionLength | 0.144 | 0.040 | 0.184 | |
| fread.bed | 0.080 | 0.052 | 0.132 | |
| gcContent | 1.107 | 0.439 | 1.569 | |
| geneToSymbol | 0 | 0 | 0 | |
| getGenomeAndAnnotation | 0.000 | 0.001 | 0.001 | |
| get_bioproject_candidates | 0 | 0 | 0 | |
| get_genome_fasta | 0.001 | 0.000 | 0.001 | |
| get_genome_gtf | 0.000 | 0.000 | 0.001 | |
| get_noncoding_rna | 0 | 0 | 0 | |
| get_phix_genome | 0.000 | 0.001 | 0.001 | |
| get_silva_rRNA | 0 | 0 | 0 | |
| groupGRangesBy | 0.101 | 0.068 | 0.170 | |
| groupings | 0.089 | 0.019 | 0.201 | |
| heatMapRegion | 0.979 | 0.132 | 1.603 | |
| import.ofst | 0.126 | 0.036 | 0.226 | |
| initiationScore | 2.166 | 0.327 | 2.532 | |
| insideOutsideORF | 1.683 | 0.395 | 2.232 | |
| install.fastp | 0 | 0 | 0 | |
| install.sratoolkit | 0 | 0 | 0 | |
| isInFrame | 0.312 | 0.008 | 0.320 | |
| isOverlapping | 0.360 | 0.060 | 0.572 | |
| kozakHeatmap | 0.000 | 0.001 | 0.000 | |
| kozakSequenceScore | 0.662 | 0.073 | 1.127 | |
| lastExonEndPerGroup | 0.055 | 0.001 | 0.056 | |
| lastExonPerGroup | 0.054 | 0.008 | 0.062 | |
| lastExonStartPerGroup | 0.053 | 0.000 | 0.053 | |
| libraryTypes | 0.345 | 0.031 | 0.377 | |
| list.experiments | 0.236 | 0.000 | 0.236 | |
| list.genomes | 0.001 | 0.000 | 0.002 | |
| loadRegion | 0.650 | 0.035 | 0.687 | |
| loadRegions | 0.684 | 0.032 | 0.716 | |
| loadTranscriptType | 0 | 0 | 0 | |
| loadTxdb | 0.135 | 0.000 | 0.136 | |
| longestORFs | 0.144 | 0.004 | 0.148 | |
| makeORFNames | 0.093 | 0.000 | 0.093 | |
| makeSummarizedExperimentFromBam | 0.390 | 0.039 | 0.430 | |
| makeTxdbFromGenome | 0.000 | 0.000 | 0.001 | |
| mergeFastq | 0.000 | 0.001 | 0.001 | |
| mergeLibs | 0.340 | 0.016 | 0.357 | |
| metaWindow | 0.204 | 0.003 | 0.206 | |
| numExonsPerGroup | 0.045 | 0.002 | 0.041 | |
| optimizedTranscriptLengths | 0.992 | 0.011 | 1.003 | |
| orfFrameDistributions | 0.765 | 0.183 | 1.255 | |
| orfScore | 1.424 | 0.329 | 1.325 | |
| organism-experiment-method | 0.380 | 0.024 | 0.404 | |
| outputLibs | 1.054 | 0.551 | 1.192 | |
| pSitePlot | 0.321 | 0.064 | 0.385 | |
| pcaExperiment | 1.322 | 0.116 | 1.438 | |
| pmapFromTranscriptF | 0.107 | 0.011 | 0.119 | |
| pmapToTranscriptF | 0.868 | 0.112 | 0.979 | |
| rankOrder | 0.079 | 0.008 | 0.087 | |
| read.experiment | 0.402 | 0.024 | 0.426 | |
| readBam | 0.135 | 0.020 | 0.155 | |
| readWidths | 0.011 | 0.004 | 0.016 | |
| reassignTSSbyCage | 1.041 | 0.020 | 1.060 | |
| reassignTxDbByCage | 0 | 0 | 0 | |
| reduceKeepAttr | 0.295 | 0.008 | 0.302 | |
| regionPerReadLength | 0.632 | 0.356 | 1.782 | |
| remove.experiments | 1.133 | 0.296 | 1.349 | |
| ribo_fft | 5.032 | 0.244 | 5.492 | |
| ribo_fft_plot | 5.568 | 0.190 | 5.837 | |
| ribosomeReleaseScore | 0.582 | 0.020 | 0.625 | |
| ribosomeStallingScore | 0.683 | 0.000 | 0.683 | |
| save.experiment | 0.707 | 0.004 | 0.712 | |
| scaledWindowPositions | 0.657 | 0.004 | 0.656 | |
| seqnamesPerGroup | 0.104 | 0.000 | 0.104 | |
| shiftFootprints | 0.003 | 0.000 | 0.003 | |
| shiftFootprintsByExperiment | 1.667 | 0.076 | 6.868 | |
| shiftPlots | 4.294 | 0.675 | 0.099 | |
| shifts.load | 0.562 | 0.020 | 0.582 | |
| simpleLibs | 0.786 | 0.036 | 0.822 | |
| sortPerGroup | 0.508 | 0.016 | 0.524 | |
| startCodons | 1.027 | 0.048 | 1.075 | |
| startDefinition | 0.001 | 0.000 | 0.001 | |
| startRegion | 1.173 | 0.008 | 1.181 | |
| startSites | 0.559 | 0.015 | 0.575 | |
| stopCodons | 0.954 | 0.024 | 0.978 | |
| stopDefinition | 0.001 | 0.000 | 0.001 | |
| stopRegion | 1.138 | 0.007 | 1.146 | |
| stopSites | 0.576 | 0.012 | 0.589 | |
| strandBool | 0.015 | 0.004 | 0.019 | |
| strandPerGroup | 0.110 | 0.004 | 0.115 | |
| subsetToFrame | 0.028 | 0.003 | 0.032 | |
| te.plot | 0 | 0 | 0 | |
| te.table | 0.674 | 0.016 | 0.690 | |
| te_rna.plot | 0.73 | 0.02 | 0.75 | |
| tile1 | 0.439 | 0.044 | 0.504 | |
| topMotif | 0.001 | 0.000 | 0.000 | |
| transcriptWindow | 2.014 | 0.048 | 2.064 | |
| translationalEff | 0.311 | 0.008 | 0.471 | |
| trimming.table | 0 | 0 | 0 | |
| txNames | 0.079 | 0.003 | 0.081 | |
| txNamesToGeneNames | 2.053 | 0.012 | 3.248 | |
| uORFSearchSpace | 1.252 | 0.004 | 1.336 | |
| uniqueGroups | 0.364 | 0.016 | 0.380 | |
| uniqueOrder | 0.468 | 0.000 | 0.468 | |
| unlistGrl | 0.097 | 0.000 | 0.113 | |
| widthPerGroup | 0.095 | 0.004 | 0.114 | |
| windowCoveragePlot | 1.343 | 0.000 | 1.558 | |
| windowPerGroup | 0.914 | 0.008 | 0.922 | |
| windowPerReadLength | 1.815 | 0.000 | 1.905 | |